BEGIN:VCALENDAR
VERSION:2.0
PRODID:-//The Retreat House at Hillsboro - ECPv6.15.20//NONSGML v1.0//EN
CALSCALE:GREGORIAN
METHOD:PUBLISH
X-WR-CALNAME:The Retreat House at Hillsboro
X-ORIGINAL-URL:https://retreathousehillsboro.org
X-WR-CALDESC:Events for The Retreat House at Hillsboro
REFRESH-INTERVAL;VALUE=DURATION:PT1H
X-Robots-Tag:noindex
X-PUBLISHED-TTL:PT1H
BEGIN:VTIMEZONE
TZID:America/New_York
BEGIN:DAYLIGHT
TZOFFSETFROM:-0500
TZOFFSETTO:-0400
TZNAME:EDT
DTSTART:20210314T070000
END:DAYLIGHT
BEGIN:STANDARD
TZOFFSETFROM:-0400
TZOFFSETTO:-0500
TZNAME:EST
DTSTART:20211107T060000
END:STANDARD
BEGIN:DAYLIGHT
TZOFFSETFROM:-0500
TZOFFSETTO:-0400
TZNAME:EDT
DTSTART:20220313T070000
END:DAYLIGHT
BEGIN:STANDARD
TZOFFSETFROM:-0400
TZOFFSETTO:-0500
TZNAME:EST
DTSTART:20221106T060000
END:STANDARD
BEGIN:DAYLIGHT
TZOFFSETFROM:-0500
TZOFFSETTO:-0400
TZNAME:EDT
DTSTART:20230312T070000
END:DAYLIGHT
BEGIN:STANDARD
TZOFFSETFROM:-0400
TZOFFSETTO:-0500
TZNAME:EST
DTSTART:20231105T060000
END:STANDARD
BEGIN:DAYLIGHT
TZOFFSETFROM:-0500
TZOFFSETTO:-0400
TZNAME:EDT
DTSTART:20240310T070000
END:DAYLIGHT
BEGIN:STANDARD
TZOFFSETFROM:-0400
TZOFFSETTO:-0500
TZNAME:EST
DTSTART:20241103T060000
END:STANDARD
END:VTIMEZONE
BEGIN:VEVENT
DTSTART;TZID=America/New_York:20230404T180000
DTEND;TZID=America/New_York:20230405T190000
DTSTAMP:20260424T064313
CREATED:20230401T122905Z
LAST-MODIFIED:20230401T123130Z
UID:10006206-1680631200-1680721200@retreathousehillsboro.org
SUMMARY:New Directions at The Retreat House
DESCRIPTION:The Retreat House\nNew Directions\na Conversation on Zoom\nGather for a conversation about our new directions! Bring your questions\, ideas and wonderings.\n  \n\n\nTuesday morning\nApril 4\, 9:30 – 10:30 a.m.\nWednesday evening\nApril 5\, 6:00 – 7:00 p.m.\nJoin Zoom Meeting\n\nIf you’d rather share your thoughts and questions by email\,\nreach us at: reflections@retreathousehillsboro.org
URL:https://retreathousehillsboro.org/event/new-directions-at-the-retreat-house/2023-04-04/
LOCATION:ZOOM
ATTACH;FMTTYPE=image/jpeg:https://retreathousehillsboro.org/wp-content/uploads/2020/11/D33C27F6-CBA5-413E-AA0A-6622D6923B7A.jpg
END:VEVENT
BEGIN:VEVENT
DTSTART;TZID=America/New_York:20220519T160000
DTEND;TZID=America/New_York:20220519T180000
DTSTAMP:20260424T064313
CREATED:20220213T164318Z
LAST-MODIFIED:20220227T000640Z
UID:10005722-1652976000-1652983200@retreathousehillsboro.org
SUMMARY:Sacred Ground
DESCRIPTION:Sacred Ground\n\n \n \n \n \n \n \n \n \n \n \n \n \n\nSix Thursdays\, March 10 and 24 – April 7 and 21 – May 5 and 19\nvia Zoom\n \nThe Retreat House invites you to participate in Sacred Ground\, a curriculum that is part of the Episcopal Church’s long-term commitment to racial healing\, reconciliation\, and justice in our personal lives\, our ministries\, and our society. The core of this series is the vision of beloved community – where all people are honored and protected and nurtured as beloved children of God.\n \nThis opportunity invites us to read\, watch and learn about the history of race and racism in America\, while grounded in our call to faith\, hope\, and love. We will explore together this online curriculum\, a sensitive\, prayerful resource that creates space for respectful and transformative dialogue. Our focus will be on Indigenous\, Black\, Latino and Asian/Pacific American peoples as their histories’ intersect with European American history\, and the impact of all of it on our world today.\n \nWe will watch documentaries and read articles to help inform us before gathering for conversation on six Thursday afternoons via Zoom. Learning together can help us peel away the layers that have contributed to the challenges and divides of the present day and reveal the origins of the inequities that are deeply embedded in our communities today.\n \nThe Episcopal Church and Katrina Browne (the director of the documentary Traces of the Trade) have developed this rich series as part of The Episcopal Church’s Becoming Beloved Community which is its long-term commitment to racial healing\, reconciliation and justice.\n \nA suggested donation of $75 is requested but all are welcome regardless of payment amount. Register here.
URL:https://retreathousehillsboro.org/event/sacred-ground-2/2022-05-19/
LOCATION:ZOOM
ATTACH;FMTTYPE=image/jpeg:https://retreathousehillsboro.org/wp-content/uploads/2022/02/labyrinth.jpeg
END:VEVENT
BEGIN:VEVENT
DTSTART;TZID=America/New_York:20220403T180000
DTEND;TZID=America/New_York:20220403T193000
DTSTAMP:20260424T064313
CREATED:20220213T151221Z
LAST-MODIFIED:20220226T235119Z
UID:10005716-1649008800-1649014200@retreathousehillsboro.org
SUMMARY:Lenten Storytelling with Porter Taylor
DESCRIPTION:Lenten Storytelling\nwith Bishop Porter Taylor\n\n\n \n\n \n\n\n\n\n\nSunday Evenings\nMarch 6 – April 3\, 2022\n6:00 pm – 7:30 pm\nvia Zoom\n\n\n\n\n\n \n \n \n \n \nLent is less a season to observe and more a walk to walk. As the days get longer and the light more accessible\, so are we invited to cast aside all that gets between us and resurrection. One theologian commented\, “Everything that happens to Christ happens to us.” In that sense\, the Bible is a road map for us to follow\, indicating the terrain of our journey with Christ and in Christ and to Christ.\n \nThese five sessions are intended to help us discover how we can consciously walk the way of Lent. Each week we will focus on a di erent theme and engage in one of the readings from the Lenten lectionary for the upcoming Sunday. Rather than a Bible study\, we are invited to discover how to live this Lenten journey in our own lives. This is a community sharing how they have walked and are walking the Lenten pilgrimage. REGISTER HERE: https://tinyurl.com/RHLent. A suggested donation of $50 for early registration (until February 6th) will be gratefully accepted. Please don’t let finances keep you from attending! Lent by Evelyn Underhill is encouraged for this series and can be purchased here. For more information\, please emailheather@retreathousehillsboro.org Bishop Taylor joined the Diocese of Virginia as Assisting Bishop on July 1\, 2020 after retiring as Bishop of the Diocese of Western North Carolina in 2016. In retirement\, he also joined the faculty of Wake Forest University Divinity School. Bishop Taylor holds a Master of Divinity\, a Ph.D. in Theology and Literature\, and a B.A. and M. A. in English. He and his wife Jo\, an artist\, are based in both Arlington\, VA\, and Asheville\, NC.
URL:https://retreathousehillsboro.org/event/lenten-storytelling-via-zoom/2022-04-03/
LOCATION:ZOOM
ATTACH;FMTTYPE=image/jpeg:https://retreathousehillsboro.org/wp-content/uploads/2022/02/Pilgrimage.jpg
END:VEVENT
END:VCALENDAR