BEGIN:VCALENDAR
VERSION:2.0
PRODID:-//The Retreat House at Hillsboro - ECPv6.15.20//NONSGML v1.0//EN
CALSCALE:GREGORIAN
METHOD:PUBLISH
X-WR-CALNAME:The Retreat House at Hillsboro
X-ORIGINAL-URL:https://retreathousehillsboro.org
X-WR-CALDESC:Events for The Retreat House at Hillsboro
REFRESH-INTERVAL;VALUE=DURATION:PT1H
X-Robots-Tag:noindex
X-PUBLISHED-TTL:PT1H
BEGIN:VTIMEZONE
TZID:America/New_York
BEGIN:DAYLIGHT
TZOFFSETFROM:-0500
TZOFFSETTO:-0400
TZNAME:EDT
DTSTART:20200308T070000
END:DAYLIGHT
BEGIN:STANDARD
TZOFFSETFROM:-0400
TZOFFSETTO:-0500
TZNAME:EST
DTSTART:20201101T060000
END:STANDARD
BEGIN:DAYLIGHT
TZOFFSETFROM:-0500
TZOFFSETTO:-0400
TZNAME:EDT
DTSTART:20210314T070000
END:DAYLIGHT
BEGIN:STANDARD
TZOFFSETFROM:-0400
TZOFFSETTO:-0500
TZNAME:EST
DTSTART:20211107T060000
END:STANDARD
BEGIN:DAYLIGHT
TZOFFSETFROM:-0500
TZOFFSETTO:-0400
TZNAME:EDT
DTSTART:20220313T070000
END:DAYLIGHT
BEGIN:STANDARD
TZOFFSETFROM:-0400
TZOFFSETTO:-0500
TZNAME:EST
DTSTART:20221106T060000
END:STANDARD
BEGIN:DAYLIGHT
TZOFFSETFROM:-0500
TZOFFSETTO:-0400
TZNAME:EDT
DTSTART:20230312T070000
END:DAYLIGHT
BEGIN:STANDARD
TZOFFSETFROM:-0400
TZOFFSETTO:-0500
TZNAME:EST
DTSTART:20231105T060000
END:STANDARD
BEGIN:DAYLIGHT
TZOFFSETFROM:-0500
TZOFFSETTO:-0400
TZNAME:EDT
DTSTART:20240310T070000
END:DAYLIGHT
BEGIN:STANDARD
TZOFFSETFROM:-0400
TZOFFSETTO:-0500
TZNAME:EST
DTSTART:20241103T060000
END:STANDARD
END:VTIMEZONE
BEGIN:VEVENT
DTSTART;TZID=America/New_York:20230303T173000
DTEND;TZID=America/New_York:20230303T190000
DTSTAMP:20260423T203552
CREATED:20230203T210309Z
LAST-MODIFIED:20230204T222349Z
UID:10006127-1677864600-1677870000@retreathousehillsboro.org
SUMMARY:The Spirit of Poetry - Welcomes Ashley Wagner!
DESCRIPTION:What poet brings you\nhome to yourself?\nMarch 3\, 5:30 – 7:00 pm\n\nJoin us in beautiful Trinity Cathedral for this very special gathering where we will be joined by Ashley Wagner\, who will speak to telling our story\, and share poetry from her new book East Coast Blues. All are welcome to bring a self-written poem or a found poem and/or settle into the space to listen. \n$10 suggested donation/pay what you can \n\nABOUT THE AUTHOR: Ashley Wagner is a lifelong writer and Maryland resident. She received her M.S. in Professional Writing from Towson University with a focus in poetry. She is the poetry editor for the Baltimore-based\, modern gothic magazine Ligeia\, and her first book of poetry\, East Coast Blues\, is available now from Bottlecap Press. When she isn’t busy reading poetry or haunting local bookstores\, she is practicing yoga\, studying Korean\, or relaxing at home with her partner and their cat\, Mocha. You can find more of her work\, poetry and otherwise\, floating around the internet or on her website ashleywagnerpoetry.com. \n\nFor more information about this collaboration of The Retreat House at Hillsboro and Trinity Cathedral\, contact Heather@retreathousehillsboro.org
URL:https://retreathousehillsboro.org/event/the-spirit-of-poetry-golden-threads-in-community-6/
LOCATION:Trinity Cathedral\, 315 Goldsborough St\, Easton\, MD\, 21601\, United States
CATEGORIES:Arts,Spoken Word Event
ATTACH;FMTTYPE=image/png:https://retreathousehillsboro.org/wp-content/uploads/2023/02/Spirit-Of-Poetry-Ashley.png
END:VEVENT
BEGIN:VEVENT
DTSTART;TZID=America/New_York:20230203T173000
DTEND;TZID=America/New_York:20230203T190000
DTSTAMP:20260423T203552
CREATED:20230125T134854Z
LAST-MODIFIED:20230130T220321Z
UID:10006126-1675445400-1675450800@retreathousehillsboro.org
SUMMARY:The Spirit of Poetry – golden threads in community
DESCRIPTION:~ poetry that tells our human story ~\n  \nWhere are you from? \nJoin us in beautiful Trinity Cathedral on February 3rd from 5:30 – 7:00 pm. What poet reminds you of where you come from? All are welcome to bring a self-written poem or a found poem and/or settle into the space to listen. If you’d like to compose an “I Am From”  poem for this gathering\, enjoy this link that offers a format for writing one –  I Am From Poem – Freeology For more information about this collaboration of The Retreat House at Hillsboro and Trinity Cathedral\, contact Heather@retreathousehillsboro.org \nIf you cannot join in February. we hope to see you next month on March 3rd. 
URL:https://retreathousehillsboro.org/event/the-spirit-of-poetry-golden-threads-in-community-4/
LOCATION:Trinity Cathedral\, 315 Goldsborough St\, Easton\, MD\, 21601\, United States
CATEGORIES:Spoken Word Event
ATTACH;FMTTYPE=image/png:https://retreathousehillsboro.org/wp-content/uploads/2023/01/Copy-of-Save-the-Dates-1080-×-1200-px-Poster-Portrait-1080-×-1250-px-4.25-×-5.5-in-1.png
END:VEVENT
BEGIN:VEVENT
DTSTART;TZID=America/New_York:20221202T173000
DTEND;TZID=America/New_York:20221202T173000
DTSTAMP:20260423T203552
CREATED:20221006T205547Z
LAST-MODIFIED:20221116T155540Z
UID:10005763-1670002200-1670002200@retreathousehillsboro.org
SUMMARY:The Spirit of Poetry - golden threads in community
DESCRIPTION: \n \nWe’re calling this joyful collaboration of The Retreat House at Hillsboro and Trinity Cathedral\, Easton:\n \nThe Spirit of Poetry – golden threads in community\nDecember 2\, 5:30 – 7:00pm\nTrinity Cathedral\, Easton\, Maryland\n\n \nJoin us for an evening of poetry and candlelight as we listen to poems that inspire hope and light.\nIn this Advent season\, what poet draws you toward hope and light?\n  All are welcome to bring a poem and/or settle in to the space to listen.\n\n \n \n \n \n \nTrinity Cathedral and The Retreat House at Hillsboro welcome you to a series of spoken word and poetry gatherings as part of First Fridays in Easton\, Maryland. If you cannot join in December.  we hope to see you in the following months. Enjoy being part of a night of poetry held in a gentle\, friendly\, and inclusive space with reverence for the dignity of each person. Each month will focus on a different theme and different poets. \n \nFor more information about these events\, please contact us at heather@retreathousehillsboro.org\n 
URL:https://retreathousehillsboro.org/event/the-spirit-of-poetry-golden-threads-in-community-2/
LOCATION:Trinity Cathedral\, 315 Goldsborough St\, Easton\, MD\, 21601\, United States
ATTACH;FMTTYPE=image/png:https://retreathousehillsboro.org/wp-content/uploads/2022/10/The-Spirit-of-Poetry.png
END:VEVENT
BEGIN:VEVENT
DTSTART;TZID=America/New_York:20211118T190000
DTEND;TZID=America/New_York:20211118T190000
DTSTAMP:20260423T203552
CREATED:20211006T231251Z
LAST-MODIFIED:20211006T231851Z
UID:10005697-1637262000-1637262000@retreathousehillsboro.org
SUMMARY:A Poetry Reading with  Steve Garnaas-Holmes
DESCRIPTION:In-person and via Zoom held at Trinity Cathedral in Easton\, Maryland. \nSteve shares about his work\, his prayer\, and his poetry brought to us as Unfolding Light – “Unfolding Light is a daily reflection rooted in a contemplative\, Creation-centered spirituality\, often inspired by my daily walk in the woods. In poems\, parables\, psalms\, thoughts and the odd weather report I hope to invite readers into a spirit of presence\, compassion\, justice and delight. Though these writings are rooted in the Christian story you’ll hear in them melodies of many traditions. Unfolding Light is for anyone who wants to be a part of God’s healing of the world.” \nEnjoy Steve’s “Love Poem to God” (here). \nThis gathering is a Retreat House fundraiser. We are deeply grateful for your donations. More below*. \nA note on Covid protocols for this event can be found (here). \nRegister for in-person here.\nRegister for Zoom here. \n*A note on this Retreat House fundraiser – Being the Retreat House is made whole by welcoming each of us into every gathering that we offer\, no matter what our financial situation at the time. This event is no different. We are deeply grateful for your donation and your participation in supporting our operations. Community donations such as these are the only source of our funding. Your presence is always a gift to this community. For more information\, please contact heather@retreathousehillsboro.org
URL:https://retreathousehillsboro.org/event/a-poetry-reading-with-steve-garnaas-holmes/
LOCATION:Trinity Cathedral\, 315 Goldsborough St\, Easton\, MD\, 21601\, United States
END:VEVENT
END:VCALENDAR