BEGIN:VCALENDAR
VERSION:2.0
PRODID:-//The Retreat House at Hillsboro - ECPv6.15.20//NONSGML v1.0//EN
CALSCALE:GREGORIAN
METHOD:PUBLISH
X-ORIGINAL-URL:https://retreathousehillsboro.org
X-WR-CALDESC:Events for The Retreat House at Hillsboro
REFRESH-INTERVAL;VALUE=DURATION:PT1H
X-Robots-Tag:noindex
X-PUBLISHED-TTL:PT1H
BEGIN:VTIMEZONE
TZID:America/New_York
BEGIN:DAYLIGHT
TZOFFSETFROM:-0500
TZOFFSETTO:-0400
TZNAME:EDT
DTSTART:20190310T070000
END:DAYLIGHT
BEGIN:STANDARD
TZOFFSETFROM:-0400
TZOFFSETTO:-0500
TZNAME:EST
DTSTART:20191103T060000
END:STANDARD
BEGIN:DAYLIGHT
TZOFFSETFROM:-0500
TZOFFSETTO:-0400
TZNAME:EDT
DTSTART:20200308T070000
END:DAYLIGHT
BEGIN:STANDARD
TZOFFSETFROM:-0400
TZOFFSETTO:-0500
TZNAME:EST
DTSTART:20201101T060000
END:STANDARD
BEGIN:DAYLIGHT
TZOFFSETFROM:-0500
TZOFFSETTO:-0400
TZNAME:EDT
DTSTART:20210314T070000
END:DAYLIGHT
BEGIN:STANDARD
TZOFFSETFROM:-0400
TZOFFSETTO:-0500
TZNAME:EST
DTSTART:20211107T060000
END:STANDARD
END:VTIMEZONE
BEGIN:VEVENT
DTSTART;TZID=America/New_York:20200225T100000
DTEND;TZID=America/New_York:20200225T113000
DTSTAMP:20260424T015734
CREATED:20191224T155951Z
LAST-MODIFIED:20200106T225206Z
UID:10004635-1582624800-1582630200@retreathousehillsboro.org
SUMMARY:Wisdom Circle - Courageous Inquiry
DESCRIPTION:Wisdom Circles\nOur ancestors gathered in circles around the fire to tell stories\,\nsolve problems\, seek the common good and celebrate the joys of life. \n \n  \nThe Practice of Courageous Inquiry\n6 Tuesdays  10:00 – 11:30 a.m.\nJanuary 21 – February 25\, 2020\nThird Haven Friends Meeting\n405 South Washington St.\, Easton MD 2160 \n  \n  \n\n“Have patience with everything unresolved in your heart and try to love the questions themselves\nas if they were locked rooms or books written in a very foreign language.  Live the questions now.\nPerhaps then\, you will gradually\, without even noticing it\, live your way into the answer.” ~ Rainer Maria Rilke \n\nIn this Wisdom Circle we will practice courageous inquiry\, a process for using questions to live with purpose and courage. At each gathering we will choose a question to consider through quiet reflection\, prayer and group discussion. Questions will focus on an aspect of spirituality\, such as “Who is God for me?” and “How is Spirit calling me to engage with life?” We will use poetry\, scripture and other inspirational material to guide us in examination of the questions chosen each week. \nIn between each session we will practice courageous inquiry with contemplative and journaling exercises that deepen the conversations begun together each week. Participants will leave the Wisdom Circle experience with a way to form questions big enough to live in and practices that enhance the ability to listen for answers. \n$75.00 per person – Pre-registration is required. Please register by Tuesday\, January 14.\nOnline: http://bit.ly/wisdomcirc2                                Email:  info@retreathousehillsboro.org\nMail:  The Retreat House\, P. O. Box 3\, Hillsboro MD 21641 – please indicate “Easton” \n  \nLinda Mastro\, a Roman Catholic lay woman\, lives on the Eastern Shore of Maryland. Linda is a skilled retreat leader\, spiritual director\, life coach\, and writer. She is co-author of the book Petite Retreats: Renewing Body\, Mind\, and Spirit without Leaving Home. \n 
URL:https://retreathousehillsboro.org/event/the-practice-of-courageous-inquiry/2020-02-25/
LOCATION:Third Haven Friends Meeting\, 405 South Washington St\, Easton\, MD\, 21601\, United States
CATEGORIES:Wisdom Circles
END:VEVENT
END:VCALENDAR