BEGIN:VCALENDAR
VERSION:2.0
PRODID:-//The Retreat House at Hillsboro - ECPv6.15.20//NONSGML v1.0//EN
CALSCALE:GREGORIAN
METHOD:PUBLISH
X-ORIGINAL-URL:https://retreathousehillsboro.org
X-WR-CALDESC:Events for The Retreat House at Hillsboro
REFRESH-INTERVAL;VALUE=DURATION:PT1H
X-Robots-Tag:noindex
X-PUBLISHED-TTL:PT1H
BEGIN:VTIMEZONE
TZID:America/New_York
BEGIN:DAYLIGHT
TZOFFSETFROM:-0500
TZOFFSETTO:-0400
TZNAME:EDT
DTSTART:20180311T070000
END:DAYLIGHT
BEGIN:STANDARD
TZOFFSETFROM:-0400
TZOFFSETTO:-0500
TZNAME:EST
DTSTART:20181104T060000
END:STANDARD
BEGIN:DAYLIGHT
TZOFFSETFROM:-0500
TZOFFSETTO:-0400
TZNAME:EDT
DTSTART:20190310T070000
END:DAYLIGHT
BEGIN:STANDARD
TZOFFSETFROM:-0400
TZOFFSETTO:-0500
TZNAME:EST
DTSTART:20191103T060000
END:STANDARD
BEGIN:DAYLIGHT
TZOFFSETFROM:-0500
TZOFFSETTO:-0400
TZNAME:EDT
DTSTART:20200308T070000
END:DAYLIGHT
BEGIN:STANDARD
TZOFFSETFROM:-0400
TZOFFSETTO:-0500
TZNAME:EST
DTSTART:20201101T060000
END:STANDARD
BEGIN:DAYLIGHT
TZOFFSETFROM:-0500
TZOFFSETTO:-0400
TZNAME:EDT
DTSTART:20210314T070000
END:DAYLIGHT
BEGIN:STANDARD
TZOFFSETFROM:-0400
TZOFFSETTO:-0500
TZNAME:EST
DTSTART:20211107T060000
END:STANDARD
BEGIN:DAYLIGHT
TZOFFSETFROM:-0500
TZOFFSETTO:-0400
TZNAME:EDT
DTSTART:20220313T070000
END:DAYLIGHT
BEGIN:STANDARD
TZOFFSETFROM:-0400
TZOFFSETTO:-0500
TZNAME:EST
DTSTART:20221106T060000
END:STANDARD
BEGIN:DAYLIGHT
TZOFFSETFROM:-0500
TZOFFSETTO:-0400
TZNAME:EDT
DTSTART:20230312T070000
END:DAYLIGHT
BEGIN:STANDARD
TZOFFSETFROM:-0400
TZOFFSETTO:-0500
TZNAME:EST
DTSTART:20231105T060000
END:STANDARD
BEGIN:DAYLIGHT
TZOFFSETFROM:-0500
TZOFFSETTO:-0400
TZNAME:EDT
DTSTART:20240310T070000
END:DAYLIGHT
BEGIN:STANDARD
TZOFFSETFROM:-0400
TZOFFSETTO:-0500
TZNAME:EST
DTSTART:20241103T060000
END:STANDARD
BEGIN:DAYLIGHT
TZOFFSETFROM:-0500
TZOFFSETTO:-0400
TZNAME:EDT
DTSTART:20250309T070000
END:DAYLIGHT
BEGIN:STANDARD
TZOFFSETFROM:-0400
TZOFFSETTO:-0500
TZNAME:EST
DTSTART:20251102T060000
END:STANDARD
END:VTIMEZONE
BEGIN:VEVENT
DTSTART;TZID=America/New_York:20240417T113000
DTEND;TZID=America/New_York:20240417T133000
DTSTAMP:20260423T222603
CREATED:20240228T152753Z
LAST-MODIFIED:20240313T115111Z
UID:10006736-1713353400-1713360600@retreathousehillsboro.org
SUMMARY:Finding Hope in the Journey of Dementia\, with Dorothy Linthicum
DESCRIPTION:Church of the Holy Trinity\nOxford\, Maryland \nWednesday\, April 17: 11:30 a.m. – 1:30 p.m.\, Lunch and Conversation\n  \n  \n  \nWe gratefully offer this conversation in collaboration with Church of the Holy Trinity\, Oxford. \nJoin us with Dorothy Linthicum and explore notions of prevention\, the basics of a diagnosis\, and the hope found in possibilities. Whether you are a family or community member\, a caregiver\, or a pastoral leader\, this topic is universally vulnerable. How can we help one another face the diagnosis of dementia in our families\, among friends\, or in ourselves? \nBrené Brown writes: “Vulnerability is the birthplace of love\, belonging\, joy\, courage\, empathy\, and creativity. It is the source of hope\, empathy\, accountability\, and authenticity.” Let us be reminded of the power of vulnerability\, not to be avoided\, but embraced\, and in embracing taking a first step toward easing our fears. \nWe will explore how the self is never destroyed despite the severity of a disease or condition\, an understanding that comes from many fields\, including psychology\, neurology\, psychiatry\, philosophy\, and spirituality\, among others. Dorothy is co-author\, along with Janice Hicks\, of Redeeming Dementia: Spirituality\, Theology\, and Science. Bring all of your questions\, whether you are family members seeking to learn more\, caretakers exploring practices\, or pastoral leaders meeting community members where they are in their journey. \nPlease arrive by 11:30 so that we may begin our presentation and conversation at 12 noon.\nRegister here: https://lp.constantcontactpages.com/ev/reg/4t85mkf\n\nVisit our website calendar for information on three other locations:\nChestertown\, Maryland – Tuesday\, April 16: 11:30 a.m. – 1:30 p.m.\, Lunch and Conversation\, Emmanuel Church\, ($35)\nChestertown\, Maryland – Tuesday\, April 16\, : 4:00 – 5:30 p.m. (free)\, Tea and Conversation\, Upper Shore Aging: Amy Lynn Ferris Adult Activity Center\nAnnapolis\, Maryland – Thursday\, April 18\, : 10:30 a.m. – noon\, Tea and Conversation\, St. Anne’s Parish House Library ($25)
URL:https://retreathousehillsboro.org/event/finding-hope-in-the-journey-of-dementia-2/
LOCATION:Holy Trinity Oxford\, 502 S. Morris St.\, Oxford\, MD\, 21654\, United States
CATEGORIES:Aging,Retreats,Speaker
ATTACH;FMTTYPE=image/jpeg:https://retreathousehillsboro.org/wp-content/uploads/2024/02/ricardo-moura-AsFWbsBt7X0-unsplash-scaled.jpg
END:VEVENT
BEGIN:VEVENT
DTSTART;TZID=America/New_York:20231025T150000
DTEND;TZID=America/New_York:20231025T163000
DTSTAMP:20260423T222603
CREATED:20230914T123816Z
LAST-MODIFIED:20230920T134802Z
UID:10006272-1698246000-1698251400@retreathousehillsboro.org
SUMMARY:Spirituality and Aging - Holy Trinity Oxford
DESCRIPTION:Spirituality and Aging\nWednesday Afternoon \nOctober 25th\n3:00 pm – 4:30 pm\nThe Church of the Holy Trinity\nOxford\, Maryland\n\n in person and online\n\n\nPlease join us and explore spirituality and aging with Dorothy Linthicum. All are welcome\, whether you are journeying with a loved one or are an older adult yourself.  We will explore what spirituality might be like for older adults and how spiritual practice in everyday life can enrich and deepen the aging process\, including the process of death and dying. How can spiritual practices guide us and our loved ones to tap into the ultimate meaning in our lives? Additionally\, the speaker will share with us questions to ponder and spiritual practices for use after the presentation\, both individually and/or in community.\nRegistration fee/suggested donation: $25. Please don’t let finances keep you from attending. For more information\, please email heather@retreathousehillsboro.org \nIn-person attendance: We are grateful for advanced registration for attending in person\, so that we can prepare. All in-person registrants will also receive an online link should your situation change\, or for viewing the presentation again. \nOnline viewing:  Register for online viewing if you know you cannot attend in person. You will be able to watch the event when it is convenient for you\, or stream it on October 24th at 3pm. See our website for information on other event locations and dates.\n  \nREGISTER HERE to attend IN PERSON: https://tinyurl.com/SpiritualityandAgingOXFORD \nREGISTER HERE to attend ONLINE: https://tinyurl.com/SpiritualityAgingONLINE \n  \nABOUT THE SPEAKER: Dorothy is a retired instructor from Virginia Theological Seminary. As part of her work\, she served as a catechist for the Virginia Theological Seminary Baptized for Life initiative. She has studied and taught courses and workshops about older adult spirituality and ministry throughout the country. Dorothy is a passionate and well-practiced formation guide\, speaker\, and co-author of Redeeming Dementia: Spirituality\, Theology\, and Science\, with Janice Hicks\, for caregivers and people facing dementia.
URL:https://retreathousehillsboro.org/event/spirituality-and-aging-holy-trinity-oxford/
LOCATION:Holy Trinity Oxford\, 502 S. Morris St.\, Oxford\, MD\, 21654\, United States
ATTACH;FMTTYPE=image/png:https://retreathousehillsboro.org/wp-content/uploads/2023/09/Spirituality-and-Aging-Churches-version.png
END:VEVENT
BEGIN:VEVENT
DTSTART;TZID=America/New_York:20190314T160000
DTEND;TZID=America/New_York:20190314T180000
DTSTAMP:20260423T222603
CREATED:20190219T010304Z
LAST-MODIFIED:20190219T010304Z
UID:10004589-1552579200-1552586400@retreathousehillsboro.org
SUMMARY:Spelling Doesn't Count: Writing as Spiritual Practice
DESCRIPTION:What would it be like to write just for you and God?  \nDeepen your awareness of the holy in everyday life\, and explore new ways that writing can enhance the life of the spirit. \nLed by VTS Adjunct Professor Kathy Staudt and Retreat House Director Francie Thayer \nPlease register once for all sessions. \nSPECIAL NOTE: Held at Holy Trinity Church in Oxford\, this workshop is a partnership of The Retreat House and Lifelong Learning at Virginia Theological Seminary and is an experiment with remote locations for classes being offered at the Seminary.  Retreat House staff will facilitate parts of the class that will be discreet from discussions on campus led by VTS Adjunct Professor Kathy Staudt. Contact Francie with any questions by email at francie@retreathousehillsboro.org.
URL:https://retreathousehillsboro.org/event/spelling-doesnt-count-writing-as-spiritual-practice-3/
LOCATION:Holy Trinity Oxford\, 502 S. Morris St.\, Oxford\, MD\, 21654\, United States
END:VEVENT
BEGIN:VEVENT
DTSTART;TZID=America/New_York:20190307T160000
DTEND;TZID=America/New_York:20190307T180000
DTSTAMP:20260423T222603
CREATED:20190219T010131Z
LAST-MODIFIED:20190219T010131Z
UID:10004588-1551974400-1551981600@retreathousehillsboro.org
SUMMARY:Spelling Doesn't Count: Writing as Spiritual Practice
DESCRIPTION:What would it be like to write just for you and God?  \nDeepen your awareness of the holy in everyday life\, and explore new ways that writing can enhance the life of the spirit. \nLed by VTS Adjunct Professor Kathy Staudt and Retreat House Director Francie Thayer \nPlease register once for all sessions. \nSPECIAL NOTE: Held at Holy Trinity Church in Oxford\, this workshop is a partnership of The Retreat House and Lifelong Learning at Virginia Theological Seminary and is an experiment with remote locations for classes being offered at the Seminary.  Retreat House staff will facilitate parts of the class that will be discreet from discussions on campus led by VTS Adjunct Professor Kathy Staudt. Contact Francie with any questions by email at francie@retreathousehillsboro.org.
URL:https://retreathousehillsboro.org/event/spelling-doesnt-count-writing-as-spiritual-practice-2/
LOCATION:Holy Trinity Oxford\, 502 S. Morris St.\, Oxford\, MD\, 21654\, United States
END:VEVENT
BEGIN:VEVENT
DTSTART;TZID=America/New_York:20190228T160000
DTEND;TZID=America/New_York:20190228T180000
DTSTAMP:20260423T222603
CREATED:20190219T005929Z
LAST-MODIFIED:20190219T005943Z
UID:10004587-1551369600-1551376800@retreathousehillsboro.org
SUMMARY:Spelling Doesn't Count: Writing as Spiritual Practice
DESCRIPTION:What would it be like to write just for you and God?  \nDeepen your awareness of the holy in everyday life\, and explore new ways that writing can enhance the life of the spirit. \nLed by VTS Adjunct Professor Kathy Staudt and Retreat House Director Francie Thayer \nPlease register once for all sessions. \nSPECIAL NOTE: Held at Holy Trinity Church in Oxford\, this workshop is a partnership of The Retreat House and Lifelong Learning at Virginia Theological Seminary and is an experiment with remote locations for classes being offered at the Seminary.  Retreat House staff will facilitate parts of the class that will be discreet from discussions on campus led by VTS Adjunct Professor Kathy Staudt. Contact Francie with any questions by email at francie@retreathousehillsboro.org.
URL:https://retreathousehillsboro.org/event/spelling-doesnt-count-writing-as-spiritual-practice/
LOCATION:Holy Trinity Oxford\, 502 S. Morris St.\, Oxford\, MD\, 21654\, United States
END:VEVENT
BEGIN:VEVENT
DTSTART;TZID=America/New_York:20190221T160000
DTEND;TZID=America/New_York:20190221T180000
DTSTAMP:20260423T222603
CREATED:20190219T005615Z
LAST-MODIFIED:20190219T005639Z
UID:10004586-1550764800-1550772000@retreathousehillsboro.org
SUMMARY:Spelling Doesn't Count: Writing as Spiritual Practice
DESCRIPTION:What would it be like to write just for you and God?  \nDeepen your awareness of the holy in everyday life\, and explore new ways that writing can enhance the life of the spirit. \nLed by VTS Adjunct Professor Kathy Staudt \nPlease register once for all sessions. \nSPECIAL NOTE: Held at Holy Trinity Church in Oxford\, this workshop is a partnership of The Retreat House and Lifelong Learning at Virginia Theological Seminary and is an experiment with remote locations for classes being offered at the Seminary.  Retreat House staff will facilitate parts of the class that will be discreet from discussions on campus led by VTS Adjunct Professor Kathy Staudt. Contact Francie with any questions by email at francie@retreathousehillsboro.org.
URL:https://retreathousehillsboro.org/event/2083/
LOCATION:Holy Trinity Oxford\, 502 S. Morris St.\, Oxford\, MD\, 21654\, United States
END:VEVENT
END:VCALENDAR