BEGIN:VCALENDAR
VERSION:2.0
PRODID:-//The Retreat House at Hillsboro - ECPv6.15.20//NONSGML v1.0//EN
CALSCALE:GREGORIAN
METHOD:PUBLISH
X-ORIGINAL-URL:https://retreathousehillsboro.org
X-WR-CALDESC:Events for The Retreat House at Hillsboro
REFRESH-INTERVAL;VALUE=DURATION:PT1H
X-Robots-Tag:noindex
X-PUBLISHED-TTL:PT1H
BEGIN:VTIMEZONE
TZID:America/New_York
BEGIN:DAYLIGHT
TZOFFSETFROM:-0500
TZOFFSETTO:-0400
TZNAME:EDT
DTSTART:20230312T070000
END:DAYLIGHT
BEGIN:STANDARD
TZOFFSETFROM:-0400
TZOFFSETTO:-0500
TZNAME:EST
DTSTART:20231105T060000
END:STANDARD
BEGIN:DAYLIGHT
TZOFFSETFROM:-0500
TZOFFSETTO:-0400
TZNAME:EDT
DTSTART:20240310T070000
END:DAYLIGHT
BEGIN:STANDARD
TZOFFSETFROM:-0400
TZOFFSETTO:-0500
TZNAME:EST
DTSTART:20241103T060000
END:STANDARD
BEGIN:DAYLIGHT
TZOFFSETFROM:-0500
TZOFFSETTO:-0400
TZNAME:EDT
DTSTART:20250309T070000
END:DAYLIGHT
BEGIN:STANDARD
TZOFFSETFROM:-0400
TZOFFSETTO:-0500
TZNAME:EST
DTSTART:20251102T060000
END:STANDARD
END:VTIMEZONE
BEGIN:VEVENT
DTSTART;TZID=America/New_York:20240416T160000
DTEND;TZID=America/New_York:20240416T173000
DTSTAMP:20260423T224917
CREATED:20240228T151959Z
LAST-MODIFIED:20240313T114948Z
UID:10006735-1713283200-1713288600@retreathousehillsboro.org
SUMMARY:Finding Hope in the Journey of Dementia\, with Dorothy Linthicum
DESCRIPTION:Amy Lynn Ferris Adult Activity Center\nChestertown\, Maryland\nTuesday\, April 16: 4:00 – 5:30 p.m.\nTea and Conversation\n  \n  \n  \nWe gratefully offer this conversation in collaboration with Upper Shore Aging. \nJoin us with Dorothy Linthicum and explore notions of prevention\, the basics of a diagnosis\, and the hope found in possibilities. Whether you are a family or community member\, a caregiver\, or a pastoral leader\, this topic is universally vulnerable. How can we help one another face the diagnosis of dementia in our families\, among friends\, or in ourselves? \nBrené Brown writes: “Vulnerability is the birthplace of love\, belonging\, joy\, courage\, empathy\, and creativity. It is the source of hope\, empathy\, accountability\, and authenticity.” Let us be reminded of the power of vulnerability\, not to be avoided\, but embraced\, and in embracing taking a first step toward easing our fears. \nWe will explore how the self is never destroyed despite the severity of a disease or condition\, an understanding that comes from many fields\, including psychology\, neurology\, psychiatry\, philosophy\, and spirituality\, among others. Dorothy is co-author\, along with Janice Hicks\, of Redeeming Dementia: Spirituality\, Theology\, and Science. Bring all of your questions\, whether you are family members seeking to learn more\, caretakers exploring practices\, or pastoral leaders meeting community members where they are in their journey. \nRegister here: https://lp.constantcontactpages.com/ev/reg/6r7b7ka\nVisit our website calendar for more information on three other locations:\nChestertown\, Maryland – Tuesday\, April 16: 11:30 a.m. – 1:30 p.m.\, Lunch and Conversation\, Emmanuel Church\, ($35) \nOxford\, Maryland – Wednesday\, April 17 : 11:30 a.m. – 1:30 p.m.\, Lunch and Conversation\, Church of the Holy Trinity ($35) \nAnnapolis\, Maryland – Thursday\, April 18: 10:30 a.m. – noon\, Tea and Conversation\, St. Anne’s Parish House Library ($25)
URL:https://retreathousehillsboro.org/event/finding-hope-in-the-journey-of-dementia/
LOCATION:Amy Lynn Ferris Adult Activity Center\, 200 Schauber Rd\, Chestertown\, MD\, 21620\, United States
CATEGORIES:Aging,Retreats,Speaker
ATTACH;FMTTYPE=image/jpeg:https://retreathousehillsboro.org/wp-content/uploads/2024/02/ricardo-moura-AsFWbsBt7X0-unsplash-scaled.jpg
ORGANIZER;CN="Heather Strang":MAILTO:heather@retreathousehillsboro.org
END:VEVENT
END:VCALENDAR