BEGIN:VCALENDAR
VERSION:2.0
PRODID:-//The Retreat House at Hillsboro - ECPv6.15.20//NONSGML v1.0//EN
CALSCALE:GREGORIAN
METHOD:PUBLISH
X-WR-CALNAME:The Retreat House at Hillsboro
X-ORIGINAL-URL:https://retreathousehillsboro.org
X-WR-CALDESC:Events for The Retreat House at Hillsboro
REFRESH-INTERVAL;VALUE=DURATION:PT1H
X-Robots-Tag:noindex
X-PUBLISHED-TTL:PT1H
BEGIN:VTIMEZONE
TZID:America/New_York
BEGIN:DAYLIGHT
TZOFFSETFROM:-0500
TZOFFSETTO:-0400
TZNAME:EDT
DTSTART:20170312T070000
END:DAYLIGHT
BEGIN:STANDARD
TZOFFSETFROM:-0400
TZOFFSETTO:-0500
TZNAME:EST
DTSTART:20171105T060000
END:STANDARD
BEGIN:DAYLIGHT
TZOFFSETFROM:-0500
TZOFFSETTO:-0400
TZNAME:EDT
DTSTART:20180311T070000
END:DAYLIGHT
BEGIN:STANDARD
TZOFFSETFROM:-0400
TZOFFSETTO:-0500
TZNAME:EST
DTSTART:20181104T060000
END:STANDARD
BEGIN:DAYLIGHT
TZOFFSETFROM:-0500
TZOFFSETTO:-0400
TZNAME:EDT
DTSTART:20190310T070000
END:DAYLIGHT
BEGIN:STANDARD
TZOFFSETFROM:-0400
TZOFFSETTO:-0500
TZNAME:EST
DTSTART:20191103T060000
END:STANDARD
BEGIN:DAYLIGHT
TZOFFSETFROM:-0500
TZOFFSETTO:-0400
TZNAME:EDT
DTSTART:20200308T070000
END:DAYLIGHT
BEGIN:STANDARD
TZOFFSETFROM:-0400
TZOFFSETTO:-0500
TZNAME:EST
DTSTART:20201101T060000
END:STANDARD
END:VTIMEZONE
BEGIN:VEVENT
DTSTART;VALUE=DATE:20190927
DTEND;VALUE=DATE:20190930
DTSTAMP:20260424T000957
CREATED:20190419T170027Z
LAST-MODIFIED:20190719T214636Z
UID:10004590-1569542400-1569801599@retreathousehillsboro.org
SUMMARY:Seeing with the Eyes of the Heart: A Retreat for Women
DESCRIPTION:Join us for a spiritual retreat weekend — an opportunity to step away from your daily routine to rest … and to wake up.\nIn the gentle company of women\, we will ponder questions and ideas that spark our imaginations and then\, listen for guidance that flows from the practice of paying attention.* All that you need to bring is your self\, your senses\, and a willingness to see where God may be leading you. Women of all faith traditions are welcome. \nWe will gather at The Foehliage Retreat Center in Galena\, Maryland on Friday afternoon. Check-in is at 3:00 pm\, dinner at 6:30 pm\, followed by a brief gathering to set the tone for the weekend. Participants will be encouraged to spend the evening in silence. \nOn Saturday\, the program will flow in and out of silence\, with plenty of time for journaling\, walking on the beautiful grounds\, quiet reflection\, and conversation. The retreat will be completed on Sunday morning with a worship service and brunch. \nAccommodations & Costs \nUp to 15 women can be accommodated. \nSingle rooms – $375 per person*\nShared rooms – $325 per person \n*Single rooms are limited and available on a first-come\, first-serve basis. \nRates include: \n\nProgram sessions\n5 meals: 2 dinners\, 1 breakfast\, 1 lunch\, 1 brunch\nSnacks and beverages\nLinens and turndown service.\n\nTo reserve your space\, please contact us at meg@retreathousehillsboro.org or call (410) 364-7069 to see if rooms are still available. Let us know your name and phone number and preferred room type. We will require a $100 deposit and final payment is due September 1\, 2019. \nPayment Methods:  \n-Pay by credit card on our website http://retreathousehillsboro.org/donate/ (click on the “Donate” button) \n-Pay by check – make checks payable to “The Retreat House” and mail to The Retreat House\, P.O. Box 3\, Hillsboro MD 21641. \n-$100 deposit is due immediately.\n-Final payment is due by September 1. \nFor more information\, please contact us: \nRetreat Program – Linda Mastro at (410) 829-4309 \nAccommodations – Meg Gallagher at (410) 960-1044
URL:https://retreathousehillsboro.org/event/seeing-with-the-eyes-of-the-heart-a-retreat-for-women/
LOCATION:Foehliage Retreat Center\, 31450 Sassafras River Ave\, Galena\, MD\, 21635
CATEGORIES:Meditation,Support Groups
ORGANIZER;CN="Linda Mastro":MAILTO:gyplin2016@gmail.com
END:VEVENT
BEGIN:VEVENT
DTSTART;TZID=America/New_York:20190309T093000
DTEND;TZID=America/New_York:20190309T140000
DTSTAMP:20260424T000958
CREATED:20190121T184358Z
LAST-MODIFIED:20190214T191251Z
UID:10004585-1552123800-1552140000@retreathousehillsboro.org
SUMMARY:Lenten Quiet Day: Blessing the Divine
DESCRIPTION:Lenten Quiet Day: Blessing the Divine\nAs mature adults\, we have spent many seasons of our lives recounting our mistakes and making amends. With this maturity comes the wisdom to acknowledge\, and seek forgiveness for\, the mistakes we make along the way. \nDuring this Lenten Quiet Day\, we will look at the nature of atonement and take a different kind of inventory\, examining lessons learned from our mistakes and the resulting gifts we bring to life.With these lessons and gifts in mind\, we will bless the Divine and consider how to share them with others. \nBreakfast and lunch will be available and a suggested donation of $40 per person will be gratefully accepted. This is just a guideline — please don’t let finances keep you from attending. All are welcome! \nAbout the leader: Linda Mastro is a spiritual pilgrim\, life coach and spiritual director trained through the Bon Secours Retreat and Conference Center in Marriottsville\, Maryland. A parishioner of Saints Peter and Paul Catholic Church in Easton\, Linda serves in liturgical ministry. A writer and workshop leader\, Linda is co-author of the book Petite Retreats: Renewing Body\, Mind\, and Spirit without Leaving Home. Linda lives in Easton\, Maryland. Contact Linda at 410-829-4309.
URL:https://retreathousehillsboro.org/event/lenten-quiet-day-blessing-the-divine/
LOCATION:The Retreat House\, 22005 Church Street\, Hillsboro\, MD\, 21641\, United States
ORGANIZER;CN="Linda Mastro":MAILTO:gyplin2016@gmail.com
GEO:38.914958;-75.94222
X-APPLE-STRUCTURED-LOCATION;VALUE=URI;X-ADDRESS=The Retreat House 22005 Church Street Hillsboro MD 21641 United States;X-APPLE-RADIUS=500;X-TITLE=22005 Church Street:geo:-75.94222,38.914958
END:VEVENT
BEGIN:VEVENT
DTSTART;TZID=America/New_York:20181017T180000
DTEND;TZID=America/New_York:20181017T200000
DTSTAMP:20260424T000958
CREATED:20180816T215755Z
LAST-MODIFIED:20180816T220140Z
UID:10004537-1539799200-1539806400@retreathousehillsboro.org
SUMMARY:Good Grief: A Pilgrimage through Transition and Loss
DESCRIPTION:A state of the heart mostly associated with the death of someone we love\, grief also finds us through many kinds of life transitions and losses. Even happy times like retirement\, relocation or the birth of a child can provoke grief for what is ending\, as our new phase of life begins. \nIn this program we will use our own experiences of transition and loss to explore the mystery of God’s presence during the grieving process. As curious spiritual pilgrims we will invite the Holy Spirit to guide us as we: \n\ndiscuss the spiritual nature of grief\nshare our stories\nlearn practices that gently heal the tender heart\nof grief in each of us\n\nUsing scripture\, poetry\, music and prayer\, we will open our minds and spirits to the possibilities that arise on the pilgrim’s path of change\, loss and healing. \nThe group will meet for six Wednesday sessions from 6:00 – 8:00 pm with the option to meet for two sessions before the holiday season. \n\nSeptember 12\, 19\, 26 and October 3\, 10\, 17\n\nA suggested donation of $10 per session\, or $55 for all six sessions will be gratefully accepted at the door. Please don’t let finances keep you from attending. Register once for all six sessions at https://rhgoodgrief.eventbrite.com or by email to info@retreathousehillsboro.org. \n  \nAbout the leader: Linda Mastro is a spiritual pilgrim\, life coach and spiritual director trained through the Bon Secours Retreat and Conference Center in Marriottsville\, Maryland. A parishioner of Saints Peter and Paul Catholic Church in Easton\, Linda serves in liturgical ministry. A writer and workshop leader\, Linda is co-author of the book Petite Retreats: Renewing Body\, Mind\, and Spirit without Leaving Home. Linda lives in Easton\, Maryland. Contact Linda at 410-829-4309.
URL:https://retreathousehillsboro.org/event/good-grief-a-pilgrimage-through-transition-and-loss/2018-10-17/
LOCATION:The Retreat House\, 22005 Church Street\, Hillsboro\, MD\, 21641\, United States
ORGANIZER;CN="Linda Mastro":MAILTO:gyplin2016@gmail.com
GEO:38.914958;-75.94222
X-APPLE-STRUCTURED-LOCATION;VALUE=URI;X-ADDRESS=The Retreat House 22005 Church Street Hillsboro MD 21641 United States;X-APPLE-RADIUS=500;X-TITLE=22005 Church Street:geo:-75.94222,38.914958
END:VEVENT
BEGIN:VEVENT
DTSTART;TZID=America/New_York:20180305T110000
DTEND;TZID=America/New_York:20180305T123000
DTSTAMP:20260424T000958
CREATED:20180216T023441Z
LAST-MODIFIED:20180219T210617Z
UID:10004520-1520247600-1520253000@retreathousehillsboro.org
SUMMARY:Prepare for Lent with Group Spiritual Direction
DESCRIPTION:Are you interested in deepening your relationship with God this Lenten season? Please join us for four Mondays (March 5\, 12\, 19 and 26)  as we explore how the Spirit is working in each of us. \nSessions will consist of silent prayer\, sharing our spiritual stories\, scripture and response. The underlying theme will be Jesus’ bold question\, “Who do you say that I am?” (Mark\, 8:29) \nSuggested donation is $10 per person payable to the Retreat House at Hillsboro. Feel free to bring your lunch to enjoy afterwards. \nRegistration for this event is for 4 sessions. Registration deadline: Thursday\, March 1 at 5:00 pm. \nREGISTER HERE\nAbout the Retreat Leaders\nLinda Mastro\, life coach\, retreat leader\, and writer is co-author of the book “Petite Retreats: Renewing Body\, Mind\, and Spirit without Leaving Home.” She is a member of Saints Peter and Paul Parish in Easton where she serves in Eucharistic ministry. Contact Linda at (410) 829-4309\, gyplin2016@gmail.com \nJulia Morris-Myers is Director of Music at St. Paul’s Episcopal Church in Centreville. A graduate of the Shalem Institute’s Transforming Community: Leading Contemplative Prayer Groups and Retreats\, she leads Quiet Days\, Lenten programs and weekly contemplative prayer at St. Paul’s. Contact Julia at (410) 758-2918\, jmorrismyers@gmail.com.
URL:https://retreathousehillsboro.org/event/prepare-for-lent/
LOCATION:The Retreat House\, 22005 Church Street\, Hillsboro\, MD\, 21641\, United States
ORGANIZER;CN="Linda Mastro":MAILTO:gyplin2016@gmail.com
GEO:38.914958;-75.94222
X-APPLE-STRUCTURED-LOCATION;VALUE=URI;X-ADDRESS=The Retreat House 22005 Church Street Hillsboro MD 21641 United States;X-APPLE-RADIUS=500;X-TITLE=22005 Church Street:geo:-75.94222,38.914958
END:VEVENT
END:VCALENDAR