BEGIN:VCALENDAR
VERSION:2.0
PRODID:-//The Retreat House at Hillsboro - ECPv6.15.20//NONSGML v1.0//EN
CALSCALE:GREGORIAN
METHOD:PUBLISH
X-WR-CALNAME:The Retreat House at Hillsboro
X-ORIGINAL-URL:https://retreathousehillsboro.org
X-WR-CALDESC:Events for The Retreat House at Hillsboro
REFRESH-INTERVAL;VALUE=DURATION:PT1H
X-Robots-Tag:noindex
X-PUBLISHED-TTL:PT1H
BEGIN:VTIMEZONE
TZID:America/New_York
BEGIN:DAYLIGHT
TZOFFSETFROM:-0500
TZOFFSETTO:-0400
TZNAME:EDT
DTSTART:20200308T070000
END:DAYLIGHT
BEGIN:STANDARD
TZOFFSETFROM:-0400
TZOFFSETTO:-0500
TZNAME:EST
DTSTART:20201101T060000
END:STANDARD
BEGIN:DAYLIGHT
TZOFFSETFROM:-0500
TZOFFSETTO:-0400
TZNAME:EDT
DTSTART:20210314T070000
END:DAYLIGHT
BEGIN:STANDARD
TZOFFSETFROM:-0400
TZOFFSETTO:-0500
TZNAME:EST
DTSTART:20211107T060000
END:STANDARD
BEGIN:DAYLIGHT
TZOFFSETFROM:-0500
TZOFFSETTO:-0400
TZNAME:EDT
DTSTART:20220313T070000
END:DAYLIGHT
BEGIN:STANDARD
TZOFFSETFROM:-0400
TZOFFSETTO:-0500
TZNAME:EST
DTSTART:20221106T060000
END:STANDARD
BEGIN:DAYLIGHT
TZOFFSETFROM:-0500
TZOFFSETTO:-0400
TZNAME:EDT
DTSTART:20230312T070000
END:DAYLIGHT
BEGIN:STANDARD
TZOFFSETFROM:-0400
TZOFFSETTO:-0500
TZNAME:EST
DTSTART:20231105T060000
END:STANDARD
BEGIN:DAYLIGHT
TZOFFSETFROM:-0500
TZOFFSETTO:-0400
TZNAME:EDT
DTSTART:20240310T070000
END:DAYLIGHT
BEGIN:STANDARD
TZOFFSETFROM:-0400
TZOFFSETTO:-0500
TZNAME:EST
DTSTART:20241103T060000
END:STANDARD
BEGIN:DAYLIGHT
TZOFFSETFROM:-0500
TZOFFSETTO:-0400
TZNAME:EDT
DTSTART:20250309T070000
END:DAYLIGHT
BEGIN:STANDARD
TZOFFSETFROM:-0400
TZOFFSETTO:-0500
TZNAME:EST
DTSTART:20251102T060000
END:STANDARD
END:VTIMEZONE
BEGIN:VEVENT
DTSTART;TZID=America/New_York:20240412T093000
DTEND;TZID=America/New_York:20240412T123000
DTSTAMP:20260424T050622
CREATED:20240228T145105Z
LAST-MODIFIED:20240228T164929Z
UID:10006733-1712914200-1712925000@retreathousehillsboro.org
SUMMARY:Spring Quiet Morning on Zoom - Soul Gardening: Preparing our Hearts for the Spirit's Fruits
DESCRIPTION:Soul Gardening: Preparing our Hearts for the Spirit’s Fruits\nwith Julia Morris-Myers\nFriday\, April 12\n9:30 a.m. – 12:30 p.m.\non Zoom\nGather on this gentle spring morning for quiet\, reflection\, and conversation. We will look to the wisdom of the earth and notice ways to prepare for the new growth that might be emerging from the heart. We will be guided by scripture\, poetry\, silence\, and conversation\, and most of all by Mother Nature. Sign up to join on Zoom as an individual or with a few friends from your home.\n  \nRegister here: https://lp.constantcontactpages.com/ev/reg/57psxpj\n 
URL:https://retreathousehillsboro.org/event/spring-quiet-morning-soul-gardening-preparing-our-hearts-for-the-spirits-fruits/
LOCATION:ZOOM
CATEGORIES:Meditation,Quiet Day,Retreats
ATTACH;FMTTYPE=image/jpeg:https://retreathousehillsboro.org/wp-content/uploads/2024/02/screen-shot-annie-spratt-scaled.jpg
ORGANIZER;CN="Heather Strang":MAILTO:heather@retreathousehillsboro.org
END:VEVENT
BEGIN:VEVENT
DTSTART;TZID=America/New_York:20240319T194500
DTEND;TZID=America/New_York:20240319T204500
DTSTAMP:20260424T050622
CREATED:20240215T144523Z
LAST-MODIFIED:20240215T145030Z
UID:10006678-1710877500-1710881100@retreathousehillsboro.org
SUMMARY:The Well - a time to gather in community online
DESCRIPTION:The Well is a time to gather in community online\, as you are able\, to share stories—the stories of scripture and the stories of participants own lives. Through time together—in prayer\, in listening\, in open-heartedness—participants are invited to get to know one another. Through prayerful listening to scripture (lectio divina) and authentic sharing\, participants will be drawn closer to each other\, to themselves\, and to God. \nJoin us for an hour in this wonderful space to nourish your Lenten journey. We will gather on Zoom at 7:45 p.m. EST beginning on Tuesday\, February 20 and continuing until March 26. Simply register here: https://the-well-2024.eventbrite.com. Although this program occurs weekly\, feel free to treat it as a “drop-in\,” attending as often as you are able. This offering is shared gratefully in collaboration with our friends at Lifelong Learning at Virginia Theological Seminary.
URL:https://retreathousehillsboro.org/event/the-well/2024-03-19/
LOCATION:ZOOM
CATEGORIES:Meditation,Prayer Gatherings,Retreats
ATTACH;FMTTYPE=image/jpeg:https://retreathousehillsboro.org/wp-content/uploads/2022/07/17cac41e-d53d-43b2-b24c-a8ffcee8d0ec.jpeg
ORGANIZER;CN="Heather Strang":MAILTO:heather@retreathousehillsboro.org
END:VEVENT
BEGIN:VEVENT
DTSTART;TZID=America/New_York:20240224T110000
DTEND;TZID=America/New_York:20240224T150000
DTSTAMP:20260424T050622
CREATED:20240109T221242Z
LAST-MODIFIED:20240222T122121Z
UID:10006666-1708772400-1708786800@retreathousehillsboro.org
SUMMARY:Black History and Arts Celebration
DESCRIPTION:Join us\, friends\, for this joyful and collaborative day of celebration of black artists and black history. Learn more about this vibrant Caroline Arts event here: https://carolinearts.org/\nThe Retreat House will be there in the poetry corner with friends from Caroline County Public Schools\, holding space for expressive storytelling. We hope you will join us on this day of creative expression. Come and tell your story\, read the poetry of a favorite black artist\, or celebrate by listening.\nLearn more about how to participate here: https://carolinearts.org/call-for-poets/\n  \n \nGroove to the beats of Teran as he serenades us throughout the day! \nThroughout the Event: \n\nIndulge your taste buds with delicious offerings from Royal T Catering.\nEngage in the interactive “Art Ball” Activity hosted by Mizzlehouse Foundation and Not a Phase Clothing.\nExplore the rich cultural heritage displayed by the Sankofa Bus with Chesapeake Heartland Foundation.
URL:https://retreathousehillsboro.org/event/black-history-and-arts-celebration/
LOCATION:Caroline Arts\, 401 MARKET ST\, DENTON\, MD\, 21629\, United States
CATEGORIES:Arts,Spoken Word Event
ATTACH;FMTTYPE=image/png:https://retreathousehillsboro.org/wp-content/uploads/2024/01/BHAC-Facebook.png
ORGANIZER;CN="Heather Strang":MAILTO:heather@retreathousehillsboro.org
END:VEVENT
BEGIN:VEVENT
DTSTART;TZID=America/New_York:20240215T180000
DTEND;TZID=America/New_York:20240215T200000
DTSTAMP:20260424T050622
CREATED:20240121T213358Z
LAST-MODIFIED:20240121T213358Z
UID:10006667-1708020000-1708027200@retreathousehillsboro.org
SUMMARY:Open Mic Poetry Night - Celebrating Love!
DESCRIPTION:Join us for this special night on February 15\, from 6:00 to 8:00 p.m. at the Talbot County Free Library in Easton\, Maryland. We’ll listen to the poems that sing out and celebrate LOVE! Bring your own poem\, or a found poem\, or settle in to listen! We’ll listen together and weave spoken word poetry as community. For more information\, please reach out: heather@retreathousehillsboro.org
URL:https://retreathousehillsboro.org/event/open-mic-poetry-night-celebrating-love/
LOCATION:Talbot County Free Library\, Easton\, 100 West Dover Street\, Easton\, MD\, United States
CATEGORIES:Arts,Community Voice,Spoken Word Event
ATTACH;FMTTYPE=image/png:https://retreathousehillsboro.org/wp-content/uploads/2024/01/Poetry-Open-Mic-Night-224.png
ORGANIZER;CN="Heather Strang":MAILTO:heather@retreathousehillsboro.org
END:VEVENT
BEGIN:VEVENT
DTSTART;TZID=America/New_York:20240131T180000
DTEND;TZID=America/New_York:20240131T200000
DTSTAMP:20260424T050622
CREATED:20240115T163142Z
LAST-MODIFIED:20240115T163158Z
UID:10006395-1706724000-1706731200@retreathousehillsboro.org
SUMMARY:God's Peace Group - a January Reset
DESCRIPTION:Come join us for this conversation series to help refocus and reset for a vibrant year ahead. We’ll explore some timeless wisdom shared across cultures for beginning again. Rather than naming new year’s resolutions\, our gathering will invite us to be curious about practices for living each day rooted in peace.\nWe began gathering on Wednesday evenings\, January 10th. Our January 17 gathering will be postponed until January 24th and we will continue meeting until February 7th!\n\n\nA simple supper will be included. Register here: https://tinyurl.com/PEACE2024\nFor more information\, please contact heather@retreathousehillsboro.org
URL:https://retreathousehillsboro.org/event/gods-peace-group-a-january-reset-2/2024-01-31/
LOCATION:Emmanuel Church\, 101 N. Cross St.\, Chestertown\, MD\, 21620\, United States
ATTACH;FMTTYPE=image/jpeg:https://retreathousehillsboro.org/wp-content/uploads/2023/04/marcus-dall-col-XU-mMDweXR4-unsplash-scaled.jpg
ORGANIZER;CN="Heather Strang":MAILTO:heather@retreathousehillsboro.org
GEO:39.2092721;-76.0660689
X-APPLE-STRUCTURED-LOCATION;VALUE=URI;X-ADDRESS=Emmanuel Church 101 N. Cross St. Chestertown MD 21620 United States;X-APPLE-RADIUS=500;X-TITLE=101 N. Cross St.:geo:-76.0660689,39.2092721
END:VEVENT
BEGIN:VEVENT
DTSTART;TZID=America/New_York:20240106T093000
DTEND;TZID=America/New_York:20240106T150000
DTSTAMP:20260424T050622
CREATED:20231106T155418Z
LAST-MODIFIED:20231127T173510Z
UID:10006388-1704533400-1704553200@retreathousehillsboro.org
SUMMARY:Women's Christmas
DESCRIPTION:Women’s Christmas\nJanuary 6\, 2024\n9:30 a.m. – 3:00 p.m.\nheld at\nThe Foehliage\, Galena\, Maryland\n  \n  \nGive yourself this special time to refresh your spirit and rest in the company of other women. We’ll sink into this restorative day as a celebration of Celtic Women’s Christmas\, a tradition shared on January 6 at the Feast of Epiphany. Grounded by the work of poet and pastor Jan Richardson\, it is the tradition of honoring the often difficult and tiring work of women to maintain the hearth and home\, especially during the extended holiday season. The women gather to reimagine their lives and\, as friends\, discern emerging patterns and support\, as sisters\, the art of navigating and developing new paths for the new year. The interactive day will be filled with activity\, prayerful silence\, and creativity\, including creating a soul collage. Come enjoy a continental breakfast and a simple\, warm\, and seasonal lunch\, perhaps eaten around a blazing fire and catching a glimpse of an eagle flying.  \nMeg Gallagher and Suzi Foehl have led this retreat since 2020. They joyfully welcome anyone with curiosity\, intention\, and an open heart. The price for the day-long retreat\, including a simple breakfast and lunch is $55 per person. The 9:30 a.m. to 3 p.m. retreat will be held at the Foehliage in Galena\, MD.   \nAn overnight option is available at a reduced cost of an additional $50. A simple supper is included. The overnight option is $105.  Please register here: https://tinyurl.com/RH2023Women \n  \n“I do not know \nHow to keep it all together \nOr by what patterns this world might  \nFinally\, hold. \n  \n…And what shines \nThrough all this darkness \nShines through us\, \nSetting every shattered thing \nInto a new constellation \n  \nAnd we can turn  \nOur faces \nTo that light\, \nTo the grace of  \nThose stars \nThat turn in us.” \nJan Richardson.  From “Those Stars That Turn in Us\, A Blessing for Women’s Christmas”. sanctuaryofwomen.com. \n 
URL:https://retreathousehillsboro.org/event/womens-christmas-4/
LOCATION:Foehliage Retreat Center\, 31450 Sassafras River Ave\, Galena\, MD\, 21635
CATEGORIES:Quiet Day,Retreats
ATTACH;FMTTYPE=image/png:https://retreathousehillsboro.org/wp-content/uploads/2021/12/Screen-Shot-2021-12-09-at-10.56.58-AM.png
ORGANIZER;CN="Heather Strang":MAILTO:heather@retreathousehillsboro.org
END:VEVENT
BEGIN:VEVENT
DTSTART;TZID=America/New_York:20231213T173000
DTEND;TZID=America/New_York:20231213T193000
DTSTAMP:20260424T050622
CREATED:20231004T132110Z
LAST-MODIFIED:20231004T132424Z
UID:10006337-1702488600-1702495800@retreathousehillsboro.org
SUMMARY:Bread and Spiritual Community -- an open-hearted and curious conversation
DESCRIPTION:Bread and Spiritual Community\ngather for open hearted and curious conversation \nSt. Anne’s Parish House Library\nFour Wednesday Evenings\, 5:30 – 7:30 p.m.\nsimple supper from 5:30 – 6:00 p.m.\nNovember 1\, 8\, 15\, and 29\n\nNovember 1 – Finding Balance in Our Chaotic World \nThe Benedictine way of living seeks balance\, inviting a connection with God’s presence in each sector of our lives. We’ll look at daily practices that can easily weave into each day\, some of which we already engage in without naming them. We will explore the voices of Benedictine writers\, some contemporary and some ancient\, who share our passion for the earth\, healing prayer\, and finding balance and peace in the “other six days.” \nNovember 8 – What Do You Want? — Jesus asks the question\, “What do you want?” What do you want? Let’s gather and listen as community to what we seek in our lives\, our ministries\, and the world. \nNovember 15 – What Does Community Look Like? — We are intergenerational community as we grow each day in our work and ministries at St. Anne’s\,  in Annapolis\, and beyond. Come hear and share stories that hold glimpses of God’s Love in our walk of companionship alongside others.  \nNovember 29 – Soul Friends — Anam Cara is a word used by Celtic Christians to describe soul friendship. It is what is invited when we gather in Jesus’ promise that “Where two or more are gathered\, I am there.” Come and join in this evening of open-hearted exploration of living in friendship that can facilitate healing\, wholeness\, holiness\, and spiritual formation. Bring a friend!  \n  \nFor more information\, contact Heather@retreathousehillsboro.org and sign up here: https://www.signupgenius.com/go/10C0B4AA8AD2AA5F85-44619311-bread
URL:https://retreathousehillsboro.org/event/bread-and-spiritual-community-an-open-hearted-conversation/2023-12-13/
LOCATION:St. Anne’s Church Parish Hall\, 199 Duke of Gloucester St.\, Annapolis\, MD\, 21401\, United States
ATTACH;FMTTYPE=image/jpeg:https://retreathousehillsboro.org/wp-content/uploads/2023/10/erik-dungan-MQyCrJVFG8U-unsplash-scaled.jpg
ORGANIZER;CN="Heather Strang":MAILTO:heather@retreathousehillsboro.org
END:VEVENT
BEGIN:VEVENT
DTSTART;TZID=America/New_York:20231027T160000
DTEND;TZID=America/New_York:20231029T130000
DTSTAMP:20260424T050622
CREATED:20230329T210014Z
LAST-MODIFIED:20230906T124940Z
UID:10006198-1698422400-1698584400@retreathousehillsboro.org
SUMMARY:Women's Weekend Retreat - Blessing the Ordinary
DESCRIPTION:Women’s Weekend Retreat \nBlessing the Ordinary\n\n“What is a blessing? A blessing is a circle of light drawn around a person to protect\, heal\, and strengthen. Life is a constant flow of emergence. The beauty of blessing is its belief that it can affect what unfolds.”  \nJohn O’Donohue\, To Bless the Space Between Us: A Book of Blessings. \n  \n  \nIn the fall\, the rhythm of life picks up pace. We prepare for a new school year and plan for Thanksgiving\, Advent\, Christmas\, and the dawn of a New Year. This retreat is an opportunity to remember that every day is holy and that\, when we pay attention\, we can be blessed by the ordinary of our relationships\, environments\, and work. Blessing is a form of prayer that draws our attention to the people\, places\, and activities that open our hearts\, bring us joy\, and connect us to what often goes unnoticed. We will use scripture and poetry as models for how to receive and give blessings\, a prayer process that can set the tone for the upcoming holy seasons. Activities will include group discussion\, silent time for reflection\, practicing the art form of blessings through writing\, music and movement. Individual rooms are available at $395; limited shared rooms are available at $345.  \nThis event is full at this time. Please sign up for the wait list here- https://tinyurl.com/2023FallWeekend\nLINDA MASTRO is a graduate and on the faculty of the Bon Secours Spiritual Direction Institute in Marriottsville\, MD. She is also an Associate of Bon Secours. Linda is a spiritual companion for individuals and groups. She brings a spirit of compassion and light-heartedness to her work as a women’s retreat facilitator\, pilgrimage leader\, and workshop guide. Linda is co-author of the book Petite Retreats: Renewing Body\, Mind\, and Spirit without Leaving Home. Learn more about Linda at livingpilgrimage.com.
URL:https://retreathousehillsboro.org/event/womens-weekend-retreat-blessing-the-ordinary/
LOCATION:Foehliage Retreat Center\, 31450 Sassafras River Ave\, Galena\, MD\, 21635
CATEGORIES:Retreats,Weekend Retreat
ATTACH;FMTTYPE=image/jpeg:https://retreathousehillsboro.org/wp-content/uploads/2022/10/roman-kraft-XdbUsFkAwqA-unsplash-scaled.jpg
ORGANIZER;CN="Heather Strang":MAILTO:heather@retreathousehillsboro.org
END:VEVENT
BEGIN:VEVENT
DTSTART;TZID=America/New_York:20230828T120000
DTEND;TZID=America/New_York:20240923T130000
DTSTAMP:20260424T050622
CREATED:20230804T130402Z
LAST-MODIFIED:20240928T194145Z
UID:10006217-1693224000-1727096400@retreathousehillsboro.org
SUMMARY:Wisdom Café
DESCRIPTION:All are welcome to join in this Retreat House gathering –  the Wisdom Café\, held each Monday from 12:00-1:00 p.m. on Zoom. \n\n\nWe usually begin with an inspirational reading\, enjoy a bit of quiet time. Then we take turns sharing what bubbles up and listen to each other’s reflections. It’s an hour of friendly companionship–no commitment\, no charge.\n\nCome and go as you please!\n\n\nIf you would like to receive an email reminder on Monday mornings (which will include the zoom link) please sign up here.\n\nOtherwise please add the date to your calendar for the Wisdom Café on Mondays at 12 Noon. \n\nHere’s the Zoom link.
URL:https://retreathousehillsboro.org/event/wisdom-cafe-2/2023-08-28/
LOCATION:ZOOM
ORGANIZER;CN="Heather Strang":MAILTO:heather@retreathousehillsboro.org
END:VEVENT
BEGIN:VEVENT
DTSTART;TZID=America/New_York:20230423T170000
DTEND;TZID=America/New_York:20230507T181500
DTSTAMP:20260424T050622
CREATED:20230325T163336Z
LAST-MODIFIED:20230327T200901Z
UID:10006190-1682269200-1683483300@retreathousehillsboro.org
SUMMARY:Being Disciples in this Time
DESCRIPTION:Being Disciples in this Time \na wisdom circle with stories and practices for the journey \nwith Bishop Porter Taylor and Debra Donnelly-Barton \nThree Sundays on Zoom \nApril 23\, 30 and May 7   \n5:00 p.m. – 6:15 p.m. EST \n\nGather with us for a time of learning and growing in conversation\, with spiritual practices to guide our weeks in between. Porter will guide us as we delve into Rowan Williams’ work\, each person bringing their own story. In-between sessions\, we will receive spiritual practice prompts to guide our attention on the journey. \nIn his book Being Disciples\, Rowan Williams asserts\, “discipleship is a state of being. Discipleship is about how we live; not just the decisions we make\, not just the things we believe\, but a state of being.” By that he means disciples ask themselves:  “What is Jesus Christ giving me here and now?” We rethink who we are and why we are here. Moreover\, it means we are called and empowered to live out our Baptismal Promises\, like “To seek and serve all persons\, loving your neighbor as yourself” and what that might look like “with God’s help.” Over the three weeks\, we will cover these topics\, each of which is a chapter in the book: Faith\, Hope and Love; Forgiveness; and\,  Holiness. At the book’s end\, William writes: “What keeps us going as disciples? Self-awareness and stillness\, growth and joy.” The point is about “offering to God our longing to be with Jesus\, wherever he may lead.” The goal here is to rediscover the fundamentals of being a Christian in this place and in this time.  Not only is it important for us to understand these virtues\, but to discover how we can live them out.  \nDiscipleship is also tuning our hearts to the song that God is singing within us right now.  That means practice–like a musician practices scales until they are both a tone memory and a muscle memory–we engage in prayer practices. Debra will offer us two practices per week that correspond to the reading for each week. We will let our learning sink into our hearts and our bodies as we practice what it means to live as a disciple.  \nREGISTER HERE:  https://tinyurl.com/BEINGdisciples. A suggested donation of $75 will be gratefully accepted. Please don’t let finances keep you from attending! For more information\, or\, to request a scholarship\, please email heather@retreathousehillsboro.org Being Disciples: Essentials of the Christian Life\, by Rowan Williams is encouraged for this series and can be purchased here.  \nPORTER TAYLOR is the author of a memoir— Are You Persuaded? In and Out of Being a Bishop. Bishop Taylor joined the Diocese of Virginia as Assisting Bishop after retiring as the 6th Bishop of the Diocese of Western North Carolina in 2016. In retirement\, he also served on the faculty of Wake Forest University Divinity School. He holds a Master of Divinity\, a Ph. D. in Theology and Literature\, and a B.A. and M. A. in English. Porter and his wife Jo\, an artist\, are based in Asheville\, NC. \nDEBRA DONNELLY-BARTON is a graduate of the Stillpoint School for Spiritual Direction and the General Seminary in New York. As a practicing spiritual director\, she has an MA in theology from St. Mary’s Seminary and University. Debra has studied the Ignatian spiritual exercises as well as engaged in an intensive training in centering prayer with Thomas Keating. 
URL:https://retreathousehillsboro.org/event/being-disciples-in-this-time/2023-04-23/
LOCATION:ZOOM
CATEGORIES:Retreats,Wisdom Circles
ATTACH;FMTTYPE=image/jpeg:https://retreathousehillsboro.org/wp-content/uploads/2022/07/arthur-poulin-NhU0nUR7920-unsplash.jpg
ORGANIZER;CN="Heather Strang":MAILTO:heather@retreathousehillsboro.org
END:VEVENT
BEGIN:VEVENT
DTSTART;TZID=America/New_York:20230413T123000
DTEND;TZID=America/New_York:20230413T143000
DTSTAMP:20260424T050622
CREATED:20230401T133449Z
LAST-MODIFIED:20230401T133543Z
UID:10006208-1681389000-1681396200@retreathousehillsboro.org
SUMMARY:Retreat House New Directions - Bag Bag Lunch in Hillsboro
DESCRIPTION:Retreat House\nNew Directions\nBrown Bag Lunch\nThursday\, April 13\n12:30 – 2:30 p.m.\nHillsboro\n\n\nJoin us for lunch (BYO) to learn more about our new directions and to share your ideas. We look forward to seeing you!
URL:https://retreathousehillsboro.org/event/retreat-house-new-directions-bag-bag-lunch-in-hillsboro/
LOCATION:The Retreat House\, 22005 Church Street\, Hillsboro\, MD\, 21641\, United States
ATTACH;FMTTYPE=image/jpeg:https://retreathousehillsboro.org/wp-content/uploads/2023/04/spencer-davis-vJsj-hgOEG0-unsplash-scaled.jpg
ORGANIZER;CN="Heather Strang":MAILTO:heather@retreathousehillsboro.org
GEO:38.914958;-75.94222
X-APPLE-STRUCTURED-LOCATION;VALUE=URI;X-ADDRESS=The Retreat House 22005 Church Street Hillsboro MD 21641 United States;X-APPLE-RADIUS=500;X-TITLE=22005 Church Street:geo:-75.94222,38.914958
END:VEVENT
BEGIN:VEVENT
DTSTART;TZID=America/New_York:20221007T173000
DTEND;TZID=America/New_York:20221007T190000
DTSTAMP:20260424T050622
CREATED:20220808T150216Z
LAST-MODIFIED:20220808T152416Z
UID:10005751-1665163800-1665169200@retreathousehillsboro.org
SUMMARY:Spoken Word
DESCRIPTION:  \nSee you on October 7 at Vintage Books and Fine Art\, from 5:30 – 7:00 p.m. for Spoken Word\, a creative gathering for sharing and listening to spoken word poetry. Bring your own poetry or work from your favorite poet\, or come as a listener without reading. We’ll enjoy listening together in this creative\, community gathering offered as a gentle\, friendly\, and inclusive space with reverence for the dignity of each person.  \n  \n\nArrive early to sign up for reading\nMeet friends from Trinity and The Retreat House\nExperience the Spirit of Poetry as golden threads are woven in community\nBring your own spoken word poetry or the work of your favorite poet.\n\n  \n  \n  \n We are so excited and look forward to this opening night of our series of poetry nights! We’re calling this joyful collaboration of The Retreat House at Hillsboro and Trinity Cathedral\, Easton: The Spirit of Poetry – golden threads in community.  For more information\, contact us at heather@retreathousehillsboro.org  
URL:https://retreathousehillsboro.org/event/spoken-word/
LOCATION:VIntage Books and Fine Art\, 4 N Washington St\, Easton\, MD\, 21601
ATTACH;FMTTYPE=image/jpeg:https://retreathousehillsboro.org/wp-content/uploads/2022/08/IMG_8676.jpg
ORGANIZER;CN="Heather Strang":MAILTO:heather@retreathousehillsboro.org
END:VEVENT
BEGIN:VEVENT
DTSTART;TZID=America/New_York:20211008T183000
DTEND;TZID=America/New_York:20211010T130000
DTSTAMP:20260424T050622
CREATED:20210701T205244Z
LAST-MODIFIED:20210824T203834Z
UID:10005687-1633717800-1633870800@retreathousehillsboro.org
SUMMARY:Re-imagining Prayer: Women’s Weekend Retreat 2021
DESCRIPTION:Friday\, October 8 – Sunday\, October 10 \nThe Retreat House at Hillsboro is pleased to host this weekend retreat led by Linda Mastro at The Foehliage in Galena\, Maryland. \n \n  \n“These are some of the things that prayer is. Prayer is rhythm. Prayer is comfort. Prayer is disappointment. Prayer is words and shape and art around desperation\, and delight and disappointment and desire. Prayer can be the art that helps you name your desire.”\n~ Padraig O Tuama \nSink into the beauty of fall as we explore prayer practices that invite us to a new relationship with God\, with ourselves\, and with the people in our lives. During our time together we will find renewal in the lodging and meals provided as we enjoy an environment inviting deep listening and heartfelt response. We will have opportunities for conversation\, silence\, movement\, and contemplation. Explore at your own pace – body prayer\, journaling\, lectio divina\, walking meditation\, and other experiences that bring our bodies\, minds\, and spirits into the act of authentic prayer. \n\n\n\n\nPlease register by September 25th. For more about the retreat\, with information about how to reserve your space and to register – https://tinyurl.com/RHretreat. Or\, contact us at info@retreathousehillsboro.org. \n\n\n\n\n\nMORE ABOUT THE RETREAT \nWe will gather at The Foehliage Retreat Center in Galena\, Maryland\, on Friday afternoon. Dinner will be at 6:30 pm\, followed by a brief gathering to set the tone for the weekend. Participants will be encouraged to spend the evening in silence. On Saturday\, the program will flow in and out of silence\, with plenty of time for journaling\, walking on the beautiful grounds\, quiet reflection\, and conversation. The retreat will close on Sunday morning with a prayer service and brunch. \nABOUT THE VENUE \nThe Foehliage\, located in Kent County\, Maryland\, is an intimate retreat center where guests can enjoy the beauty of nature\, the flow of the Sassafras river\, and glorious autumn sunrises and sunsets. Our hosts Gene and Suzanne Foehl exemplify hospitality with delicious homemade meals\, comfortable sleeping rooms\, and an assortment of inside and outside spaces in which to rest\, reflect and explore the retreat themes. To see photos of the facility and more information about The Foehliage\, please visit their website. \n\n\n\n\nNote on Covid protocols: The Foehliage Retreat Center asks that all guests be fully vaccinated. Mask wearing on-site is optional. Please be mindful of community by participating without any signs of illness. \n\n\n\n\nACCOMMODATIONS AND COSTS \nSingle rooms – $395 per person Shared rooms – $345 per person. Rates include the retreat program\, 2 dinners\, 1 breakfast\, 1 lunch\, 1 brunch\, snacks\, beverages\, linens\, and turn-down service. A limited number of single rooms are available on a 1st come\, 1st served basis. \nTO REGISTER \nTo reserve your space\, please send a $100 deposit by August 15\, 2021. Final payment for holding a space must be received by September 10. Register (here)\, or mail your check to – The Retreat House\, P.O. Box 3\, Hillsboro MD 21641. \nABOUT THE RETREAT LEADER LINDA MASTRO \nis a graduate and on the faculty of the Bon Secours Spiritual Direction Institute in Marriottsville\, MD. Linda serves in liturgical ministry at Saints Peter and Paul Catholic Church in Easton and is a spiritual guide for individuals and groups. Linda is a graduate of the University of Delaware and the Maryland University of Integrative Health. A life coach\, retreat leader and professional writer\, Linda is co-author of the book Petite Retreats: Renewing Body\, Mind\, and Spirit without Leaving Home. Linda lives in Easton\, Maryland. Learn more about Linda at livingpilgrimage.com. \n\nFor more information\, please contact us:  \nRetreat Program Linda Mastro at (410) 829-4309. Lodging\, logistics\, and scholarship availability –  Heather Strang at (443) 995-3820
URL:https://retreathousehillsboro.org/event/re-imagining-prayer-womens-weekend-retreat-2021/
LOCATION:Foehliage Retreat Center\, 31450 Sassafras River Ave\, Galena\, MD\, 21635
CATEGORIES:Retreats
ATTACH;FMTTYPE=image/png:https://retreathousehillsboro.org/wp-content/uploads/2021/07/unnamed.png
ORGANIZER;CN="Heather Strang":MAILTO:heather@retreathousehillsboro.org
END:VEVENT
END:VCALENDAR