BEGIN:VCALENDAR
VERSION:2.0
PRODID:-//The Retreat House at Hillsboro - ECPv6.15.20//NONSGML v1.0//EN
CALSCALE:GREGORIAN
METHOD:PUBLISH
X-WR-CALNAME:The Retreat House at Hillsboro
X-ORIGINAL-URL:https://retreathousehillsboro.org
X-WR-CALDESC:Events for The Retreat House at Hillsboro
REFRESH-INTERVAL;VALUE=DURATION:PT1H
X-Robots-Tag:noindex
X-PUBLISHED-TTL:PT1H
BEGIN:VTIMEZONE
TZID:America/New_York
BEGIN:DAYLIGHT
TZOFFSETFROM:-0500
TZOFFSETTO:-0400
TZNAME:EDT
DTSTART:20260308T070000
END:DAYLIGHT
BEGIN:STANDARD
TZOFFSETFROM:-0400
TZOFFSETTO:-0500
TZNAME:EST
DTSTART:20261101T060000
END:STANDARD
BEGIN:DAYLIGHT
TZOFFSETFROM:-0500
TZOFFSETTO:-0400
TZNAME:EDT
DTSTART:20270314T070000
END:DAYLIGHT
BEGIN:STANDARD
TZOFFSETFROM:-0400
TZOFFSETTO:-0500
TZNAME:EST
DTSTART:20271107T060000
END:STANDARD
BEGIN:DAYLIGHT
TZOFFSETFROM:-0500
TZOFFSETTO:-0400
TZNAME:EDT
DTSTART:20280312T070000
END:DAYLIGHT
BEGIN:STANDARD
TZOFFSETFROM:-0400
TZOFFSETTO:-0500
TZNAME:EST
DTSTART:20281105T060000
END:STANDARD
END:VTIMEZONE
BEGIN:VEVENT
DTSTART;TZID=America/New_York:20270111T171500
DTEND;TZID=America/New_York:20270111T174500
DTSTAMP:20260424T092853
CREATED:20251215T183509Z
LAST-MODIFIED:20260306T230127Z
UID:10010512-1799687700-1799689500@retreathousehillsboro.org
SUMMARY:Day's End Meditation
DESCRIPTION:  \nWherever you are\, listen\, breathe\, and be still.\n  \nMove peacefully into your evening each evening. \nWeekdays 5:15 – 5:45 p.m. EST \n  \n  \nFeel free to log in to hear a beautiful prayer or poem followed by just the right amount of quiet meditation time.  \nCome a few minutes early and say hello. \n  \n  \n“It has been a way to honor the shift in the demands of the day\, \nbreathing in God’s Love\, \nbreathing out gratitude for the Divine Mystery…” \nJoin online: https://zoom.us/j/212677840 \nPassword: 944568 \nCall in/Audio only: +1 301 715 8592
URL:https://retreathousehillsboro.org/event/days-end-meditation-8-2-2-2-2/2027-01-11/
LOCATION:ZOOM
ATTACH;FMTTYPE=image/jpeg:https://retreathousehillsboro.org/wp-content/uploads/2025/01/arthur-poulin-NhU0nUR7920-unsplash-scaled.jpg
ORGANIZER;CN="The Retreat House":MAILTO:heather@retreathousehillsboro.org
END:VEVENT
BEGIN:VEVENT
DTSTART;TZID=America/New_York:20270112T171500
DTEND;TZID=America/New_York:20270112T174500
DTSTAMP:20260424T092853
CREATED:20251215T183509Z
LAST-MODIFIED:20260306T230127Z
UID:10010513-1799774100-1799775900@retreathousehillsboro.org
SUMMARY:Day's End Meditation
DESCRIPTION:  \nWherever you are\, listen\, breathe\, and be still.\n  \nMove peacefully into your evening each evening. \nWeekdays 5:15 – 5:45 p.m. EST \n  \n  \nFeel free to log in to hear a beautiful prayer or poem followed by just the right amount of quiet meditation time.  \nCome a few minutes early and say hello. \n  \n  \n“It has been a way to honor the shift in the demands of the day\, \nbreathing in God’s Love\, \nbreathing out gratitude for the Divine Mystery…” \nJoin online: https://zoom.us/j/212677840 \nPassword: 944568 \nCall in/Audio only: +1 301 715 8592
URL:https://retreathousehillsboro.org/event/days-end-meditation-8-2-2-2-2/2027-01-12/
LOCATION:ZOOM
ATTACH;FMTTYPE=image/jpeg:https://retreathousehillsboro.org/wp-content/uploads/2025/01/arthur-poulin-NhU0nUR7920-unsplash-scaled.jpg
ORGANIZER;CN="The Retreat House":MAILTO:heather@retreathousehillsboro.org
END:VEVENT
BEGIN:VEVENT
DTSTART;TZID=America/New_York:20270113T171500
DTEND;TZID=America/New_York:20270113T174500
DTSTAMP:20260424T092853
CREATED:20251215T183509Z
LAST-MODIFIED:20260306T230127Z
UID:10010514-1799860500-1799862300@retreathousehillsboro.org
SUMMARY:Day's End Meditation
DESCRIPTION:  \nWherever you are\, listen\, breathe\, and be still.\n  \nMove peacefully into your evening each evening. \nWeekdays 5:15 – 5:45 p.m. EST \n  \n  \nFeel free to log in to hear a beautiful prayer or poem followed by just the right amount of quiet meditation time.  \nCome a few minutes early and say hello. \n  \n  \n“It has been a way to honor the shift in the demands of the day\, \nbreathing in God’s Love\, \nbreathing out gratitude for the Divine Mystery…” \nJoin online: https://zoom.us/j/212677840 \nPassword: 944568 \nCall in/Audio only: +1 301 715 8592
URL:https://retreathousehillsboro.org/event/days-end-meditation-8-2-2-2-2/2027-01-13/
LOCATION:ZOOM
ATTACH;FMTTYPE=image/jpeg:https://retreathousehillsboro.org/wp-content/uploads/2025/01/arthur-poulin-NhU0nUR7920-unsplash-scaled.jpg
ORGANIZER;CN="The Retreat House":MAILTO:heather@retreathousehillsboro.org
END:VEVENT
BEGIN:VEVENT
DTSTART;TZID=America/New_York:20270114T171500
DTEND;TZID=America/New_York:20270114T174500
DTSTAMP:20260424T092853
CREATED:20251215T183509Z
LAST-MODIFIED:20260306T230127Z
UID:10010515-1799946900-1799948700@retreathousehillsboro.org
SUMMARY:Day's End Meditation
DESCRIPTION:  \nWherever you are\, listen\, breathe\, and be still.\n  \nMove peacefully into your evening each evening. \nWeekdays 5:15 – 5:45 p.m. EST \n  \n  \nFeel free to log in to hear a beautiful prayer or poem followed by just the right amount of quiet meditation time.  \nCome a few minutes early and say hello. \n  \n  \n“It has been a way to honor the shift in the demands of the day\, \nbreathing in God’s Love\, \nbreathing out gratitude for the Divine Mystery…” \nJoin online: https://zoom.us/j/212677840 \nPassword: 944568 \nCall in/Audio only: +1 301 715 8592
URL:https://retreathousehillsboro.org/event/days-end-meditation-8-2-2-2-2/2027-01-14/
LOCATION:ZOOM
ATTACH;FMTTYPE=image/jpeg:https://retreathousehillsboro.org/wp-content/uploads/2025/01/arthur-poulin-NhU0nUR7920-unsplash-scaled.jpg
ORGANIZER;CN="The Retreat House":MAILTO:heather@retreathousehillsboro.org
END:VEVENT
BEGIN:VEVENT
DTSTART;TZID=America/New_York:20270115T171500
DTEND;TZID=America/New_York:20270115T174500
DTSTAMP:20260424T092853
CREATED:20251215T183509Z
LAST-MODIFIED:20260306T230127Z
UID:10010516-1800033300-1800035100@retreathousehillsboro.org
SUMMARY:Day's End Meditation
DESCRIPTION:  \nWherever you are\, listen\, breathe\, and be still.\n  \nMove peacefully into your evening each evening. \nWeekdays 5:15 – 5:45 p.m. EST \n  \n  \nFeel free to log in to hear a beautiful prayer or poem followed by just the right amount of quiet meditation time.  \nCome a few minutes early and say hello. \n  \n  \n“It has been a way to honor the shift in the demands of the day\, \nbreathing in God’s Love\, \nbreathing out gratitude for the Divine Mystery…” \nJoin online: https://zoom.us/j/212677840 \nPassword: 944568 \nCall in/Audio only: +1 301 715 8592
URL:https://retreathousehillsboro.org/event/days-end-meditation-8-2-2-2-2/2027-01-15/
LOCATION:ZOOM
ATTACH;FMTTYPE=image/jpeg:https://retreathousehillsboro.org/wp-content/uploads/2025/01/arthur-poulin-NhU0nUR7920-unsplash-scaled.jpg
ORGANIZER;CN="The Retreat House":MAILTO:heather@retreathousehillsboro.org
END:VEVENT
END:VCALENDAR