BEGIN:VCALENDAR
VERSION:2.0
PRODID:-//The Retreat House at Hillsboro - ECPv6.15.20//NONSGML v1.0//EN
CALSCALE:GREGORIAN
METHOD:PUBLISH
X-ORIGINAL-URL:https://retreathousehillsboro.org
X-WR-CALDESC:Events for The Retreat House at Hillsboro
REFRESH-INTERVAL;VALUE=DURATION:PT1H
X-Robots-Tag:noindex
X-PUBLISHED-TTL:PT1H
BEGIN:VTIMEZONE
TZID:America/New_York
BEGIN:DAYLIGHT
TZOFFSETFROM:-0500
TZOFFSETTO:-0400
TZNAME:EDT
DTSTART:20250309T070000
END:DAYLIGHT
BEGIN:STANDARD
TZOFFSETFROM:-0400
TZOFFSETTO:-0500
TZNAME:EST
DTSTART:20251102T060000
END:STANDARD
BEGIN:DAYLIGHT
TZOFFSETFROM:-0500
TZOFFSETTO:-0400
TZNAME:EDT
DTSTART:20260308T070000
END:DAYLIGHT
BEGIN:STANDARD
TZOFFSETFROM:-0400
TZOFFSETTO:-0500
TZNAME:EST
DTSTART:20261101T060000
END:STANDARD
BEGIN:DAYLIGHT
TZOFFSETFROM:-0500
TZOFFSETTO:-0400
TZNAME:EDT
DTSTART:20270314T070000
END:DAYLIGHT
BEGIN:STANDARD
TZOFFSETFROM:-0400
TZOFFSETTO:-0500
TZNAME:EST
DTSTART:20271107T060000
END:STANDARD
END:VTIMEZONE
BEGIN:VEVENT
DTSTART;TZID=America/New_York:20260511T110000
DTEND;TZID=America/New_York:20260511T120000
DTSTAMP:20260423T181054
CREATED:20260324T135130Z
LAST-MODIFIED:20260324T135130Z
UID:10010549-1778497200-1778500800@retreathousehillsboro.org
SUMMARY:Prayer Gathering for Resilience in Community
DESCRIPTION:Please join us\nMonday –  May 11\, 2026\n\nfor  a\nPRAYER GATHERING FOR RESILIENCE IN COMMUNITY\nwith \nshort readings and poetry\n11:00 a.m. – 12:00 Noon EST on Zoom\n\n  \n\nWith our world in such a time of change\, we invite you to spend an hour among like-hearted people of prayer. We will gather on Zoom for a time of community and silent meditation. Join us to be together\, holding our hearts open to the Great Love of the Divine and listening deeply in the quiet for the guidance\, encouragement and love that we can all lean into as we start walking the long road into the unknown. We invite you to spend an hour among like-hearted people of prayer.  \nCome when you can\, leave when you must.  \nWe will be together from 11:00 a.m. to 12:00 noon EST.  \n\n\n  \n\n\nThe gift of your presence in the circle  \nwill mean so much to all who gather.  \n\n\n  \n  \n\n  \n  \n\n  \n\n\n\n\n\n\nJoin Zoom Meeting \nhttps://us06web.zoom.us/j/88042304235?pwd=5FQHU5soV0iUi67ginKAodIpAnlQEt.1 \nMeeting ID: 880 4230 4235 Passcode: 427539 \n—\nOne tap mobile\n+13017158592\,\,88042304235#\,\,\,\,*427539# US (Washington DC) +13052241968\,\,88042304235#\,\,\,\,*427539# US\n—\nDial by your location\n• +1 301 715 8592 US (Washington DC)\n• +1 305 224 1968 US\n• +1 309 205 3325 US\n• +1 312 626 6799 US (Chicago)\n• +1 646 931 3860 US\n• +1 929 205 6099 US (New York)\n• +1 507 473 4847 US\n• +1 564 217 2000 US\n• +1 669 444 9171 US\n• +1 669 900 6833 US (San Jose) \n\n\n \n\n\n\n\n\n\n• +1 689 278 1000 US\n• +1 719 359 4580 US\n• +1 253 205 0468 US\n• +1 253 215 8782 US (Tacoma) • +1 346 248 7799 US (Houston) • +1 360 209 5623 US \n• +1 386 347 5053 US\nMeeting ID: 880 4230 4235\nPasscode: 427539\nFind your local number: https://us06web.zoom.us/u/kouQUcrCs
URL:https://retreathousehillsboro.org/event/prayer-gathering-for-resilience-in-community-11/
LOCATION:ZOOM
ATTACH;FMTTYPE=image/jpeg:https://retreathousehillsboro.org/wp-content/uploads/2025/01/shane-rounce-DNkoNXQti3c-unsplash-1.jpg
END:VEVENT
BEGIN:VEVENT
DTSTART;TZID=America/New_York:20260511T120000
DTEND;TZID=America/New_York:20260511T130000
DTSTAMP:20260423T181054
CREATED:20250818T192630Z
LAST-MODIFIED:20260326T151032Z
UID:10010120-1778500800-1778504400@retreathousehillsboro.org
SUMMARY:Wisdom Café
DESCRIPTION:Wisdom Café\n\nAll are welcome to join in this Retreat House gathering –  the Wisdom Café\, held each Monday from 12:00-1:00 p.m. EST on Zoom. \n\nWe usually begin with an inspirational reading\, enjoy a bit of quiet time. Then we take turns sharing what bubbles up and listen to each other’s reflections. It’s an hour of friendly companionship–no commitment\, no charge. \n\n\nCome and go as you please!\n\nIf you would like to receive an email reminder on Monday mornings (which will include the zoom link) please sign up here.\n\nOtherwise please add the date to your calendar for the Wisdom Café on Mondays at 12 Noon. \nHere’s the Zoom link.
URL:https://retreathousehillsboro.org/event/wisdom-cafe-4-3/2026-05-11/
LOCATION:ZOOM
CATEGORIES:Retreats
ATTACH;FMTTYPE=image/png:https://retreathousehillsboro.org/wp-content/uploads/2020/04/Psalm23.png
END:VEVENT
BEGIN:VEVENT
DTSTART;TZID=America/New_York:20260511T171500
DTEND;TZID=America/New_York:20260511T174500
DTSTAMP:20260423T181054
CREATED:20251215T183509Z
LAST-MODIFIED:20260306T230127Z
UID:10010337-1778519700-1778521500@retreathousehillsboro.org
SUMMARY:Day's End Meditation
DESCRIPTION:  \nWherever you are\, listen\, breathe\, and be still.\n  \nMove peacefully into your evening each evening. \nWeekdays 5:15 – 5:45 p.m. EST \n  \n  \nFeel free to log in to hear a beautiful prayer or poem followed by just the right amount of quiet meditation time.  \nCome a few minutes early and say hello. \n  \n  \n“It has been a way to honor the shift in the demands of the day\, \nbreathing in God’s Love\, \nbreathing out gratitude for the Divine Mystery…” \nJoin online: https://zoom.us/j/212677840 \nPassword: 944568 \nCall in/Audio only: +1 301 715 8592
URL:https://retreathousehillsboro.org/event/days-end-meditation-8-2-2-2-2/2026-05-11/
LOCATION:ZOOM
ATTACH;FMTTYPE=image/jpeg:https://retreathousehillsboro.org/wp-content/uploads/2025/01/arthur-poulin-NhU0nUR7920-unsplash-scaled.jpg
ORGANIZER;CN="The Retreat House":MAILTO:heather@retreathousehillsboro.org
END:VEVENT
BEGIN:VEVENT
DTSTART;TZID=America/New_York:20260512T150000
DTEND;TZID=America/New_York:20260512T163000
DTSTAMP:20260423T181054
CREATED:20250718T222138Z
LAST-MODIFIED:20250722T114417Z
UID:10009998-1778598000-1778603400@retreathousehillsboro.org
SUMMARY:Gospel of Thomas - the mystical sayings of Jesus
DESCRIPTION:  \nGospel of Thomas\n\n\nTuesdays \nSeptember 9 – November 18 and December 2 – 16\n\n3:00 p.m. – 4:30 p.m.\nOn Zoom\n\n  \n  \nGather together as we explore and listen to the Gospel of Thomas. Each week we will prayerfully listen to one of Jesus’ sayings from this ancient source and take time to reflect upon what rises for each of us.\n\n\nWe ask for a suggested donation of $85. All of our programs are supported by donations. Whether you pay less\, or more to support another\, we are grateful. Please never let finances keep you from gathering. A Zoom link will be emailed before the start this circle.\nPlease register HERE.\n  \nMore about The Gospel of Thomas: \nThe Gospel of Thomas is one of the 52 texts discovered at Nag Hamadi in 1945 and represents some of the earliest Christian teachings. Many of the Nag Hamadi codices were initially classified as Gnostic\, a category that placed them outside of mainstream Christian thinking. \nIt is highly likely that The Gospel of Thomas was written before the four New Testament gospels. Stevan L. Davies\, Ph.D. is an influential author of 18 scholarly books and Professor of Religious Studies. He argues that the apparent independence of the ordering of sayings in Thomas from that of their parallels in the first three Gospels shows that Thomas was not evidently reliant upon the canonical gospels and probably predated them. \nThe Gospel of Thomas is very different in tone and structure from the four canonical Gospels. Unlike the Gospels in our Bibles\, it is not a narrative account of the life of Jesus; instead\, it consists of 114 sayings attributed to Jesus. \nScholars regard the Gospel of Thomas as one of the most important texts in understanding early Christianity outside the New Testament. A central theme of the Gospel of Thomas is that salvation comes through a mystical understanding and experience of the words of Jesus rather than through doctrines to believe in or sacraments to do.
URL:https://retreathousehillsboro.org/event/gospel-of-thomas-4/2026-05-12/
LOCATION:ZOOM
CATEGORIES:Meditation,Prayer Gatherings,Retreats
ATTACH;FMTTYPE=image/png:https://retreathousehillsboro.org/wp-content/uploads/2024/08/Thomas.png
ORGANIZER;CN="Heather Strang":MAILTO:heather@retreathousehillsboro.org
END:VEVENT
BEGIN:VEVENT
DTSTART;TZID=America/New_York:20260512T171500
DTEND;TZID=America/New_York:20260512T174500
DTSTAMP:20260423T181054
CREATED:20251215T183509Z
LAST-MODIFIED:20260306T230127Z
UID:10010338-1778606100-1778607900@retreathousehillsboro.org
SUMMARY:Day's End Meditation
DESCRIPTION:  \nWherever you are\, listen\, breathe\, and be still.\n  \nMove peacefully into your evening each evening. \nWeekdays 5:15 – 5:45 p.m. EST \n  \n  \nFeel free to log in to hear a beautiful prayer or poem followed by just the right amount of quiet meditation time.  \nCome a few minutes early and say hello. \n  \n  \n“It has been a way to honor the shift in the demands of the day\, \nbreathing in God’s Love\, \nbreathing out gratitude for the Divine Mystery…” \nJoin online: https://zoom.us/j/212677840 \nPassword: 944568 \nCall in/Audio only: +1 301 715 8592
URL:https://retreathousehillsboro.org/event/days-end-meditation-8-2-2-2-2/2026-05-12/
LOCATION:ZOOM
ATTACH;FMTTYPE=image/jpeg:https://retreathousehillsboro.org/wp-content/uploads/2025/01/arthur-poulin-NhU0nUR7920-unsplash-scaled.jpg
ORGANIZER;CN="The Retreat House":MAILTO:heather@retreathousehillsboro.org
END:VEVENT
BEGIN:VEVENT
DTSTART;TZID=America/New_York:20260513T171500
DTEND;TZID=America/New_York:20260513T174500
DTSTAMP:20260423T181054
CREATED:20251215T183509Z
LAST-MODIFIED:20260306T230127Z
UID:10010339-1778692500-1778694300@retreathousehillsboro.org
SUMMARY:Day's End Meditation
DESCRIPTION:  \nWherever you are\, listen\, breathe\, and be still.\n  \nMove peacefully into your evening each evening. \nWeekdays 5:15 – 5:45 p.m. EST \n  \n  \nFeel free to log in to hear a beautiful prayer or poem followed by just the right amount of quiet meditation time.  \nCome a few minutes early and say hello. \n  \n  \n“It has been a way to honor the shift in the demands of the day\, \nbreathing in God’s Love\, \nbreathing out gratitude for the Divine Mystery…” \nJoin online: https://zoom.us/j/212677840 \nPassword: 944568 \nCall in/Audio only: +1 301 715 8592
URL:https://retreathousehillsboro.org/event/days-end-meditation-8-2-2-2-2/2026-05-13/
LOCATION:ZOOM
ATTACH;FMTTYPE=image/jpeg:https://retreathousehillsboro.org/wp-content/uploads/2025/01/arthur-poulin-NhU0nUR7920-unsplash-scaled.jpg
ORGANIZER;CN="The Retreat House":MAILTO:heather@retreathousehillsboro.org
END:VEVENT
BEGIN:VEVENT
DTSTART;TZID=America/New_York:20260514T171500
DTEND;TZID=America/New_York:20260514T174500
DTSTAMP:20260423T181054
CREATED:20251215T183509Z
LAST-MODIFIED:20260306T230127Z
UID:10010340-1778778900-1778780700@retreathousehillsboro.org
SUMMARY:Day's End Meditation
DESCRIPTION:  \nWherever you are\, listen\, breathe\, and be still.\n  \nMove peacefully into your evening each evening. \nWeekdays 5:15 – 5:45 p.m. EST \n  \n  \nFeel free to log in to hear a beautiful prayer or poem followed by just the right amount of quiet meditation time.  \nCome a few minutes early and say hello. \n  \n  \n“It has been a way to honor the shift in the demands of the day\, \nbreathing in God’s Love\, \nbreathing out gratitude for the Divine Mystery…” \nJoin online: https://zoom.us/j/212677840 \nPassword: 944568 \nCall in/Audio only: +1 301 715 8592
URL:https://retreathousehillsboro.org/event/days-end-meditation-8-2-2-2-2/2026-05-14/
LOCATION:ZOOM
ATTACH;FMTTYPE=image/jpeg:https://retreathousehillsboro.org/wp-content/uploads/2025/01/arthur-poulin-NhU0nUR7920-unsplash-scaled.jpg
ORGANIZER;CN="The Retreat House":MAILTO:heather@retreathousehillsboro.org
END:VEVENT
BEGIN:VEVENT
DTSTART;TZID=America/New_York:20260515T171500
DTEND;TZID=America/New_York:20260515T174500
DTSTAMP:20260423T181054
CREATED:20251215T183509Z
LAST-MODIFIED:20260306T230127Z
UID:10010341-1778865300-1778867100@retreathousehillsboro.org
SUMMARY:Day's End Meditation
DESCRIPTION:  \nWherever you are\, listen\, breathe\, and be still.\n  \nMove peacefully into your evening each evening. \nWeekdays 5:15 – 5:45 p.m. EST \n  \n  \nFeel free to log in to hear a beautiful prayer or poem followed by just the right amount of quiet meditation time.  \nCome a few minutes early and say hello. \n  \n  \n“It has been a way to honor the shift in the demands of the day\, \nbreathing in God’s Love\, \nbreathing out gratitude for the Divine Mystery…” \nJoin online: https://zoom.us/j/212677840 \nPassword: 944568 \nCall in/Audio only: +1 301 715 8592
URL:https://retreathousehillsboro.org/event/days-end-meditation-8-2-2-2-2/2026-05-15/
LOCATION:ZOOM
ATTACH;FMTTYPE=image/jpeg:https://retreathousehillsboro.org/wp-content/uploads/2025/01/arthur-poulin-NhU0nUR7920-unsplash-scaled.jpg
ORGANIZER;CN="The Retreat House":MAILTO:heather@retreathousehillsboro.org
END:VEVENT
END:VCALENDAR