BEGIN:VCALENDAR
VERSION:2.0
PRODID:-//The Retreat House at Hillsboro - ECPv6.15.20//NONSGML v1.0//EN
CALSCALE:GREGORIAN
METHOD:PUBLISH
X-ORIGINAL-URL:https://retreathousehillsboro.org
X-WR-CALDESC:Events for The Retreat House at Hillsboro
REFRESH-INTERVAL;VALUE=DURATION:PT1H
X-Robots-Tag:noindex
X-PUBLISHED-TTL:PT1H
BEGIN:VTIMEZONE
TZID:America/New_York
BEGIN:DAYLIGHT
TZOFFSETFROM:-0500
TZOFFSETTO:-0400
TZNAME:EDT
DTSTART:20240310T070000
END:DAYLIGHT
BEGIN:STANDARD
TZOFFSETFROM:-0400
TZOFFSETTO:-0500
TZNAME:EST
DTSTART:20241103T060000
END:STANDARD
BEGIN:DAYLIGHT
TZOFFSETFROM:-0500
TZOFFSETTO:-0400
TZNAME:EDT
DTSTART:20250309T070000
END:DAYLIGHT
BEGIN:STANDARD
TZOFFSETFROM:-0400
TZOFFSETTO:-0500
TZNAME:EST
DTSTART:20251102T060000
END:STANDARD
BEGIN:DAYLIGHT
TZOFFSETFROM:-0500
TZOFFSETTO:-0400
TZNAME:EDT
DTSTART:20260308T070000
END:DAYLIGHT
BEGIN:STANDARD
TZOFFSETFROM:-0400
TZOFFSETTO:-0500
TZNAME:EST
DTSTART:20261101T060000
END:STANDARD
END:VTIMEZONE
BEGIN:VEVENT
DTSTART;TZID=America/New_York:20250611T150000
DTEND;TZID=America/New_York:20250723T163000
DTSTAMP:20260424T080341
CREATED:20250526T163351Z
LAST-MODIFIED:20250526T163443Z
UID:10009894-1749654000-1753288200@retreathousehillsboro.org
SUMMARY:Summer Book Circle - The Gospel of Mary Magdalene\, by Jean-Yves Leloup
DESCRIPTION:Summer Book Circle \nThe Gospel of Mary Magdalene\, by Jean-Yves Leloup \non Zoom \nWednesdays\, June 11 and 25; July 9 and 23 \n3:00 – 4:30 p.m. EST \n  \nGather together as we explore and reflect upon ‘The Gospel of Mary Magdalene’ explained and guided by Jean-Yves Leloup–theologian\, writer\, and translator of Greek and Coptic language texts. We will meet on Zoom on four Wednesdays from 3:00 – 4:30 p.m. EST:  June 11 and 25; July 9 and 23. \nA reading schedule and link will be sent to registrants. Or\, see the reading schedule below. Please order the book at our online Retreat House Book Shop\, or your favorite bookstore. There are links below. We look forward to seeing you! \n  \nRegister here: https://tinyurl.com/LeloupMM \n  \n  \n  \nHere are the pages that we will read before each gathering: \nJune 11 – the introduction and preface – through page 59 \nJune 25 – Pages 60 – 105 \nJuly 9 – Pages 106 – 157 \nJuly 23 – 158 – 176 \n  \nhttps://bookshop.org/p/books/the-gospel-of-mary-magdalene-jean-yves-leloup/9092236?aid=19040&ean=9780892819119&listref=community-favorites \nhttps://www.amazon.com/Gospel-Mary-Magdalene-Jean-Yves-Leloup/dp/0892819111/ref=asc_df_0892819111?mcid=8645abd7cecd399bb91b1a7672e12175&hvocijid=46915159769583499-0892819111-&hvexpln=73&tag=hyprod-20&linkCode=df0&hvadid=721245378154&hvpos=&hvnetw=g&hvrand=46915159769583499&hvpone=&hvptwo=&hvqmt=&hvdev=c&hvdvcmdl=&hvlocint=&hvlocphy=9051691&hvtargid=pla-2281435178818&psc=1 \n 
URL:https://retreathousehillsboro.org/event/summer-book-circle-the-gospel-of-mary-magdalene-by-jean-yves-leloup/
LOCATION:ZOOM
CATEGORIES:Book Circle
ATTACH;FMTTYPE=image/jpeg:https://retreathousehillsboro.org/wp-content/uploads/2025/05/81rrtyo5W2L._SL1500_.jpg
ORGANIZER;CN="Heather Strang":MAILTO:heather@retreathousehillsboro.org
END:VEVENT
BEGIN:VEVENT
DTSTART;TZID=America/New_York:20250630T120000
DTEND;TZID=America/New_York:20250630T130000
DTSTAMP:20260424T080341
CREATED:20241201T170752Z
LAST-MODIFIED:20250728T142707Z
UID:10007022-1751284800-1751288400@retreathousehillsboro.org
SUMMARY:Wisdom Café
DESCRIPTION:Wisdom Café\n\nAll are welcome to join in this Retreat House gathering –  the Wisdom Café\, held each Monday from 12:00-1:00 p.m. EST on Zoom. \n\nWe usually begin with an inspirational reading\, enjoy a bit of quiet time. Then we take turns sharing what bubbles up and listen to each other’s reflections. It’s an hour of friendly companionship–no commitment\, no charge. \n\n\nCome and go as you please!\n\nIf you would like to receive an email reminder on Monday mornings (which will include the zoom link) please sign up here.\n\nOtherwise please add the date to your calendar for the Wisdom Café on Mondays at 12 Noon. \nHere’s the Zoom link.
URL:https://retreathousehillsboro.org/event/wisdom-cafe-4/2025-06-30/
LOCATION:ZOOM
CATEGORIES:Retreats
ATTACH;FMTTYPE=image/png:https://retreathousehillsboro.org/wp-content/uploads/2020/04/Psalm23.png
END:VEVENT
BEGIN:VEVENT
DTSTART;TZID=America/New_York:20250630T171500
DTEND;TZID=America/New_York:20250630T174500
DTSTAMP:20260424T080341
CREATED:20250228T002742Z
LAST-MODIFIED:20250415T211147Z
UID:10009712-1751303700-1751305500@retreathousehillsboro.org
SUMMARY:Day's End Meditation
DESCRIPTION:Wherever you are\, listen\, breathe\, and be still.\n  \n  \n  \nMove peacefully into your evening each evening. \nWeekdays 5:15 – 5:45 p.m. EST \n  \n  \n  \n  \nFeel free to log in to hear a beautiful prayer or poem followed by just the right amount of quiet meditation time.  \nCome a few minutes early and say hello. \n  \n  \n“It has been a way to honor the shift in the demands of the day\, \nbreathing in God’s Love\, \nbreathing out gratitude for the Divine Mystery…” \n\nJoin online: https://zoom.us/j/212677840 \nPassword: 944568 \nCall in/Audio only: +1 301 715 8592
URL:https://retreathousehillsboro.org/event/days-end-meditation-8/2025-06-30/
LOCATION:The Retreat House\, 22005 Church Street\, Hillsboro\, MD\, 21641\, United States
ATTACH;FMTTYPE=image/jpeg:https://retreathousehillsboro.org/wp-content/uploads/2025/01/arthur-poulin-NhU0nUR7920-unsplash-scaled.jpg
GEO:38.914958;-75.94222
X-APPLE-STRUCTURED-LOCATION;VALUE=URI;X-ADDRESS=The Retreat House 22005 Church Street Hillsboro MD 21641 United States;X-APPLE-RADIUS=500;X-TITLE=22005 Church Street:geo:-75.94222,38.914958
END:VEVENT
BEGIN:VEVENT
DTSTART;TZID=America/New_York:20250701T171500
DTEND;TZID=America/New_York:20250701T174500
DTSTAMP:20260424T080341
CREATED:20250228T002742Z
LAST-MODIFIED:20250415T211147Z
UID:10009713-1751390100-1751391900@retreathousehillsboro.org
SUMMARY:Day's End Meditation
DESCRIPTION:Wherever you are\, listen\, breathe\, and be still.\n  \n  \n  \nMove peacefully into your evening each evening. \nWeekdays 5:15 – 5:45 p.m. EST \n  \n  \n  \n  \nFeel free to log in to hear a beautiful prayer or poem followed by just the right amount of quiet meditation time.  \nCome a few minutes early and say hello. \n  \n  \n“It has been a way to honor the shift in the demands of the day\, \nbreathing in God’s Love\, \nbreathing out gratitude for the Divine Mystery…” \n\nJoin online: https://zoom.us/j/212677840 \nPassword: 944568 \nCall in/Audio only: +1 301 715 8592
URL:https://retreathousehillsboro.org/event/days-end-meditation-8/2025-07-01/
LOCATION:The Retreat House\, 22005 Church Street\, Hillsboro\, MD\, 21641\, United States
ATTACH;FMTTYPE=image/jpeg:https://retreathousehillsboro.org/wp-content/uploads/2025/01/arthur-poulin-NhU0nUR7920-unsplash-scaled.jpg
GEO:38.914958;-75.94222
X-APPLE-STRUCTURED-LOCATION;VALUE=URI;X-ADDRESS=The Retreat House 22005 Church Street Hillsboro MD 21641 United States;X-APPLE-RADIUS=500;X-TITLE=22005 Church Street:geo:-75.94222,38.914958
END:VEVENT
BEGIN:VEVENT
DTSTART;TZID=America/New_York:20250702T171500
DTEND;TZID=America/New_York:20250702T174500
DTSTAMP:20260424T080341
CREATED:20250228T002742Z
LAST-MODIFIED:20250415T211147Z
UID:10009714-1751476500-1751478300@retreathousehillsboro.org
SUMMARY:Day's End Meditation
DESCRIPTION:Wherever you are\, listen\, breathe\, and be still.\n  \n  \n  \nMove peacefully into your evening each evening. \nWeekdays 5:15 – 5:45 p.m. EST \n  \n  \n  \n  \nFeel free to log in to hear a beautiful prayer or poem followed by just the right amount of quiet meditation time.  \nCome a few minutes early and say hello. \n  \n  \n“It has been a way to honor the shift in the demands of the day\, \nbreathing in God’s Love\, \nbreathing out gratitude for the Divine Mystery…” \n\nJoin online: https://zoom.us/j/212677840 \nPassword: 944568 \nCall in/Audio only: +1 301 715 8592
URL:https://retreathousehillsboro.org/event/days-end-meditation-8/2025-07-02/
LOCATION:The Retreat House\, 22005 Church Street\, Hillsboro\, MD\, 21641\, United States
ATTACH;FMTTYPE=image/jpeg:https://retreathousehillsboro.org/wp-content/uploads/2025/01/arthur-poulin-NhU0nUR7920-unsplash-scaled.jpg
GEO:38.914958;-75.94222
X-APPLE-STRUCTURED-LOCATION;VALUE=URI;X-ADDRESS=The Retreat House 22005 Church Street Hillsboro MD 21641 United States;X-APPLE-RADIUS=500;X-TITLE=22005 Church Street:geo:-75.94222,38.914958
END:VEVENT
BEGIN:VEVENT
DTSTART;TZID=America/New_York:20250703T171500
DTEND;TZID=America/New_York:20250703T174500
DTSTAMP:20260424T080341
CREATED:20250703T103632Z
LAST-MODIFIED:20250703T103632Z
UID:10009715-1751562900-1751564700@retreathousehillsboro.org
SUMMARY:Day's End Meditation
DESCRIPTION:We will take a pause\non Friday\, July 4th!\nSee you on Monday. . . \n\nWherever you are\, listen\, breathe\, and be still.\n  \nMove peacefully into your evening each evening. \nWeekdays 5:15 – 5:45 p.m. EST \n  \n  \n  \n  \nFeel free to log in to hear a beautiful prayer or poem followed by just the right amount of quiet meditation time.  \nCome a few minutes early and say hello. \n  \n  \n“It has been a way to honor the shift in the demands of the day\, \nbreathing in God’s Love\, \nbreathing out gratitude for the Divine Mystery…” \nJoin online: https://zoom.us/j/212677840 \nPassword: 944568 \nCall in/Audio only: +1 301 715 8592
URL:https://retreathousehillsboro.org/event/days-end-meditation-8-2/2025-07-03/
LOCATION:The Retreat House\, 22005 Church Street\, Hillsboro\, MD\, 21641\, United States
ATTACH;FMTTYPE=image/jpeg:https://retreathousehillsboro.org/wp-content/uploads/2025/01/arthur-poulin-NhU0nUR7920-unsplash-scaled.jpg
GEO:38.914958;-75.94222
X-APPLE-STRUCTURED-LOCATION;VALUE=URI;X-ADDRESS=The Retreat House 22005 Church Street Hillsboro MD 21641 United States;X-APPLE-RADIUS=500;X-TITLE=22005 Church Street:geo:-75.94222,38.914958
END:VEVENT
BEGIN:VEVENT
DTSTART;TZID=America/New_York:20250704T171500
DTEND;TZID=America/New_York:20250704T174500
DTSTAMP:20260424T080341
CREATED:20250703T103632Z
LAST-MODIFIED:20250703T103632Z
UID:10009716-1751649300-1751651100@retreathousehillsboro.org
SUMMARY:Day's End Meditation
DESCRIPTION:We will take a pause\non Friday\, July 4th!\nSee you on Monday. . . \n\nWherever you are\, listen\, breathe\, and be still.\n  \nMove peacefully into your evening each evening. \nWeekdays 5:15 – 5:45 p.m. EST \n  \n  \n  \n  \nFeel free to log in to hear a beautiful prayer or poem followed by just the right amount of quiet meditation time.  \nCome a few minutes early and say hello. \n  \n  \n“It has been a way to honor the shift in the demands of the day\, \nbreathing in God’s Love\, \nbreathing out gratitude for the Divine Mystery…” \nJoin online: https://zoom.us/j/212677840 \nPassword: 944568 \nCall in/Audio only: +1 301 715 8592
URL:https://retreathousehillsboro.org/event/days-end-meditation-8-2/2025-07-04/
LOCATION:The Retreat House\, 22005 Church Street\, Hillsboro\, MD\, 21641\, United States
ATTACH;FMTTYPE=image/jpeg:https://retreathousehillsboro.org/wp-content/uploads/2025/01/arthur-poulin-NhU0nUR7920-unsplash-scaled.jpg
GEO:38.914958;-75.94222
X-APPLE-STRUCTURED-LOCATION;VALUE=URI;X-ADDRESS=The Retreat House 22005 Church Street Hillsboro MD 21641 United States;X-APPLE-RADIUS=500;X-TITLE=22005 Church Street:geo:-75.94222,38.914958
END:VEVENT
END:VCALENDAR