BEGIN:VCALENDAR
VERSION:2.0
PRODID:-//The Retreat House at Hillsboro - ECPv6.15.20//NONSGML v1.0//EN
CALSCALE:GREGORIAN
METHOD:PUBLISH
X-WR-CALNAME:The Retreat House at Hillsboro
X-ORIGINAL-URL:https://retreathousehillsboro.org
X-WR-CALDESC:Events for The Retreat House at Hillsboro
REFRESH-INTERVAL;VALUE=DURATION:PT1H
X-Robots-Tag:noindex
X-PUBLISHED-TTL:PT1H
BEGIN:VTIMEZONE
TZID:America/New_York
BEGIN:DAYLIGHT
TZOFFSETFROM:-0500
TZOFFSETTO:-0400
TZNAME:EDT
DTSTART:20240310T070000
END:DAYLIGHT
BEGIN:STANDARD
TZOFFSETFROM:-0400
TZOFFSETTO:-0500
TZNAME:EST
DTSTART:20241103T060000
END:STANDARD
BEGIN:DAYLIGHT
TZOFFSETFROM:-0500
TZOFFSETTO:-0400
TZNAME:EDT
DTSTART:20250309T070000
END:DAYLIGHT
BEGIN:STANDARD
TZOFFSETFROM:-0400
TZOFFSETTO:-0500
TZNAME:EST
DTSTART:20251102T060000
END:STANDARD
BEGIN:DAYLIGHT
TZOFFSETFROM:-0500
TZOFFSETTO:-0400
TZNAME:EDT
DTSTART:20260308T070000
END:DAYLIGHT
BEGIN:STANDARD
TZOFFSETFROM:-0400
TZOFFSETTO:-0500
TZNAME:EST
DTSTART:20261101T060000
END:STANDARD
END:VTIMEZONE
BEGIN:VEVENT
DTSTART;TZID=America/New_York:20250120T110000
DTEND;TZID=America/New_York:20250120T120000
DTSTAMP:20260424T142627
CREATED:20250116T184801Z
LAST-MODIFIED:20250116T184801Z
UID:10007365-1737370800-1737374400@retreathousehillsboro.org
SUMMARY:COMMUNITY AND SILENT MEDITATION
DESCRIPTION:Please join us \nMonday\, January 20 \nfor an hour of  \nCOMMUNITY AND SILENT MEDITATION  \nwith  \nshort readings and poetry \n11:00 a.m. – 12:00 Noon EST on Zoom\n  \nOn a day of importance for our country and the world\,  \nwe invite you to spend an hour among like-hearted \npeople of prayer.  We will gather on Zoom for a time to be \ntogether\, holding our hearts open to the Great Love of the Divine  \nand listening deeply in the quiet for \nthe guidance\, encouragement and love  \nthat we can all lean into as we start walking \nthe long road into the unknown. \n  \nCome when you can\, leave when you must.  \nWe will be together from 11:00 a.m. to 12:00 noon EST. \n  \nThe gift of your presence in the circle  \nwill mean so much to all who gather.  \nJOIN HERE: \nTopic: Prayer Gathering for 1-20-2025\nTime: Jan 20\, 2025 11:00 AM Eastern Time (US and Canada)\n\nJoin Zoom Meeting\nhttps://us06web.zoom.us/j/81615556563?pwd=poDeiCjoI8mZbfuro6g5kdNEYstAo9.1\n\nMeeting ID: 816 1555 6563\nPasscode: 046415\n—\nOne tap mobile\n+13017158592\,\,81615556563#\,\,\,\,*046415# US (Washington DC)\n+13126266799\,\,81615556563#\,\,\,\,*046415# US (Chicago)\n—\nDial by your location\n• +1 301 715 8592 US (Washington DC)\n• +1 312 626 6799 US (Chicago)\n• +1 646 931 3860 US\n• +1 929 205 6099 US (New York)\n• +1 305 224 1968 US\n• +1 309 205 3325 US\n• +1 689 278 1000 US\n• +1 719 359 4580 US\n• +1 253 205 0468 US\n• +1 253 215 8782 US (Tacoma)\n• +1 346 248 7799 US (Houston)\n• +1 360 209 5623 US\n• +1 386 347 5053 US\n• +1 507 473 4847 US\n• +1 564 217 2000 US\n• +1 669 444 9171 US\n• +1 669 900 6833 US (San Jose)\n\nMeeting ID: 816 1555 6563\nPasscode: 046415\n\nFind your local number: https://us06web.zoom.us/u/kVdrcjbt0
URL:https://retreathousehillsboro.org/event/community-and-silent-meditation/
LOCATION:ZOOM
ATTACH;FMTTYPE=image/jpeg:https://retreathousehillsboro.org/wp-content/uploads/2025/01/arthur-poulin-NhU0nUR7920-unsplash-scaled.jpg
ORGANIZER;CN="Heather Strang":MAILTO:heather@retreathousehillsboro.org
END:VEVENT
BEGIN:VEVENT
DTSTART;TZID=America/New_York:20250120T120000
DTEND;TZID=America/New_York:20250120T130000
DTSTAMP:20260424T142627
CREATED:20241201T170752Z
LAST-MODIFIED:20250728T142707Z
UID:10006999-1737374400-1737378000@retreathousehillsboro.org
SUMMARY:Wisdom Café
DESCRIPTION:Wisdom Café\n\nAll are welcome to join in this Retreat House gathering –  the Wisdom Café\, held each Monday from 12:00-1:00 p.m. EST on Zoom. \n\nWe usually begin with an inspirational reading\, enjoy a bit of quiet time. Then we take turns sharing what bubbles up and listen to each other’s reflections. It’s an hour of friendly companionship–no commitment\, no charge. \n\n\nCome and go as you please!\n\nIf you would like to receive an email reminder on Monday mornings (which will include the zoom link) please sign up here.\n\nOtherwise please add the date to your calendar for the Wisdom Café on Mondays at 12 Noon. \nHere’s the Zoom link.
URL:https://retreathousehillsboro.org/event/wisdom-cafe-4/2025-01-20/
LOCATION:ZOOM
CATEGORIES:Retreats
ATTACH;FMTTYPE=image/png:https://retreathousehillsboro.org/wp-content/uploads/2020/04/Psalm23.png
END:VEVENT
BEGIN:VEVENT
DTSTART;TZID=America/New_York:20250121T190000
DTEND;TZID=America/New_York:20250121T200000
DTSTAMP:20260424T142627
CREATED:20240828T162200Z
LAST-MODIFIED:20241227T153110Z
UID:10007071-1737486000-1737489600@retreathousehillsboro.org
SUMMARY:The Well
DESCRIPTION:Gather with us for this online community of prayerful listening to scripture for the upcoming Sunday lectionary readings\, and listening to one another.\n\n\n  \nThis event is brought to you by the department of Lifelong Learning at Virginia Theological Seminary in partnership with The Retreat House. \nThis drop-in Tuesday evening gathering will meet online via Zoom\, from 7:00-8:00 p.m. eastern from Oct 1\, 2024 – Jun 17\, 2025 (with some Tuesdays off – see below.) Register once for the entire season\, regardless of when you can make it! \nThe Well is a time to gather in community online\, as you are able\, to share stories – the stories of scripture and the stories of participants’ own lives. Through time together – in prayer\, in listening\, in open-heartedness – participants are invited to get to know one another. Through prayerful listening to scripture (lectio divina) and authentic sharing\, participants will be drawn closer to each other\, to themselves\, and to God. \nThe Well will be led on Zoom by the spiritual directors of the Retreat House at Hillsboro\, under the coordination of Director Francie Thayer. Although this program occurs weekly\, feel free to treat it as a “drop in”\, attending as often as you are able. We will send weekly reminders with the Zoom link to the unrecorded online meeting\, making it easy to drop in! \n  \n\nFor more info and to register: https://the-well-2024-2025.eventbrite.com \n\nWe will not be meeting the following Tuesdays\, due to holidays\, etc.: \n\n11/26/24\n12/24/24 and 12/31/24\n3/4/25\n\n\n\n\n\n\n\n \n  \nPhoto by mrjn photography. Unsplash.com.
URL:https://retreathousehillsboro.org/event/the-well-2/2025-01-21/
LOCATION:The Retreat House\, 22005 Church Street\, Hillsboro\, MD\, 21641\, United States
CATEGORIES:Community Voice,Prayer Gatherings
ATTACH;FMTTYPE=image/jpeg:https://retreathousehillsboro.org/wp-content/uploads/2024/08/mrjn-photography-YpZ2cj4s0oo-unsplash-1-scaled.jpg
GEO:38.914958;-75.94222
X-APPLE-STRUCTURED-LOCATION;VALUE=URI;X-ADDRESS=The Retreat House 22005 Church Street Hillsboro MD 21641 United States;X-APPLE-RADIUS=500;X-TITLE=22005 Church Street:geo:-75.94222,38.914958
END:VEVENT
END:VCALENDAR