BEGIN:VCALENDAR
VERSION:2.0
PRODID:-//The Retreat House at Hillsboro - ECPv6.15.20//NONSGML v1.0//EN
CALSCALE:GREGORIAN
METHOD:PUBLISH
X-WR-CALNAME:The Retreat House at Hillsboro
X-ORIGINAL-URL:https://retreathousehillsboro.org
X-WR-CALDESC:Events for The Retreat House at Hillsboro
REFRESH-INTERVAL;VALUE=DURATION:PT1H
X-Robots-Tag:noindex
X-PUBLISHED-TTL:PT1H
BEGIN:VTIMEZONE
TZID:America/New_York
BEGIN:DAYLIGHT
TZOFFSETFROM:-0500
TZOFFSETTO:-0400
TZNAME:EDT
DTSTART:20230312T070000
END:DAYLIGHT
BEGIN:STANDARD
TZOFFSETFROM:-0400
TZOFFSETTO:-0500
TZNAME:EST
DTSTART:20231105T060000
END:STANDARD
BEGIN:DAYLIGHT
TZOFFSETFROM:-0500
TZOFFSETTO:-0400
TZNAME:EDT
DTSTART:20240310T070000
END:DAYLIGHT
BEGIN:STANDARD
TZOFFSETFROM:-0400
TZOFFSETTO:-0500
TZNAME:EST
DTSTART:20241103T060000
END:STANDARD
BEGIN:DAYLIGHT
TZOFFSETFROM:-0500
TZOFFSETTO:-0400
TZNAME:EDT
DTSTART:20250309T070000
END:DAYLIGHT
BEGIN:STANDARD
TZOFFSETFROM:-0400
TZOFFSETTO:-0500
TZNAME:EST
DTSTART:20251102T060000
END:STANDARD
BEGIN:DAYLIGHT
TZOFFSETFROM:-0500
TZOFFSETTO:-0400
TZNAME:EDT
DTSTART:20260308T070000
END:DAYLIGHT
BEGIN:STANDARD
TZOFFSETFROM:-0400
TZOFFSETTO:-0500
TZNAME:EST
DTSTART:20261101T060000
END:STANDARD
END:VTIMEZONE
BEGIN:VEVENT
DTSTART;TZID=America/New_York:20241230T120000
DTEND;TZID=America/New_York:20241230T130000
DTSTAMP:20260424T155252
CREATED:20241201T170752Z
LAST-MODIFIED:20250728T142707Z
UID:10006996-1735560000-1735563600@retreathousehillsboro.org
SUMMARY:Wisdom Café
DESCRIPTION:Wisdom Café\n\nAll are welcome to join in this Retreat House gathering –  the Wisdom Café\, held each Monday from 12:00-1:00 p.m. EST on Zoom. \n\nWe usually begin with an inspirational reading\, enjoy a bit of quiet time. Then we take turns sharing what bubbles up and listen to each other’s reflections. It’s an hour of friendly companionship–no commitment\, no charge. \n\n\nCome and go as you please!\n\nIf you would like to receive an email reminder on Monday mornings (which will include the zoom link) please sign up here.\n\nOtherwise please add the date to your calendar for the Wisdom Café on Mondays at 12 Noon. \nHere’s the Zoom link.
URL:https://retreathousehillsboro.org/event/wisdom-cafe-4/2024-12-30/
LOCATION:ZOOM
CATEGORIES:Retreats
ATTACH;FMTTYPE=image/png:https://retreathousehillsboro.org/wp-content/uploads/2020/04/Psalm23.png
END:VEVENT
BEGIN:VEVENT
DTSTART;TZID=America/New_York:20241231T190000
DTEND;TZID=America/New_York:20241231T200000
DTSTAMP:20260424T155252
CREATED:20240828T162200Z
LAST-MODIFIED:20241227T153110Z
UID:10007068-1735671600-1735675200@retreathousehillsboro.org
SUMMARY:The Well
DESCRIPTION:Gather with us for this online community of prayerful listening to scripture for the upcoming Sunday lectionary readings\, and listening to one another.\n\n\n  \nThis event is brought to you by the department of Lifelong Learning at Virginia Theological Seminary in partnership with The Retreat House. \nThis drop-in Tuesday evening gathering will meet online via Zoom\, from 7:00-8:00 p.m. eastern from Oct 1\, 2024 – Jun 17\, 2025 (with some Tuesdays off – see below.) Register once for the entire season\, regardless of when you can make it! \nThe Well is a time to gather in community online\, as you are able\, to share stories – the stories of scripture and the stories of participants’ own lives. Through time together – in prayer\, in listening\, in open-heartedness – participants are invited to get to know one another. Through prayerful listening to scripture (lectio divina) and authentic sharing\, participants will be drawn closer to each other\, to themselves\, and to God. \nThe Well will be led on Zoom by the spiritual directors of the Retreat House at Hillsboro\, under the coordination of Director Francie Thayer. Although this program occurs weekly\, feel free to treat it as a “drop in”\, attending as often as you are able. We will send weekly reminders with the Zoom link to the unrecorded online meeting\, making it easy to drop in! \n  \n\nFor more info and to register: https://the-well-2024-2025.eventbrite.com \n\nWe will not be meeting the following Tuesdays\, due to holidays\, etc.: \n\n11/26/24\n12/24/24 and 12/31/24\n3/4/25\n\n\n\n\n\n\n\n \n  \nPhoto by mrjn photography. Unsplash.com.
URL:https://retreathousehillsboro.org/event/the-well-2/2024-12-31/
LOCATION:The Retreat House\, 22005 Church Street\, Hillsboro\, MD\, 21641\, United States
CATEGORIES:Community Voice,Prayer Gatherings
ATTACH;FMTTYPE=image/jpeg:https://retreathousehillsboro.org/wp-content/uploads/2024/08/mrjn-photography-YpZ2cj4s0oo-unsplash-1-scaled.jpg
GEO:38.914958;-75.94222
X-APPLE-STRUCTURED-LOCATION;VALUE=URI;X-ADDRESS=The Retreat House 22005 Church Street Hillsboro MD 21641 United States;X-APPLE-RADIUS=500;X-TITLE=22005 Church Street:geo:-75.94222,38.914958
END:VEVENT
BEGIN:VEVENT
DTSTART;TZID=America/New_York:20250104T093000
DTEND;TZID=America/New_York:20250104T150000
DTSTAMP:20260424T155252
CREATED:20241125T165508Z
LAST-MODIFIED:20241209T163114Z
UID:10006937-1735983000-1736002800@retreathousehillsboro.org
SUMMARY:Women's Christmas
DESCRIPTION:Women’s Christmas\nJanuary 4\, 2025\n9:30 a.m. – 3:00 p.m.\nheld at\nThe Foehliage\, Galena\, Maryland\n  \n  \n  \nThe celebration of Women’s Christmas is an invitation to rest\, Give yourself this special time to refresh your spirit and restore in the company of other women. We’ll sink into this restorative day as a celebration of Celtic Women’s Christmas\, an ancient and time-honored tradition of Celtic spirituality shared at the Feast of Epiphany. In our day\, it is a day set aside for women to gather\, to be in community with each other\, and to rest and refill after a busy holiday season.  \nJoin us on Saturday January 4\, 2025 for this time of rest in the Divine God. Through poetry\, song\, time outdoors (weather permitting) and quiet reflection we will refresh our spirits by learning a bit about the Celtic tradition and resting in the Love of God and in the loving community gathered for the day. \nCeltic spirituality is embodied in the voices of Celtic poets and singers\, such as John Phillip Newell\, John O’Donohue\, Padraig O’Tuama\, and Celtic Woman. Please join us to honor these voices\, rest\, and immerse yourself in nature. \nWe will enjoy a light breakfast\, a wholesome lunch\, and the opportunity to enjoy the riverside beauty in our midst and immerse ourselves in nature. \nRegister here: https://tinyurl.com/REST-XMAS
URL:https://retreathousehillsboro.org/event/womens-christmas-5/
LOCATION:Foehliage Retreat Center\, 31450 Sassafras River Ave\, Galena\, MD\, 21635
CATEGORIES:Quiet Day,Retreats
ATTACH;FMTTYPE=image/png:https://retreathousehillsboro.org/wp-content/uploads/2021/12/Screen-Shot-2021-12-09-at-10.56.58-AM.png
END:VEVENT
END:VCALENDAR