BEGIN:VCALENDAR
VERSION:2.0
PRODID:-//The Retreat House at Hillsboro - ECPv6.15.20//NONSGML v1.0//EN
CALSCALE:GREGORIAN
METHOD:PUBLISH
X-WR-CALNAME:The Retreat House at Hillsboro
X-ORIGINAL-URL:https://retreathousehillsboro.org
X-WR-CALDESC:Events for The Retreat House at Hillsboro
REFRESH-INTERVAL;VALUE=DURATION:PT1H
X-Robots-Tag:noindex
X-PUBLISHED-TTL:PT1H
BEGIN:VTIMEZONE
TZID:America/New_York
BEGIN:DAYLIGHT
TZOFFSETFROM:-0500
TZOFFSETTO:-0400
TZNAME:EDT
DTSTART:20220313T070000
END:DAYLIGHT
BEGIN:STANDARD
TZOFFSETFROM:-0400
TZOFFSETTO:-0500
TZNAME:EST
DTSTART:20221106T060000
END:STANDARD
BEGIN:DAYLIGHT
TZOFFSETFROM:-0500
TZOFFSETTO:-0400
TZNAME:EDT
DTSTART:20230312T070000
END:DAYLIGHT
BEGIN:STANDARD
TZOFFSETFROM:-0400
TZOFFSETTO:-0500
TZNAME:EST
DTSTART:20231105T060000
END:STANDARD
BEGIN:DAYLIGHT
TZOFFSETFROM:-0500
TZOFFSETTO:-0400
TZNAME:EDT
DTSTART:20240310T070000
END:DAYLIGHT
BEGIN:STANDARD
TZOFFSETFROM:-0400
TZOFFSETTO:-0500
TZNAME:EST
DTSTART:20241103T060000
END:STANDARD
BEGIN:DAYLIGHT
TZOFFSETFROM:-0500
TZOFFSETTO:-0400
TZNAME:EDT
DTSTART:20250309T070000
END:DAYLIGHT
BEGIN:STANDARD
TZOFFSETFROM:-0400
TZOFFSETTO:-0500
TZNAME:EST
DTSTART:20251102T060000
END:STANDARD
END:VTIMEZONE
BEGIN:VEVENT
DTSTART;TZID=America/New_York:20230807T120000
DTEND;TZID=America/New_York:20240902T130000
DTSTAMP:20260425T071922
CREATED:20230804T130402Z
LAST-MODIFIED:20240928T194145Z
UID:10006214-1691409600-1725282000@retreathousehillsboro.org
SUMMARY:Wisdom Café
DESCRIPTION:All are welcome to join in this Retreat House gathering –  the Wisdom Café\, held each Monday from 12:00-1:00 p.m. on Zoom. \n\n\nWe usually begin with an inspirational reading\, enjoy a bit of quiet time. Then we take turns sharing what bubbles up and listen to each other’s reflections. It’s an hour of friendly companionship–no commitment\, no charge.\n\nCome and go as you please!\n\n\nIf you would like to receive an email reminder on Monday mornings (which will include the zoom link) please sign up here.\n\nOtherwise please add the date to your calendar for the Wisdom Café on Mondays at 12 Noon. \n\nHere’s the Zoom link.
URL:https://retreathousehillsboro.org/event/wisdom-cafe-2/2023-08-07/
LOCATION:ZOOM
ORGANIZER;CN="Heather Strang":MAILTO:heather@retreathousehillsboro.org
END:VEVENT
BEGIN:VEVENT
DTSTART;TZID=America/New_York:20230814T120000
DTEND;TZID=America/New_York:20240909T130000
DTSTAMP:20260425T071922
CREATED:20230804T130402Z
LAST-MODIFIED:20240928T194145Z
UID:10006215-1692014400-1725886800@retreathousehillsboro.org
SUMMARY:Wisdom Café
DESCRIPTION:All are welcome to join in this Retreat House gathering –  the Wisdom Café\, held each Monday from 12:00-1:00 p.m. on Zoom. \n\n\nWe usually begin with an inspirational reading\, enjoy a bit of quiet time. Then we take turns sharing what bubbles up and listen to each other’s reflections. It’s an hour of friendly companionship–no commitment\, no charge.\n\nCome and go as you please!\n\n\nIf you would like to receive an email reminder on Monday mornings (which will include the zoom link) please sign up here.\n\nOtherwise please add the date to your calendar for the Wisdom Café on Mondays at 12 Noon. \n\nHere’s the Zoom link.
URL:https://retreathousehillsboro.org/event/wisdom-cafe-2/2023-08-14/
LOCATION:ZOOM
ORGANIZER;CN="Heather Strang":MAILTO:heather@retreathousehillsboro.org
END:VEVENT
BEGIN:VEVENT
DTSTART;TZID=America/New_York:20230821T120000
DTEND;TZID=America/New_York:20240916T130000
DTSTAMP:20260425T071922
CREATED:20230804T130402Z
LAST-MODIFIED:20240928T194145Z
UID:10006216-1692619200-1726491600@retreathousehillsboro.org
SUMMARY:Wisdom Café
DESCRIPTION:All are welcome to join in this Retreat House gathering –  the Wisdom Café\, held each Monday from 12:00-1:00 p.m. on Zoom. \n\n\nWe usually begin with an inspirational reading\, enjoy a bit of quiet time. Then we take turns sharing what bubbles up and listen to each other’s reflections. It’s an hour of friendly companionship–no commitment\, no charge.\n\nCome and go as you please!\n\n\nIf you would like to receive an email reminder on Monday mornings (which will include the zoom link) please sign up here.\n\nOtherwise please add the date to your calendar for the Wisdom Café on Mondays at 12 Noon. \n\nHere’s the Zoom link.
URL:https://retreathousehillsboro.org/event/wisdom-cafe-2/2023-08-21/
LOCATION:ZOOM
ORGANIZER;CN="Heather Strang":MAILTO:heather@retreathousehillsboro.org
END:VEVENT
BEGIN:VEVENT
DTSTART;TZID=America/New_York:20230828T120000
DTEND;TZID=America/New_York:20240923T130000
DTSTAMP:20260425T071922
CREATED:20230804T130402Z
LAST-MODIFIED:20240928T194145Z
UID:10006217-1693224000-1727096400@retreathousehillsboro.org
SUMMARY:Wisdom Café
DESCRIPTION:All are welcome to join in this Retreat House gathering –  the Wisdom Café\, held each Monday from 12:00-1:00 p.m. on Zoom. \n\n\nWe usually begin with an inspirational reading\, enjoy a bit of quiet time. Then we take turns sharing what bubbles up and listen to each other’s reflections. It’s an hour of friendly companionship–no commitment\, no charge.\n\nCome and go as you please!\n\n\nIf you would like to receive an email reminder on Monday mornings (which will include the zoom link) please sign up here.\n\nOtherwise please add the date to your calendar for the Wisdom Café on Mondays at 12 Noon. \n\nHere’s the Zoom link.
URL:https://retreathousehillsboro.org/event/wisdom-cafe-2/2023-08-28/
LOCATION:ZOOM
ORGANIZER;CN="Heather Strang":MAILTO:heather@retreathousehillsboro.org
END:VEVENT
BEGIN:VEVENT
DTSTART;TZID=America/New_York:20240219T171500
DTEND;TZID=America/New_York:20240219T174500
DTSTAMP:20260425T071922
CREATED:20231221T150913Z
LAST-MODIFIED:20231221T152044Z
UID:10006440-1708362900-1708364700@retreathousehillsboro.org
SUMMARY:Day's End Meditation
DESCRIPTION:Listen\, breathe\, and be still. Move peacefully into your evening with us each weekday evening. \nCome and go as you please!\n  \nWeekdays 5:15 – 5:45 p.m. \nJoin online: https://zoom.us/j/212677840\n\n\n  \nPassword: 944568\nCall in/Audio only: +1 301 715 8592
URL:https://retreathousehillsboro.org/event/days-end-meditation/2024-02-19/
LOCATION:ZOOM
END:VEVENT
BEGIN:VEVENT
DTSTART;TZID=America/New_York:20240220T171500
DTEND;TZID=America/New_York:20240220T174500
DTSTAMP:20260425T071922
CREATED:20231221T150913Z
LAST-MODIFIED:20231221T152044Z
UID:10006441-1708449300-1708451100@retreathousehillsboro.org
SUMMARY:Day's End Meditation
DESCRIPTION:Listen\, breathe\, and be still. Move peacefully into your evening with us each weekday evening. \nCome and go as you please!\n  \nWeekdays 5:15 – 5:45 p.m. \nJoin online: https://zoom.us/j/212677840\n\n\n  \nPassword: 944568\nCall in/Audio only: +1 301 715 8592
URL:https://retreathousehillsboro.org/event/days-end-meditation/2024-02-20/
LOCATION:ZOOM
END:VEVENT
BEGIN:VEVENT
DTSTART;TZID=America/New_York:20240220T194500
DTEND;TZID=America/New_York:20240220T204500
DTSTAMP:20260425T071922
CREATED:20240215T144523Z
LAST-MODIFIED:20240215T145030Z
UID:10006674-1708458300-1708461900@retreathousehillsboro.org
SUMMARY:The Well - a time to gather in community online
DESCRIPTION:The Well is a time to gather in community online\, as you are able\, to share stories—the stories of scripture and the stories of participants own lives. Through time together—in prayer\, in listening\, in open-heartedness—participants are invited to get to know one another. Through prayerful listening to scripture (lectio divina) and authentic sharing\, participants will be drawn closer to each other\, to themselves\, and to God. \nJoin us for an hour in this wonderful space to nourish your Lenten journey. We will gather on Zoom at 7:45 p.m. EST beginning on Tuesday\, February 20 and continuing until March 26. Simply register here: https://the-well-2024.eventbrite.com. Although this program occurs weekly\, feel free to treat it as a “drop-in\,” attending as often as you are able. This offering is shared gratefully in collaboration with our friends at Lifelong Learning at Virginia Theological Seminary.
URL:https://retreathousehillsboro.org/event/the-well/2024-02-20/
LOCATION:ZOOM
CATEGORIES:Meditation,Prayer Gatherings,Retreats
ATTACH;FMTTYPE=image/jpeg:https://retreathousehillsboro.org/wp-content/uploads/2022/07/17cac41e-d53d-43b2-b24c-a8ffcee8d0ec.jpeg
ORGANIZER;CN="Heather Strang":MAILTO:heather@retreathousehillsboro.org
END:VEVENT
BEGIN:VEVENT
DTSTART;TZID=America/New_York:20240221T171500
DTEND;TZID=America/New_York:20240221T174500
DTSTAMP:20260425T071922
CREATED:20231221T150913Z
LAST-MODIFIED:20231221T152044Z
UID:10006442-1708535700-1708537500@retreathousehillsboro.org
SUMMARY:Day's End Meditation
DESCRIPTION:Listen\, breathe\, and be still. Move peacefully into your evening with us each weekday evening. \nCome and go as you please!\n  \nWeekdays 5:15 – 5:45 p.m. \nJoin online: https://zoom.us/j/212677840\n\n\n  \nPassword: 944568\nCall in/Audio only: +1 301 715 8592
URL:https://retreathousehillsboro.org/event/days-end-meditation/2024-02-21/
LOCATION:ZOOM
END:VEVENT
BEGIN:VEVENT
DTSTART;TZID=America/New_York:20240222T171500
DTEND;TZID=America/New_York:20240222T174500
DTSTAMP:20260425T071922
CREATED:20231221T150913Z
LAST-MODIFIED:20231221T152044Z
UID:10006443-1708622100-1708623900@retreathousehillsboro.org
SUMMARY:Day's End Meditation
DESCRIPTION:Listen\, breathe\, and be still. Move peacefully into your evening with us each weekday evening. \nCome and go as you please!\n  \nWeekdays 5:15 – 5:45 p.m. \nJoin online: https://zoom.us/j/212677840\n\n\n  \nPassword: 944568\nCall in/Audio only: +1 301 715 8592
URL:https://retreathousehillsboro.org/event/days-end-meditation/2024-02-22/
LOCATION:ZOOM
END:VEVENT
BEGIN:VEVENT
DTSTART;TZID=America/New_York:20240223T171500
DTEND;TZID=America/New_York:20240223T174500
DTSTAMP:20260425T071922
CREATED:20231221T150913Z
LAST-MODIFIED:20231221T152044Z
UID:10006444-1708708500-1708710300@retreathousehillsboro.org
SUMMARY:Day's End Meditation
DESCRIPTION:Listen\, breathe\, and be still. Move peacefully into your evening with us each weekday evening. \nCome and go as you please!\n  \nWeekdays 5:15 – 5:45 p.m. \nJoin online: https://zoom.us/j/212677840\n\n\n  \nPassword: 944568\nCall in/Audio only: +1 301 715 8592
URL:https://retreathousehillsboro.org/event/days-end-meditation/2024-02-23/
LOCATION:ZOOM
END:VEVENT
BEGIN:VEVENT
DTSTART;TZID=America/New_York:20240224T110000
DTEND;TZID=America/New_York:20240224T150000
DTSTAMP:20260425T071922
CREATED:20240109T221242Z
LAST-MODIFIED:20240222T122121Z
UID:10006666-1708772400-1708786800@retreathousehillsboro.org
SUMMARY:Black History and Arts Celebration
DESCRIPTION:Join us\, friends\, for this joyful and collaborative day of celebration of black artists and black history. Learn more about this vibrant Caroline Arts event here: https://carolinearts.org/\nThe Retreat House will be there in the poetry corner with friends from Caroline County Public Schools\, holding space for expressive storytelling. We hope you will join us on this day of creative expression. Come and tell your story\, read the poetry of a favorite black artist\, or celebrate by listening.\nLearn more about how to participate here: https://carolinearts.org/call-for-poets/\n  \n \nGroove to the beats of Teran as he serenades us throughout the day! \nThroughout the Event: \n\nIndulge your taste buds with delicious offerings from Royal T Catering.\nEngage in the interactive “Art Ball” Activity hosted by Mizzlehouse Foundation and Not a Phase Clothing.\nExplore the rich cultural heritage displayed by the Sankofa Bus with Chesapeake Heartland Foundation.
URL:https://retreathousehillsboro.org/event/black-history-and-arts-celebration/
LOCATION:Caroline Arts\, 401 MARKET ST\, DENTON\, MD\, 21629\, United States
CATEGORIES:Arts,Spoken Word Event
ATTACH;FMTTYPE=image/png:https://retreathousehillsboro.org/wp-content/uploads/2024/01/BHAC-Facebook.png
ORGANIZER;CN="Heather Strang":MAILTO:heather@retreathousehillsboro.org
END:VEVENT
END:VCALENDAR