BEGIN:VCALENDAR
VERSION:2.0
PRODID:-//The Retreat House at Hillsboro - ECPv6.15.20//NONSGML v1.0//EN
CALSCALE:GREGORIAN
METHOD:PUBLISH
X-WR-CALNAME:The Retreat House at Hillsboro
X-ORIGINAL-URL:https://retreathousehillsboro.org
X-WR-CALDESC:Events for The Retreat House at Hillsboro
REFRESH-INTERVAL;VALUE=DURATION:PT1H
X-Robots-Tag:noindex
X-PUBLISHED-TTL:PT1H
BEGIN:VTIMEZONE
TZID:America/New_York
BEGIN:DAYLIGHT
TZOFFSETFROM:-0500
TZOFFSETTO:-0400
TZNAME:EDT
DTSTART:20220313T070000
END:DAYLIGHT
BEGIN:STANDARD
TZOFFSETFROM:-0400
TZOFFSETTO:-0500
TZNAME:EST
DTSTART:20221106T060000
END:STANDARD
BEGIN:DAYLIGHT
TZOFFSETFROM:-0500
TZOFFSETTO:-0400
TZNAME:EDT
DTSTART:20230312T070000
END:DAYLIGHT
BEGIN:STANDARD
TZOFFSETFROM:-0400
TZOFFSETTO:-0500
TZNAME:EST
DTSTART:20231105T060000
END:STANDARD
BEGIN:DAYLIGHT
TZOFFSETFROM:-0500
TZOFFSETTO:-0400
TZNAME:EDT
DTSTART:20240310T070000
END:DAYLIGHT
BEGIN:STANDARD
TZOFFSETFROM:-0400
TZOFFSETTO:-0500
TZNAME:EST
DTSTART:20241103T060000
END:STANDARD
BEGIN:DAYLIGHT
TZOFFSETFROM:-0500
TZOFFSETTO:-0400
TZNAME:EDT
DTSTART:20250309T070000
END:DAYLIGHT
BEGIN:STANDARD
TZOFFSETFROM:-0400
TZOFFSETTO:-0500
TZNAME:EST
DTSTART:20251102T060000
END:STANDARD
END:VTIMEZONE
BEGIN:VEVENT
DTSTART;TZID=America/New_York:20230807T120000
DTEND;TZID=America/New_York:20240902T130000
DTSTAMP:20260425T121348
CREATED:20230804T130402Z
LAST-MODIFIED:20240928T194145Z
UID:10006214-1691409600-1725282000@retreathousehillsboro.org
SUMMARY:Wisdom Café
DESCRIPTION:All are welcome to join in this Retreat House gathering –  the Wisdom Café\, held each Monday from 12:00-1:00 p.m. on Zoom. \n\n\nWe usually begin with an inspirational reading\, enjoy a bit of quiet time. Then we take turns sharing what bubbles up and listen to each other’s reflections. It’s an hour of friendly companionship–no commitment\, no charge.\n\nCome and go as you please!\n\n\nIf you would like to receive an email reminder on Monday mornings (which will include the zoom link) please sign up here.\n\nOtherwise please add the date to your calendar for the Wisdom Café on Mondays at 12 Noon. \n\nHere’s the Zoom link.
URL:https://retreathousehillsboro.org/event/wisdom-cafe-2/2023-08-07/
LOCATION:ZOOM
ORGANIZER;CN="Heather Strang":MAILTO:heather@retreathousehillsboro.org
END:VEVENT
BEGIN:VEVENT
DTSTART;TZID=America/New_York:20230814T120000
DTEND;TZID=America/New_York:20240909T130000
DTSTAMP:20260425T121348
CREATED:20230804T130402Z
LAST-MODIFIED:20240928T194145Z
UID:10006215-1692014400-1725886800@retreathousehillsboro.org
SUMMARY:Wisdom Café
DESCRIPTION:All are welcome to join in this Retreat House gathering –  the Wisdom Café\, held each Monday from 12:00-1:00 p.m. on Zoom. \n\n\nWe usually begin with an inspirational reading\, enjoy a bit of quiet time. Then we take turns sharing what bubbles up and listen to each other’s reflections. It’s an hour of friendly companionship–no commitment\, no charge.\n\nCome and go as you please!\n\n\nIf you would like to receive an email reminder on Monday mornings (which will include the zoom link) please sign up here.\n\nOtherwise please add the date to your calendar for the Wisdom Café on Mondays at 12 Noon. \n\nHere’s the Zoom link.
URL:https://retreathousehillsboro.org/event/wisdom-cafe-2/2023-08-14/
LOCATION:ZOOM
ORGANIZER;CN="Heather Strang":MAILTO:heather@retreathousehillsboro.org
END:VEVENT
BEGIN:VEVENT
DTSTART;TZID=America/New_York:20230821T120000
DTEND;TZID=America/New_York:20240916T130000
DTSTAMP:20260425T121348
CREATED:20230804T130402Z
LAST-MODIFIED:20240928T194145Z
UID:10006216-1692619200-1726491600@retreathousehillsboro.org
SUMMARY:Wisdom Café
DESCRIPTION:All are welcome to join in this Retreat House gathering –  the Wisdom Café\, held each Monday from 12:00-1:00 p.m. on Zoom. \n\n\nWe usually begin with an inspirational reading\, enjoy a bit of quiet time. Then we take turns sharing what bubbles up and listen to each other’s reflections. It’s an hour of friendly companionship–no commitment\, no charge.\n\nCome and go as you please!\n\n\nIf you would like to receive an email reminder on Monday mornings (which will include the zoom link) please sign up here.\n\nOtherwise please add the date to your calendar for the Wisdom Café on Mondays at 12 Noon. \n\nHere’s the Zoom link.
URL:https://retreathousehillsboro.org/event/wisdom-cafe-2/2023-08-21/
LOCATION:ZOOM
ORGANIZER;CN="Heather Strang":MAILTO:heather@retreathousehillsboro.org
END:VEVENT
BEGIN:VEVENT
DTSTART;TZID=America/New_York:20230828T120000
DTEND;TZID=America/New_York:20240923T130000
DTSTAMP:20260425T121348
CREATED:20230804T130402Z
LAST-MODIFIED:20240928T194145Z
UID:10006217-1693224000-1727096400@retreathousehillsboro.org
SUMMARY:Wisdom Café
DESCRIPTION:All are welcome to join in this Retreat House gathering –  the Wisdom Café\, held each Monday from 12:00-1:00 p.m. on Zoom. \n\n\nWe usually begin with an inspirational reading\, enjoy a bit of quiet time. Then we take turns sharing what bubbles up and listen to each other’s reflections. It’s an hour of friendly companionship–no commitment\, no charge.\n\nCome and go as you please!\n\n\nIf you would like to receive an email reminder on Monday mornings (which will include the zoom link) please sign up here.\n\nOtherwise please add the date to your calendar for the Wisdom Café on Mondays at 12 Noon. \n\nHere’s the Zoom link.
URL:https://retreathousehillsboro.org/event/wisdom-cafe-2/2023-08-28/
LOCATION:ZOOM
ORGANIZER;CN="Heather Strang":MAILTO:heather@retreathousehillsboro.org
END:VEVENT
BEGIN:VEVENT
DTSTART;TZID=America/New_York:20240129T171500
DTEND;TZID=America/New_York:20240129T174500
DTSTAMP:20260425T121348
CREATED:20231221T150913Z
LAST-MODIFIED:20231221T152044Z
UID:10006425-1706548500-1706550300@retreathousehillsboro.org
SUMMARY:Day's End Meditation
DESCRIPTION:Listen\, breathe\, and be still. Move peacefully into your evening with us each weekday evening. \nCome and go as you please!\n  \nWeekdays 5:15 – 5:45 p.m. \nJoin online: https://zoom.us/j/212677840\n\n\n  \nPassword: 944568\nCall in/Audio only: +1 301 715 8592
URL:https://retreathousehillsboro.org/event/days-end-meditation/2024-01-29/
LOCATION:ZOOM
END:VEVENT
BEGIN:VEVENT
DTSTART;TZID=America/New_York:20240130T171500
DTEND;TZID=America/New_York:20240130T174500
DTSTAMP:20260425T121348
CREATED:20231221T150913Z
LAST-MODIFIED:20231221T152044Z
UID:10006426-1706634900-1706636700@retreathousehillsboro.org
SUMMARY:Day's End Meditation
DESCRIPTION:Listen\, breathe\, and be still. Move peacefully into your evening with us each weekday evening. \nCome and go as you please!\n  \nWeekdays 5:15 – 5:45 p.m. \nJoin online: https://zoom.us/j/212677840\n\n\n  \nPassword: 944568\nCall in/Audio only: +1 301 715 8592
URL:https://retreathousehillsboro.org/event/days-end-meditation/2024-01-30/
LOCATION:ZOOM
END:VEVENT
BEGIN:VEVENT
DTSTART;TZID=America/New_York:20240131T171500
DTEND;TZID=America/New_York:20240131T174500
DTSTAMP:20260425T121348
CREATED:20231221T150913Z
LAST-MODIFIED:20231221T152044Z
UID:10006427-1706721300-1706723100@retreathousehillsboro.org
SUMMARY:Day's End Meditation
DESCRIPTION:Listen\, breathe\, and be still. Move peacefully into your evening with us each weekday evening. \nCome and go as you please!\n  \nWeekdays 5:15 – 5:45 p.m. \nJoin online: https://zoom.us/j/212677840\n\n\n  \nPassword: 944568\nCall in/Audio only: +1 301 715 8592
URL:https://retreathousehillsboro.org/event/days-end-meditation/2024-01-31/
LOCATION:ZOOM
END:VEVENT
BEGIN:VEVENT
DTSTART;TZID=America/New_York:20240131T180000
DTEND;TZID=America/New_York:20240131T200000
DTSTAMP:20260425T121348
CREATED:20240115T163142Z
LAST-MODIFIED:20240115T163158Z
UID:10006395-1706724000-1706731200@retreathousehillsboro.org
SUMMARY:God's Peace Group - a January Reset
DESCRIPTION:Come join us for this conversation series to help refocus and reset for a vibrant year ahead. We’ll explore some timeless wisdom shared across cultures for beginning again. Rather than naming new year’s resolutions\, our gathering will invite us to be curious about practices for living each day rooted in peace.\nWe began gathering on Wednesday evenings\, January 10th. Our January 17 gathering will be postponed until January 24th and we will continue meeting until February 7th!\n\n\nA simple supper will be included. Register here: https://tinyurl.com/PEACE2024\nFor more information\, please contact heather@retreathousehillsboro.org
URL:https://retreathousehillsboro.org/event/gods-peace-group-a-january-reset-2/2024-01-31/
LOCATION:Emmanuel Church\, 101 N. Cross St.\, Chestertown\, MD\, 21620\, United States
ATTACH;FMTTYPE=image/jpeg:https://retreathousehillsboro.org/wp-content/uploads/2023/04/marcus-dall-col-XU-mMDweXR4-unsplash-scaled.jpg
ORGANIZER;CN="Heather Strang":MAILTO:heather@retreathousehillsboro.org
GEO:39.2092721;-76.0660689
X-APPLE-STRUCTURED-LOCATION;VALUE=URI;X-ADDRESS=Emmanuel Church 101 N. Cross St. Chestertown MD 21620 United States;X-APPLE-RADIUS=500;X-TITLE=101 N. Cross St.:geo:-76.0660689,39.2092721
END:VEVENT
BEGIN:VEVENT
DTSTART;TZID=America/New_York:20240201T171500
DTEND;TZID=America/New_York:20240201T174500
DTSTAMP:20260425T121348
CREATED:20231221T150913Z
LAST-MODIFIED:20231221T152044Z
UID:10006428-1706807700-1706809500@retreathousehillsboro.org
SUMMARY:Day's End Meditation
DESCRIPTION:Listen\, breathe\, and be still. Move peacefully into your evening with us each weekday evening. \nCome and go as you please!\n  \nWeekdays 5:15 – 5:45 p.m. \nJoin online: https://zoom.us/j/212677840\n\n\n  \nPassword: 944568\nCall in/Audio only: +1 301 715 8592
URL:https://retreathousehillsboro.org/event/days-end-meditation/2024-02-01/
LOCATION:ZOOM
END:VEVENT
BEGIN:VEVENT
DTSTART;TZID=America/New_York:20240202T093000
DTEND;TZID=America/New_York:20240202T123000
DTSTAMP:20260425T121348
CREATED:20231220T165354Z
LAST-MODIFIED:20231231T204509Z
UID:10006396-1706866200-1706877000@retreathousehillsboro.org
SUMMARY:Quiet Morning - The Courage of Winter
DESCRIPTION:The Courage of Winter\nThe courage of winter says\, “Listen to your body and soul.” During this quiet morning led by Julia Morris-Myers\, we’ll take in winter’s gift of stillness and the invitation to slowly open to our deep purpose. Throughout the day\, we’ll reflect on winter in the quiet and stillness of home and outside. Some will be drawn to walking outside\, and some to gazing at the window. There will be time to savor scripture\, poetry\, journaling\, and conversation and to create a simple lunch for the close of our morning.\nSign up to join on Zoom as an individual or with a few friends from your home. A link will be emailed prior to the event.\n\n\nRegister at:\nhttp://tinyurl.com/RHQuietAM\n  \nFor more information contact heather@retreathousehillsboro.org
URL:https://retreathousehillsboro.org/event/quiet-morning-the-courage-of-winter-on-zoom/
LOCATION:ZOOM
ATTACH;FMTTYPE=image/jpeg:https://retreathousehillsboro.org/wp-content/uploads/2023/12/REDUCEDart-institute-of-chicago-gxIT_C4kT5U-unsplash-2.jpg
END:VEVENT
BEGIN:VEVENT
DTSTART;TZID=America/New_York:20240202T171500
DTEND;TZID=America/New_York:20240202T174500
DTSTAMP:20260425T121348
CREATED:20231221T150913Z
LAST-MODIFIED:20231221T152044Z
UID:10006429-1706894100-1706895900@retreathousehillsboro.org
SUMMARY:Day's End Meditation
DESCRIPTION:Listen\, breathe\, and be still. Move peacefully into your evening with us each weekday evening. \nCome and go as you please!\n  \nWeekdays 5:15 – 5:45 p.m. \nJoin online: https://zoom.us/j/212677840\n\n\n  \nPassword: 944568\nCall in/Audio only: +1 301 715 8592
URL:https://retreathousehillsboro.org/event/days-end-meditation/2024-02-02/
LOCATION:ZOOM
END:VEVENT
END:VCALENDAR