BEGIN:VCALENDAR
VERSION:2.0
PRODID:-//The Retreat House at Hillsboro - ECPv6.15.20//NONSGML v1.0//EN
CALSCALE:GREGORIAN
METHOD:PUBLISH
X-WR-CALNAME:The Retreat House at Hillsboro
X-ORIGINAL-URL:https://retreathousehillsboro.org
X-WR-CALDESC:Events for The Retreat House at Hillsboro
REFRESH-INTERVAL;VALUE=DURATION:PT1H
X-Robots-Tag:noindex
X-PUBLISHED-TTL:PT1H
BEGIN:VTIMEZONE
TZID:America/New_York
BEGIN:DAYLIGHT
TZOFFSETFROM:-0500
TZOFFSETTO:-0400
TZNAME:EDT
DTSTART:20220313T070000
END:DAYLIGHT
BEGIN:STANDARD
TZOFFSETFROM:-0400
TZOFFSETTO:-0500
TZNAME:EST
DTSTART:20221106T060000
END:STANDARD
BEGIN:DAYLIGHT
TZOFFSETFROM:-0500
TZOFFSETTO:-0400
TZNAME:EDT
DTSTART:20230312T070000
END:DAYLIGHT
BEGIN:STANDARD
TZOFFSETFROM:-0400
TZOFFSETTO:-0500
TZNAME:EST
DTSTART:20231105T060000
END:STANDARD
BEGIN:DAYLIGHT
TZOFFSETFROM:-0500
TZOFFSETTO:-0400
TZNAME:EDT
DTSTART:20240310T070000
END:DAYLIGHT
BEGIN:STANDARD
TZOFFSETFROM:-0400
TZOFFSETTO:-0500
TZNAME:EST
DTSTART:20241103T060000
END:STANDARD
BEGIN:DAYLIGHT
TZOFFSETFROM:-0500
TZOFFSETTO:-0400
TZNAME:EDT
DTSTART:20250309T070000
END:DAYLIGHT
BEGIN:STANDARD
TZOFFSETFROM:-0400
TZOFFSETTO:-0500
TZNAME:EST
DTSTART:20251102T060000
END:STANDARD
END:VTIMEZONE
BEGIN:VEVENT
DTSTART;TZID=America/New_York:20230807T120000
DTEND;TZID=America/New_York:20240902T130000
DTSTAMP:20260425T151617
CREATED:20230804T130402Z
LAST-MODIFIED:20240928T194145Z
UID:10006214-1691409600-1725282000@retreathousehillsboro.org
SUMMARY:Wisdom Café
DESCRIPTION:All are welcome to join in this Retreat House gathering –  the Wisdom Café\, held each Monday from 12:00-1:00 p.m. on Zoom. \n\n\nWe usually begin with an inspirational reading\, enjoy a bit of quiet time. Then we take turns sharing what bubbles up and listen to each other’s reflections. It’s an hour of friendly companionship–no commitment\, no charge.\n\nCome and go as you please!\n\n\nIf you would like to receive an email reminder on Monday mornings (which will include the zoom link) please sign up here.\n\nOtherwise please add the date to your calendar for the Wisdom Café on Mondays at 12 Noon. \n\nHere’s the Zoom link.
URL:https://retreathousehillsboro.org/event/wisdom-cafe-2/2023-08-07/
LOCATION:ZOOM
ORGANIZER;CN="Heather Strang":MAILTO:heather@retreathousehillsboro.org
END:VEVENT
BEGIN:VEVENT
DTSTART;TZID=America/New_York:20230814T120000
DTEND;TZID=America/New_York:20240909T130000
DTSTAMP:20260425T151617
CREATED:20230804T130402Z
LAST-MODIFIED:20240928T194145Z
UID:10006215-1692014400-1725886800@retreathousehillsboro.org
SUMMARY:Wisdom Café
DESCRIPTION:All are welcome to join in this Retreat House gathering –  the Wisdom Café\, held each Monday from 12:00-1:00 p.m. on Zoom. \n\n\nWe usually begin with an inspirational reading\, enjoy a bit of quiet time. Then we take turns sharing what bubbles up and listen to each other’s reflections. It’s an hour of friendly companionship–no commitment\, no charge.\n\nCome and go as you please!\n\n\nIf you would like to receive an email reminder on Monday mornings (which will include the zoom link) please sign up here.\n\nOtherwise please add the date to your calendar for the Wisdom Café on Mondays at 12 Noon. \n\nHere’s the Zoom link.
URL:https://retreathousehillsboro.org/event/wisdom-cafe-2/2023-08-14/
LOCATION:ZOOM
ORGANIZER;CN="Heather Strang":MAILTO:heather@retreathousehillsboro.org
END:VEVENT
BEGIN:VEVENT
DTSTART;TZID=America/New_York:20230821T120000
DTEND;TZID=America/New_York:20240916T130000
DTSTAMP:20260425T151617
CREATED:20230804T130402Z
LAST-MODIFIED:20240928T194145Z
UID:10006216-1692619200-1726491600@retreathousehillsboro.org
SUMMARY:Wisdom Café
DESCRIPTION:All are welcome to join in this Retreat House gathering –  the Wisdom Café\, held each Monday from 12:00-1:00 p.m. on Zoom. \n\n\nWe usually begin with an inspirational reading\, enjoy a bit of quiet time. Then we take turns sharing what bubbles up and listen to each other’s reflections. It’s an hour of friendly companionship–no commitment\, no charge.\n\nCome and go as you please!\n\n\nIf you would like to receive an email reminder on Monday mornings (which will include the zoom link) please sign up here.\n\nOtherwise please add the date to your calendar for the Wisdom Café on Mondays at 12 Noon. \n\nHere’s the Zoom link.
URL:https://retreathousehillsboro.org/event/wisdom-cafe-2/2023-08-21/
LOCATION:ZOOM
ORGANIZER;CN="Heather Strang":MAILTO:heather@retreathousehillsboro.org
END:VEVENT
BEGIN:VEVENT
DTSTART;TZID=America/New_York:20230828T120000
DTEND;TZID=America/New_York:20240923T130000
DTSTAMP:20260425T151617
CREATED:20230804T130402Z
LAST-MODIFIED:20240928T194145Z
UID:10006217-1693224000-1727096400@retreathousehillsboro.org
SUMMARY:Wisdom Café
DESCRIPTION:All are welcome to join in this Retreat House gathering –  the Wisdom Café\, held each Monday from 12:00-1:00 p.m. on Zoom. \n\n\nWe usually begin with an inspirational reading\, enjoy a bit of quiet time. Then we take turns sharing what bubbles up and listen to each other’s reflections. It’s an hour of friendly companionship–no commitment\, no charge.\n\nCome and go as you please!\n\n\nIf you would like to receive an email reminder on Monday mornings (which will include the zoom link) please sign up here.\n\nOtherwise please add the date to your calendar for the Wisdom Café on Mondays at 12 Noon. \n\nHere’s the Zoom link.
URL:https://retreathousehillsboro.org/event/wisdom-cafe-2/2023-08-28/
LOCATION:ZOOM
ORGANIZER;CN="Heather Strang":MAILTO:heather@retreathousehillsboro.org
END:VEVENT
BEGIN:VEVENT
DTSTART;TZID=America/New_York:20240122T171500
DTEND;TZID=America/New_York:20240122T174500
DTSTAMP:20260425T151617
CREATED:20231221T150913Z
LAST-MODIFIED:20231221T152044Z
UID:10006420-1705943700-1705945500@retreathousehillsboro.org
SUMMARY:Day's End Meditation
DESCRIPTION:Listen\, breathe\, and be still. Move peacefully into your evening with us each weekday evening. \nCome and go as you please!\n  \nWeekdays 5:15 – 5:45 p.m. \nJoin online: https://zoom.us/j/212677840\n\n\n  \nPassword: 944568\nCall in/Audio only: +1 301 715 8592
URL:https://retreathousehillsboro.org/event/days-end-meditation/2024-01-22/
LOCATION:ZOOM
END:VEVENT
BEGIN:VEVENT
DTSTART;TZID=America/New_York:20240123T171500
DTEND;TZID=America/New_York:20240123T174500
DTSTAMP:20260425T151617
CREATED:20231221T150913Z
LAST-MODIFIED:20231221T152044Z
UID:10006421-1706030100-1706031900@retreathousehillsboro.org
SUMMARY:Day's End Meditation
DESCRIPTION:Listen\, breathe\, and be still. Move peacefully into your evening with us each weekday evening. \nCome and go as you please!\n  \nWeekdays 5:15 – 5:45 p.m. \nJoin online: https://zoom.us/j/212677840\n\n\n  \nPassword: 944568\nCall in/Audio only: +1 301 715 8592
URL:https://retreathousehillsboro.org/event/days-end-meditation/2024-01-23/
LOCATION:ZOOM
END:VEVENT
BEGIN:VEVENT
DTSTART;TZID=America/New_York:20240124T171500
DTEND;TZID=America/New_York:20240124T174500
DTSTAMP:20260425T151617
CREATED:20231221T150913Z
LAST-MODIFIED:20231221T152044Z
UID:10006422-1706116500-1706118300@retreathousehillsboro.org
SUMMARY:Day's End Meditation
DESCRIPTION:Listen\, breathe\, and be still. Move peacefully into your evening with us each weekday evening. \nCome and go as you please!\n  \nWeekdays 5:15 – 5:45 p.m. \nJoin online: https://zoom.us/j/212677840\n\n\n  \nPassword: 944568\nCall in/Audio only: +1 301 715 8592
URL:https://retreathousehillsboro.org/event/days-end-meditation/2024-01-24/
LOCATION:ZOOM
END:VEVENT
BEGIN:VEVENT
DTSTART;TZID=America/New_York:20240124T180000
DTEND;TZID=America/New_York:20240124T193000
DTSTAMP:20260425T151617
CREATED:20231221T175430Z
LAST-MODIFIED:20231221T191227Z
UID:10006661-1706119200-1706124600@retreathousehillsboro.org
SUMMARY:Writing our Story
DESCRIPTION:Writing our Story\nwith Bishop Porter Taylor\non Zoom\nThree Wednesday Evenings\nJanuary 17\, 24 and February 7\n6:00 p.m.  –  7:30 p.m. EST\n  \n  \n  \n  \n\n\n\n\n\n\nIn one of E. M. Forester’s novels a character says “How do I know what I think until I see what I say?”  That is\, as we talk\, we become more deeply aware of our thoughts and emotions.  By speaking\, we gain a new perspective as well as an accountability to our listeners. No one has to be an accomplished writer to write down their thoughts because the purpose is less about creating a beautiful document and more about getting some of our history in front of us.\nThis wisdom circle will invite participants to write about a significant episode of their own history. The intentions are both to become more aware of the key moments of our lives\, but also to become aware of the commonality of what it is to be human. We all have to find a purpose and a community and beliefs and our gifts. The aim is to discover how the Holy Spirit works in our lives and to realize that the life journey we all travel is filled with highs and lows\, yet we are still walking in the The Way Jesus taught us.\nWe will focus on several readings and selected prompts\, such as: what was your greatest love; what has been the accomplishment you are most proud of; when have you had to ask for forgiveness; what would you most like to do if everything were possible; what was the hardest period of your life; when do you feel happiest; if you could change one thing in your life\, what would it be; or\, if you could meet one person regardless of date or place\, who would it be.\n  \nRegister (here). A Zoom link will arrive by email before the start of the first gathering.\nPORTER TAYLOR is the author of his memoir: Are YouPersuaded? In and Out of being a Bishop and two other books: To Dream as God Dreams and From Anger to Zion.  Bishop Taylor joined the Diocese of Virginia as Assisting Bishop after retiring as the 6th Bishop of the Diocese of Western North Carolina in 2016. In retirement\, he also served on the faculty of Wake Forest University Divinity School. He holds a Master of Divinity\, a Ph. D. in Theology and Literature\, and a B.A. and M. A. in English. Porter and his wife Jo\, an artist\, are based in Asheville\, NC. \n 
URL:https://retreathousehillsboro.org/event/writing-our-story/2024-01-24/
LOCATION:ZOOM
ATTACH;FMTTYPE=image/jpeg:https://retreathousehillsboro.org/wp-content/uploads/2023/12/lilartsy-jw3xbuelpKM-unsplash-scaled.jpg
END:VEVENT
BEGIN:VEVENT
DTSTART;TZID=America/New_York:20240124T180000
DTEND;TZID=America/New_York:20240124T200000
DTSTAMP:20260425T151617
CREATED:20240115T163142Z
LAST-MODIFIED:20240115T163158Z
UID:10006394-1706119200-1706126400@retreathousehillsboro.org
SUMMARY:God's Peace Group - a January Reset
DESCRIPTION:Come join us for this conversation series to help refocus and reset for a vibrant year ahead. We’ll explore some timeless wisdom shared across cultures for beginning again. Rather than naming new year’s resolutions\, our gathering will invite us to be curious about practices for living each day rooted in peace.\nWe began gathering on Wednesday evenings\, January 10th. Our January 17 gathering will be postponed until January 24th and we will continue meeting until February 7th!\n\n\nA simple supper will be included. Register here: https://tinyurl.com/PEACE2024\nFor more information\, please contact heather@retreathousehillsboro.org
URL:https://retreathousehillsboro.org/event/gods-peace-group-a-january-reset-2/2024-01-24/
LOCATION:Emmanuel Church\, 101 N. Cross St.\, Chestertown\, MD\, 21620\, United States
ATTACH;FMTTYPE=image/jpeg:https://retreathousehillsboro.org/wp-content/uploads/2023/04/marcus-dall-col-XU-mMDweXR4-unsplash-scaled.jpg
ORGANIZER;CN="Heather Strang":MAILTO:heather@retreathousehillsboro.org
GEO:39.2092721;-76.0660689
X-APPLE-STRUCTURED-LOCATION;VALUE=URI;X-ADDRESS=Emmanuel Church 101 N. Cross St. Chestertown MD 21620 United States;X-APPLE-RADIUS=500;X-TITLE=101 N. Cross St.:geo:-76.0660689,39.2092721
END:VEVENT
BEGIN:VEVENT
DTSTART;TZID=America/New_York:20240125T171500
DTEND;TZID=America/New_York:20240125T174500
DTSTAMP:20260425T151617
CREATED:20231221T150913Z
LAST-MODIFIED:20231221T152044Z
UID:10006423-1706202900-1706204700@retreathousehillsboro.org
SUMMARY:Day's End Meditation
DESCRIPTION:Listen\, breathe\, and be still. Move peacefully into your evening with us each weekday evening. \nCome and go as you please!\n  \nWeekdays 5:15 – 5:45 p.m. \nJoin online: https://zoom.us/j/212677840\n\n\n  \nPassword: 944568\nCall in/Audio only: +1 301 715 8592
URL:https://retreathousehillsboro.org/event/days-end-meditation/2024-01-25/
LOCATION:ZOOM
END:VEVENT
BEGIN:VEVENT
DTSTART;TZID=America/New_York:20240126T171500
DTEND;TZID=America/New_York:20240126T174500
DTSTAMP:20260425T151617
CREATED:20231221T150913Z
LAST-MODIFIED:20231221T152044Z
UID:10006424-1706289300-1706291100@retreathousehillsboro.org
SUMMARY:Day's End Meditation
DESCRIPTION:Listen\, breathe\, and be still. Move peacefully into your evening with us each weekday evening. \nCome and go as you please!\n  \nWeekdays 5:15 – 5:45 p.m. \nJoin online: https://zoom.us/j/212677840\n\n\n  \nPassword: 944568\nCall in/Audio only: +1 301 715 8592
URL:https://retreathousehillsboro.org/event/days-end-meditation/2024-01-26/
LOCATION:ZOOM
END:VEVENT
END:VCALENDAR