BEGIN:VCALENDAR
VERSION:2.0
PRODID:-//The Retreat House at Hillsboro - ECPv6.15.20//NONSGML v1.0//EN
CALSCALE:GREGORIAN
METHOD:PUBLISH
X-WR-CALNAME:The Retreat House at Hillsboro
X-ORIGINAL-URL:https://retreathousehillsboro.org
X-WR-CALDESC:Events for The Retreat House at Hillsboro
REFRESH-INTERVAL;VALUE=DURATION:PT1H
X-Robots-Tag:noindex
X-PUBLISHED-TTL:PT1H
BEGIN:VTIMEZONE
TZID:America/New_York
BEGIN:DAYLIGHT
TZOFFSETFROM:-0500
TZOFFSETTO:-0400
TZNAME:EDT
DTSTART:20220313T070000
END:DAYLIGHT
BEGIN:STANDARD
TZOFFSETFROM:-0400
TZOFFSETTO:-0500
TZNAME:EST
DTSTART:20221106T060000
END:STANDARD
BEGIN:DAYLIGHT
TZOFFSETFROM:-0500
TZOFFSETTO:-0400
TZNAME:EDT
DTSTART:20230312T070000
END:DAYLIGHT
BEGIN:STANDARD
TZOFFSETFROM:-0400
TZOFFSETTO:-0500
TZNAME:EST
DTSTART:20231105T060000
END:STANDARD
BEGIN:DAYLIGHT
TZOFFSETFROM:-0500
TZOFFSETTO:-0400
TZNAME:EDT
DTSTART:20240310T070000
END:DAYLIGHT
BEGIN:STANDARD
TZOFFSETFROM:-0400
TZOFFSETTO:-0500
TZNAME:EST
DTSTART:20241103T060000
END:STANDARD
BEGIN:DAYLIGHT
TZOFFSETFROM:-0500
TZOFFSETTO:-0400
TZNAME:EDT
DTSTART:20250309T070000
END:DAYLIGHT
BEGIN:STANDARD
TZOFFSETFROM:-0400
TZOFFSETTO:-0500
TZNAME:EST
DTSTART:20251102T060000
END:STANDARD
END:VTIMEZONE
BEGIN:VEVENT
DTSTART;TZID=America/New_York:20230807T120000
DTEND;TZID=America/New_York:20240902T130000
DTSTAMP:20260425T183516
CREATED:20230804T130402Z
LAST-MODIFIED:20240928T194145Z
UID:10006214-1691409600-1725282000@retreathousehillsboro.org
SUMMARY:Wisdom Café
DESCRIPTION:All are welcome to join in this Retreat House gathering –  the Wisdom Café\, held each Monday from 12:00-1:00 p.m. on Zoom. \n\n\nWe usually begin with an inspirational reading\, enjoy a bit of quiet time. Then we take turns sharing what bubbles up and listen to each other’s reflections. It’s an hour of friendly companionship–no commitment\, no charge.\n\nCome and go as you please!\n\n\nIf you would like to receive an email reminder on Monday mornings (which will include the zoom link) please sign up here.\n\nOtherwise please add the date to your calendar for the Wisdom Café on Mondays at 12 Noon. \n\nHere’s the Zoom link.
URL:https://retreathousehillsboro.org/event/wisdom-cafe-2/2023-08-07/
LOCATION:ZOOM
ORGANIZER;CN="Heather Strang":MAILTO:heather@retreathousehillsboro.org
END:VEVENT
BEGIN:VEVENT
DTSTART;TZID=America/New_York:20230814T120000
DTEND;TZID=America/New_York:20240909T130000
DTSTAMP:20260425T183516
CREATED:20230804T130402Z
LAST-MODIFIED:20240928T194145Z
UID:10006215-1692014400-1725886800@retreathousehillsboro.org
SUMMARY:Wisdom Café
DESCRIPTION:All are welcome to join in this Retreat House gathering –  the Wisdom Café\, held each Monday from 12:00-1:00 p.m. on Zoom. \n\n\nWe usually begin with an inspirational reading\, enjoy a bit of quiet time. Then we take turns sharing what bubbles up and listen to each other’s reflections. It’s an hour of friendly companionship–no commitment\, no charge.\n\nCome and go as you please!\n\n\nIf you would like to receive an email reminder on Monday mornings (which will include the zoom link) please sign up here.\n\nOtherwise please add the date to your calendar for the Wisdom Café on Mondays at 12 Noon. \n\nHere’s the Zoom link.
URL:https://retreathousehillsboro.org/event/wisdom-cafe-2/2023-08-14/
LOCATION:ZOOM
ORGANIZER;CN="Heather Strang":MAILTO:heather@retreathousehillsboro.org
END:VEVENT
BEGIN:VEVENT
DTSTART;TZID=America/New_York:20230821T120000
DTEND;TZID=America/New_York:20240916T130000
DTSTAMP:20260425T183516
CREATED:20230804T130402Z
LAST-MODIFIED:20240928T194145Z
UID:10006216-1692619200-1726491600@retreathousehillsboro.org
SUMMARY:Wisdom Café
DESCRIPTION:All are welcome to join in this Retreat House gathering –  the Wisdom Café\, held each Monday from 12:00-1:00 p.m. on Zoom. \n\n\nWe usually begin with an inspirational reading\, enjoy a bit of quiet time. Then we take turns sharing what bubbles up and listen to each other’s reflections. It’s an hour of friendly companionship–no commitment\, no charge.\n\nCome and go as you please!\n\n\nIf you would like to receive an email reminder on Monday mornings (which will include the zoom link) please sign up here.\n\nOtherwise please add the date to your calendar for the Wisdom Café on Mondays at 12 Noon. \n\nHere’s the Zoom link.
URL:https://retreathousehillsboro.org/event/wisdom-cafe-2/2023-08-21/
LOCATION:ZOOM
ORGANIZER;CN="Heather Strang":MAILTO:heather@retreathousehillsboro.org
END:VEVENT
BEGIN:VEVENT
DTSTART;TZID=America/New_York:20230828T120000
DTEND;TZID=America/New_York:20240923T130000
DTSTAMP:20260425T183516
CREATED:20230804T130402Z
LAST-MODIFIED:20240928T194145Z
UID:10006217-1693224000-1727096400@retreathousehillsboro.org
SUMMARY:Wisdom Café
DESCRIPTION:All are welcome to join in this Retreat House gathering –  the Wisdom Café\, held each Monday from 12:00-1:00 p.m. on Zoom. \n\n\nWe usually begin with an inspirational reading\, enjoy a bit of quiet time. Then we take turns sharing what bubbles up and listen to each other’s reflections. It’s an hour of friendly companionship–no commitment\, no charge.\n\nCome and go as you please!\n\n\nIf you would like to receive an email reminder on Monday mornings (which will include the zoom link) please sign up here.\n\nOtherwise please add the date to your calendar for the Wisdom Café on Mondays at 12 Noon. \n\nHere’s the Zoom link.
URL:https://retreathousehillsboro.org/event/wisdom-cafe-2/2023-08-28/
LOCATION:ZOOM
ORGANIZER;CN="Heather Strang":MAILTO:heather@retreathousehillsboro.org
END:VEVENT
BEGIN:VEVENT
DTSTART;TZID=America/New_York:20240101T120000
DTEND;TZID=America/New_York:20240101T130000
DTSTAMP:20260425T183516
CREATED:20231226T155128Z
LAST-MODIFIED:20231226T155129Z
UID:10006235-1704110400-1704114000@retreathousehillsboro.org
SUMMARY:Wisdom Café
DESCRIPTION:Join us on January 8\, 2024\, after a brief holiday pause!\n\n\n\nAll are welcome to join in this Retreat House gathering –  the Wisdom Café\, held eachMonday from 12:00-1:00 p.m. on Zoom. \n\n\nWe usually begin with an inspirational reading\, enjoy a bit of quiet time. Then we take turns sharing what bubbles up and listen to each other’s reflections. It’s an hour of friendly companionship–no commitment\, no charge.\n\nCome and go as you please!\n\n\nIf you would like to receive an email reminder on Monday mornings (which will include the zoom link) please sign up here.\n\nOtherwise please add the date to your calendar for the Wisdom Café on Mondays at 12 Noon. \n\nHere’s the Zoom link.
URL:https://retreathousehillsboro.org/event/wisdom-cafe-2-2/
LOCATION:The Retreat House\, 22005 Church Street\, Hillsboro\, MD\, 21641\, United States
GEO:38.914958;-75.94222
X-APPLE-STRUCTURED-LOCATION;VALUE=URI;X-ADDRESS=The Retreat House 22005 Church Street Hillsboro MD 21641 United States;X-APPLE-RADIUS=500;X-TITLE=22005 Church Street:geo:-75.94222,38.914958
END:VEVENT
BEGIN:VEVENT
DTSTART;TZID=America/New_York:20240101T171500
DTEND;TZID=America/New_York:20240101T174500
DTSTAMP:20260425T183516
CREATED:20231221T150913Z
LAST-MODIFIED:20231221T152044Z
UID:10006405-1704129300-1704131100@retreathousehillsboro.org
SUMMARY:Day's End Meditation
DESCRIPTION:Listen\, breathe\, and be still. Move peacefully into your evening with us each weekday evening. \nCome and go as you please!\n  \nWeekdays 5:15 – 5:45 p.m. \nJoin online: https://zoom.us/j/212677840\n\n\n  \nPassword: 944568\nCall in/Audio only: +1 301 715 8592
URL:https://retreathousehillsboro.org/event/days-end-meditation/2024-01-01/
LOCATION:ZOOM
END:VEVENT
BEGIN:VEVENT
DTSTART;TZID=America/New_York:20240102T171500
DTEND;TZID=America/New_York:20240102T174500
DTSTAMP:20260425T183516
CREATED:20231221T150913Z
LAST-MODIFIED:20231221T152044Z
UID:10006406-1704215700-1704217500@retreathousehillsboro.org
SUMMARY:Day's End Meditation
DESCRIPTION:Listen\, breathe\, and be still. Move peacefully into your evening with us each weekday evening. \nCome and go as you please!\n  \nWeekdays 5:15 – 5:45 p.m. \nJoin online: https://zoom.us/j/212677840\n\n\n  \nPassword: 944568\nCall in/Audio only: +1 301 715 8592
URL:https://retreathousehillsboro.org/event/days-end-meditation/2024-01-02/
LOCATION:ZOOM
END:VEVENT
BEGIN:VEVENT
DTSTART;TZID=America/New_York:20240103T171500
DTEND;TZID=America/New_York:20240103T174500
DTSTAMP:20260425T183516
CREATED:20231221T150913Z
LAST-MODIFIED:20231221T152044Z
UID:10006407-1704302100-1704303900@retreathousehillsboro.org
SUMMARY:Day's End Meditation
DESCRIPTION:Listen\, breathe\, and be still. Move peacefully into your evening with us each weekday evening. \nCome and go as you please!\n  \nWeekdays 5:15 – 5:45 p.m. \nJoin online: https://zoom.us/j/212677840\n\n\n  \nPassword: 944568\nCall in/Audio only: +1 301 715 8592
URL:https://retreathousehillsboro.org/event/days-end-meditation/2024-01-03/
LOCATION:ZOOM
END:VEVENT
BEGIN:VEVENT
DTSTART;TZID=America/New_York:20240104T171500
DTEND;TZID=America/New_York:20240104T174500
DTSTAMP:20260425T183516
CREATED:20231221T150913Z
LAST-MODIFIED:20231221T152044Z
UID:10006408-1704388500-1704390300@retreathousehillsboro.org
SUMMARY:Day's End Meditation
DESCRIPTION:Listen\, breathe\, and be still. Move peacefully into your evening with us each weekday evening. \nCome and go as you please!\n  \nWeekdays 5:15 – 5:45 p.m. \nJoin online: https://zoom.us/j/212677840\n\n\n  \nPassword: 944568\nCall in/Audio only: +1 301 715 8592
URL:https://retreathousehillsboro.org/event/days-end-meditation/2024-01-04/
LOCATION:ZOOM
END:VEVENT
BEGIN:VEVENT
DTSTART;TZID=America/New_York:20240105T171500
DTEND;TZID=America/New_York:20240105T174500
DTSTAMP:20260425T183516
CREATED:20231221T150913Z
LAST-MODIFIED:20231221T152044Z
UID:10006409-1704474900-1704476700@retreathousehillsboro.org
SUMMARY:Day's End Meditation
DESCRIPTION:Listen\, breathe\, and be still. Move peacefully into your evening with us each weekday evening. \nCome and go as you please!\n  \nWeekdays 5:15 – 5:45 p.m. \nJoin online: https://zoom.us/j/212677840\n\n\n  \nPassword: 944568\nCall in/Audio only: +1 301 715 8592
URL:https://retreathousehillsboro.org/event/days-end-meditation/2024-01-05/
LOCATION:ZOOM
END:VEVENT
BEGIN:VEVENT
DTSTART;TZID=America/New_York:20240106T093000
DTEND;TZID=America/New_York:20240106T150000
DTSTAMP:20260425T183516
CREATED:20231106T155418Z
LAST-MODIFIED:20231127T173510Z
UID:10006388-1704533400-1704553200@retreathousehillsboro.org
SUMMARY:Women's Christmas
DESCRIPTION:Women’s Christmas\nJanuary 6\, 2024\n9:30 a.m. – 3:00 p.m.\nheld at\nThe Foehliage\, Galena\, Maryland\n  \n  \nGive yourself this special time to refresh your spirit and rest in the company of other women. We’ll sink into this restorative day as a celebration of Celtic Women’s Christmas\, a tradition shared on January 6 at the Feast of Epiphany. Grounded by the work of poet and pastor Jan Richardson\, it is the tradition of honoring the often difficult and tiring work of women to maintain the hearth and home\, especially during the extended holiday season. The women gather to reimagine their lives and\, as friends\, discern emerging patterns and support\, as sisters\, the art of navigating and developing new paths for the new year. The interactive day will be filled with activity\, prayerful silence\, and creativity\, including creating a soul collage. Come enjoy a continental breakfast and a simple\, warm\, and seasonal lunch\, perhaps eaten around a blazing fire and catching a glimpse of an eagle flying.  \nMeg Gallagher and Suzi Foehl have led this retreat since 2020. They joyfully welcome anyone with curiosity\, intention\, and an open heart. The price for the day-long retreat\, including a simple breakfast and lunch is $55 per person. The 9:30 a.m. to 3 p.m. retreat will be held at the Foehliage in Galena\, MD.   \nAn overnight option is available at a reduced cost of an additional $50. A simple supper is included. The overnight option is $105.  Please register here: https://tinyurl.com/RH2023Women \n  \n“I do not know \nHow to keep it all together \nOr by what patterns this world might  \nFinally\, hold. \n  \n…And what shines \nThrough all this darkness \nShines through us\, \nSetting every shattered thing \nInto a new constellation \n  \nAnd we can turn  \nOur faces \nTo that light\, \nTo the grace of  \nThose stars \nThat turn in us.” \nJan Richardson.  From “Those Stars That Turn in Us\, A Blessing for Women’s Christmas”. sanctuaryofwomen.com. \n 
URL:https://retreathousehillsboro.org/event/womens-christmas-4/
LOCATION:Foehliage Retreat Center\, 31450 Sassafras River Ave\, Galena\, MD\, 21635
CATEGORIES:Quiet Day,Retreats
ATTACH;FMTTYPE=image/png:https://retreathousehillsboro.org/wp-content/uploads/2021/12/Screen-Shot-2021-12-09-at-10.56.58-AM.png
ORGANIZER;CN="Heather Strang":MAILTO:heather@retreathousehillsboro.org
END:VEVENT
END:VCALENDAR