BEGIN:VCALENDAR
VERSION:2.0
PRODID:-//The Retreat House at Hillsboro - ECPv6.15.20//NONSGML v1.0//EN
CALSCALE:GREGORIAN
METHOD:PUBLISH
X-ORIGINAL-URL:https://retreathousehillsboro.org
X-WR-CALDESC:Events for The Retreat House at Hillsboro
REFRESH-INTERVAL;VALUE=DURATION:PT1H
X-Robots-Tag:noindex
X-PUBLISHED-TTL:PT1H
BEGIN:VTIMEZONE
TZID:America/New_York
BEGIN:DAYLIGHT
TZOFFSETFROM:-0500
TZOFFSETTO:-0400
TZNAME:EDT
DTSTART:20220313T070000
END:DAYLIGHT
BEGIN:STANDARD
TZOFFSETFROM:-0400
TZOFFSETTO:-0500
TZNAME:EST
DTSTART:20221106T060000
END:STANDARD
BEGIN:DAYLIGHT
TZOFFSETFROM:-0500
TZOFFSETTO:-0400
TZNAME:EDT
DTSTART:20230312T070000
END:DAYLIGHT
BEGIN:STANDARD
TZOFFSETFROM:-0400
TZOFFSETTO:-0500
TZNAME:EST
DTSTART:20231105T060000
END:STANDARD
BEGIN:DAYLIGHT
TZOFFSETFROM:-0500
TZOFFSETTO:-0400
TZNAME:EDT
DTSTART:20240310T070000
END:DAYLIGHT
BEGIN:STANDARD
TZOFFSETFROM:-0400
TZOFFSETTO:-0500
TZNAME:EST
DTSTART:20241103T060000
END:STANDARD
BEGIN:DAYLIGHT
TZOFFSETFROM:-0500
TZOFFSETTO:-0400
TZNAME:EDT
DTSTART:20250309T070000
END:DAYLIGHT
BEGIN:STANDARD
TZOFFSETFROM:-0400
TZOFFSETTO:-0500
TZNAME:EST
DTSTART:20251102T060000
END:STANDARD
END:VTIMEZONE
BEGIN:VEVENT
DTSTART;TZID=America/New_York:20230807T120000
DTEND;TZID=America/New_York:20240902T130000
DTSTAMP:20260425T183629
CREATED:20230804T130402Z
LAST-MODIFIED:20240928T194145Z
UID:10006214-1691409600-1725282000@retreathousehillsboro.org
SUMMARY:Wisdom Café
DESCRIPTION:All are welcome to join in this Retreat House gathering –  the Wisdom Café\, held each Monday from 12:00-1:00 p.m. on Zoom. \n\n\nWe usually begin with an inspirational reading\, enjoy a bit of quiet time. Then we take turns sharing what bubbles up and listen to each other’s reflections. It’s an hour of friendly companionship–no commitment\, no charge.\n\nCome and go as you please!\n\n\nIf you would like to receive an email reminder on Monday mornings (which will include the zoom link) please sign up here.\n\nOtherwise please add the date to your calendar for the Wisdom Café on Mondays at 12 Noon. \n\nHere’s the Zoom link.
URL:https://retreathousehillsboro.org/event/wisdom-cafe-2/2023-08-07/
LOCATION:ZOOM
ORGANIZER;CN="Heather Strang":MAILTO:heather@retreathousehillsboro.org
END:VEVENT
BEGIN:VEVENT
DTSTART;TZID=America/New_York:20230814T120000
DTEND;TZID=America/New_York:20240909T130000
DTSTAMP:20260425T183629
CREATED:20230804T130402Z
LAST-MODIFIED:20240928T194145Z
UID:10006215-1692014400-1725886800@retreathousehillsboro.org
SUMMARY:Wisdom Café
DESCRIPTION:All are welcome to join in this Retreat House gathering –  the Wisdom Café\, held each Monday from 12:00-1:00 p.m. on Zoom. \n\n\nWe usually begin with an inspirational reading\, enjoy a bit of quiet time. Then we take turns sharing what bubbles up and listen to each other’s reflections. It’s an hour of friendly companionship–no commitment\, no charge.\n\nCome and go as you please!\n\n\nIf you would like to receive an email reminder on Monday mornings (which will include the zoom link) please sign up here.\n\nOtherwise please add the date to your calendar for the Wisdom Café on Mondays at 12 Noon. \n\nHere’s the Zoom link.
URL:https://retreathousehillsboro.org/event/wisdom-cafe-2/2023-08-14/
LOCATION:ZOOM
ORGANIZER;CN="Heather Strang":MAILTO:heather@retreathousehillsboro.org
END:VEVENT
BEGIN:VEVENT
DTSTART;TZID=America/New_York:20230821T120000
DTEND;TZID=America/New_York:20240916T130000
DTSTAMP:20260425T183629
CREATED:20230804T130402Z
LAST-MODIFIED:20240928T194145Z
UID:10006216-1692619200-1726491600@retreathousehillsboro.org
SUMMARY:Wisdom Café
DESCRIPTION:All are welcome to join in this Retreat House gathering –  the Wisdom Café\, held each Monday from 12:00-1:00 p.m. on Zoom. \n\n\nWe usually begin with an inspirational reading\, enjoy a bit of quiet time. Then we take turns sharing what bubbles up and listen to each other’s reflections. It’s an hour of friendly companionship–no commitment\, no charge.\n\nCome and go as you please!\n\n\nIf you would like to receive an email reminder on Monday mornings (which will include the zoom link) please sign up here.\n\nOtherwise please add the date to your calendar for the Wisdom Café on Mondays at 12 Noon. \n\nHere’s the Zoom link.
URL:https://retreathousehillsboro.org/event/wisdom-cafe-2/2023-08-21/
LOCATION:ZOOM
ORGANIZER;CN="Heather Strang":MAILTO:heather@retreathousehillsboro.org
END:VEVENT
BEGIN:VEVENT
DTSTART;TZID=America/New_York:20230828T120000
DTEND;TZID=America/New_York:20240923T130000
DTSTAMP:20260425T183629
CREATED:20230804T130402Z
LAST-MODIFIED:20240928T194145Z
UID:10006217-1693224000-1727096400@retreathousehillsboro.org
SUMMARY:Wisdom Café
DESCRIPTION:All are welcome to join in this Retreat House gathering –  the Wisdom Café\, held each Monday from 12:00-1:00 p.m. on Zoom. \n\n\nWe usually begin with an inspirational reading\, enjoy a bit of quiet time. Then we take turns sharing what bubbles up and listen to each other’s reflections. It’s an hour of friendly companionship–no commitment\, no charge.\n\nCome and go as you please!\n\n\nIf you would like to receive an email reminder on Monday mornings (which will include the zoom link) please sign up here.\n\nOtherwise please add the date to your calendar for the Wisdom Café on Mondays at 12 Noon. \n\nHere’s the Zoom link.
URL:https://retreathousehillsboro.org/event/wisdom-cafe-2/2023-08-28/
LOCATION:ZOOM
ORGANIZER;CN="Heather Strang":MAILTO:heather@retreathousehillsboro.org
END:VEVENT
BEGIN:VEVENT
DTSTART;TZID=America/New_York:20231027T160000
DTEND;TZID=America/New_York:20231029T130000
DTSTAMP:20260425T183629
CREATED:20230329T210014Z
LAST-MODIFIED:20230906T124940Z
UID:10006198-1698422400-1698584400@retreathousehillsboro.org
SUMMARY:Women's Weekend Retreat - Blessing the Ordinary
DESCRIPTION:Women’s Weekend Retreat \nBlessing the Ordinary\n\n“What is a blessing? A blessing is a circle of light drawn around a person to protect\, heal\, and strengthen. Life is a constant flow of emergence. The beauty of blessing is its belief that it can affect what unfolds.”  \nJohn O’Donohue\, To Bless the Space Between Us: A Book of Blessings. \n  \n  \nIn the fall\, the rhythm of life picks up pace. We prepare for a new school year and plan for Thanksgiving\, Advent\, Christmas\, and the dawn of a New Year. This retreat is an opportunity to remember that every day is holy and that\, when we pay attention\, we can be blessed by the ordinary of our relationships\, environments\, and work. Blessing is a form of prayer that draws our attention to the people\, places\, and activities that open our hearts\, bring us joy\, and connect us to what often goes unnoticed. We will use scripture and poetry as models for how to receive and give blessings\, a prayer process that can set the tone for the upcoming holy seasons. Activities will include group discussion\, silent time for reflection\, practicing the art form of blessings through writing\, music and movement. Individual rooms are available at $395; limited shared rooms are available at $345.  \nThis event is full at this time. Please sign up for the wait list here- https://tinyurl.com/2023FallWeekend\nLINDA MASTRO is a graduate and on the faculty of the Bon Secours Spiritual Direction Institute in Marriottsville\, MD. She is also an Associate of Bon Secours. Linda is a spiritual companion for individuals and groups. She brings a spirit of compassion and light-heartedness to her work as a women’s retreat facilitator\, pilgrimage leader\, and workshop guide. Linda is co-author of the book Petite Retreats: Renewing Body\, Mind\, and Spirit without Leaving Home. Learn more about Linda at livingpilgrimage.com.
URL:https://retreathousehillsboro.org/event/womens-weekend-retreat-blessing-the-ordinary/
LOCATION:Foehliage Retreat Center\, 31450 Sassafras River Ave\, Galena\, MD\, 21635
CATEGORIES:Retreats,Weekend Retreat
ATTACH;FMTTYPE=image/jpeg:https://retreathousehillsboro.org/wp-content/uploads/2022/10/roman-kraft-XdbUsFkAwqA-unsplash-scaled.jpg
ORGANIZER;CN="Heather Strang":MAILTO:heather@retreathousehillsboro.org
END:VEVENT
BEGIN:VEVENT
DTSTART;TZID=America/New_York:20231030T171500
DTEND;TZID=America/New_York:20231030T174500
DTSTAMP:20260425T183629
CREATED:20200516T174227Z
LAST-MODIFIED:20220217T140407Z
UID:10005605-1698686100-1698687900@retreathousehillsboro.org
SUMMARY:Day's End Meditation & Prayers (weekdays)
DESCRIPTION:Listen\, breathe\, be still.\nA peaceful way to move into your evening.\nWeekdays 5:15 – 5:45 p.m.\nJoin online: https://zoom.us/j/212677840\nPassword: 944568\nCall in/Audio only: +1 301 715 8592
URL:https://retreathousehillsboro.org/event/days-end-evening-meditation/2023-10-30/
LOCATION:ZOOM Eve. Prayer: 212 677 840
ATTACH;FMTTYPE=image/jpeg:https://retreathousehillsboro.org/wp-content/uploads/2020/05/Twilight2.jpeg
ORGANIZER;CN="Meg Gallagher":MAILTO:info@retreathousehillsboro.org
END:VEVENT
BEGIN:VEVENT
DTSTART;TZID=America/New_York:20231031T171500
DTEND;TZID=America/New_York:20231031T174500
DTSTAMP:20260425T183629
CREATED:20200516T174227Z
LAST-MODIFIED:20220217T140407Z
UID:10005606-1698772500-1698774300@retreathousehillsboro.org
SUMMARY:Day's End Meditation & Prayers (weekdays)
DESCRIPTION:Listen\, breathe\, be still.\nA peaceful way to move into your evening.\nWeekdays 5:15 – 5:45 p.m.\nJoin online: https://zoom.us/j/212677840\nPassword: 944568\nCall in/Audio only: +1 301 715 8592
URL:https://retreathousehillsboro.org/event/days-end-evening-meditation/2023-10-31/
LOCATION:ZOOM Eve. Prayer: 212 677 840
ATTACH;FMTTYPE=image/jpeg:https://retreathousehillsboro.org/wp-content/uploads/2020/05/Twilight2.jpeg
ORGANIZER;CN="Meg Gallagher":MAILTO:info@retreathousehillsboro.org
END:VEVENT
BEGIN:VEVENT
DTSTART;TZID=America/New_York:20231101T171500
DTEND;TZID=America/New_York:20231101T174500
DTSTAMP:20260425T183629
CREATED:20200516T174227Z
LAST-MODIFIED:20220217T140407Z
UID:10005607-1698858900-1698860700@retreathousehillsboro.org
SUMMARY:Day's End Meditation & Prayers (weekdays)
DESCRIPTION:Listen\, breathe\, be still.\nA peaceful way to move into your evening.\nWeekdays 5:15 – 5:45 p.m.\nJoin online: https://zoom.us/j/212677840\nPassword: 944568\nCall in/Audio only: +1 301 715 8592
URL:https://retreathousehillsboro.org/event/days-end-evening-meditation/2023-11-01/
LOCATION:ZOOM Eve. Prayer: 212 677 840
ATTACH;FMTTYPE=image/jpeg:https://retreathousehillsboro.org/wp-content/uploads/2020/05/Twilight2.jpeg
ORGANIZER;CN="Meg Gallagher":MAILTO:info@retreathousehillsboro.org
END:VEVENT
BEGIN:VEVENT
DTSTART;TZID=America/New_York:20231101T173000
DTEND;TZID=America/New_York:20231101T193000
DTSTAMP:20260425T183629
CREATED:20231004T132110Z
LAST-MODIFIED:20231004T132424Z
UID:10006332-1698859800-1698867000@retreathousehillsboro.org
SUMMARY:Bread and Spiritual Community -- an open-hearted and curious conversation
DESCRIPTION:Bread and Spiritual Community\ngather for open hearted and curious conversation \nSt. Anne’s Parish House Library\nFour Wednesday Evenings\, 5:30 – 7:30 p.m.\nsimple supper from 5:30 – 6:00 p.m.\nNovember 1\, 8\, 15\, and 29\n\nNovember 1 – Finding Balance in Our Chaotic World \nThe Benedictine way of living seeks balance\, inviting a connection with God’s presence in each sector of our lives. We’ll look at daily practices that can easily weave into each day\, some of which we already engage in without naming them. We will explore the voices of Benedictine writers\, some contemporary and some ancient\, who share our passion for the earth\, healing prayer\, and finding balance and peace in the “other six days.” \nNovember 8 – What Do You Want? — Jesus asks the question\, “What do you want?” What do you want? Let’s gather and listen as community to what we seek in our lives\, our ministries\, and the world. \nNovember 15 – What Does Community Look Like? — We are intergenerational community as we grow each day in our work and ministries at St. Anne’s\,  in Annapolis\, and beyond. Come hear and share stories that hold glimpses of God’s Love in our walk of companionship alongside others.  \nNovember 29 – Soul Friends — Anam Cara is a word used by Celtic Christians to describe soul friendship. It is what is invited when we gather in Jesus’ promise that “Where two or more are gathered\, I am there.” Come and join in this evening of open-hearted exploration of living in friendship that can facilitate healing\, wholeness\, holiness\, and spiritual formation. Bring a friend!  \n  \nFor more information\, contact Heather@retreathousehillsboro.org and sign up here: https://www.signupgenius.com/go/10C0B4AA8AD2AA5F85-44619311-bread
URL:https://retreathousehillsboro.org/event/bread-and-spiritual-community-an-open-hearted-conversation/2023-11-01/
LOCATION:St. Anne’s Church Parish Hall\, 199 Duke of Gloucester St.\, Annapolis\, MD\, 21401\, United States
ATTACH;FMTTYPE=image/jpeg:https://retreathousehillsboro.org/wp-content/uploads/2023/10/erik-dungan-MQyCrJVFG8U-unsplash-scaled.jpg
ORGANIZER;CN="Heather Strang":MAILTO:heather@retreathousehillsboro.org
END:VEVENT
BEGIN:VEVENT
DTSTART;TZID=America/New_York:20231101T173000
DTEND;TZID=America/New_York:20231129T193000
DTSTAMP:20260425T183629
CREATED:20231229T134939Z
LAST-MODIFIED:20231229T134939Z
UID:10006339-1698859800-1701286200@retreathousehillsboro.org
SUMMARY:Bread and Spiritual Community -- an open-hearted and curious conversation
DESCRIPTION:Bread and Spiritual Community\ngather for open hearted and curious conversation \nSt. Anne’s Parish House Library\nFour Wednesday Evenings\, 5:30 – 7:30 p.m.\nsimple supper from 5:30 – 6:00 p.m.\nNovember 1\, 8\, 15\, and 29\n\nNovember 1 – Finding Balance in Our Chaotic World\n\nThe Benedictine way of living seeks balance\, inviting a connection with God’s presence in each sector of our lives. We’ll look at daily practices that can easily weave into each day\, some of which we already engage in without naming them. We will explore the voices of Benedictine writers\, some contemporary and some ancient\, who share our passion for the earth\, healing prayer\, and finding balance and peace in the “other six days.”\n\nNovember 8 – What Do You Want? — Jesus asks the question\, “What do you want?” What do you want? Let’s gather and listen as community to what we seek in our lives\, our ministries\, and the world.\n\nNovember 15 – What Does Community Look Like? — We are intergenerational community as we grow each day in our work and ministries at St. Anne’s\,  in Annapolis\, and beyond. Come hear and share stories that hold glimpses of God’s Love in our walk of companionship alongside others. \n\nNovember 29 – Soul Friends — Anam Cara is a word used by Celtic Christians to describe soul friendship. It is what is invited when we gather in Jesus’ promise that “Where two or more are gathered\, I am there.” Come and join in this evening of open-hearted exploration of living in friendship that can facilitate healing\, wholeness\, holiness\, and spiritual formation. Bring a friend! \n\n \n\nFor more information\, contact Heather@retreathousehillsboro.org and sign up here: https://www.signupgenius.com/go/10C0B4AA8AD2AA5F85-44619311-bread
URL:https://retreathousehillsboro.org/event/bread-and-spiritual-community-an-open-hearted-conversation-2/
LOCATION:St. Anne’s Church Parish Hall\, 199 Duke of Gloucester St.\, Annapolis\, MD\, 21401\, United States
ATTACH;FMTTYPE=image/jpeg:https://retreathousehillsboro.org/wp-content/uploads/2023/10/erik-dungan-MQyCrJVFG8U-unsplash-scaled.jpg
ORGANIZER;CN="Heather Strang":MAILTO:heather@retreathousehillsboro.org
END:VEVENT
BEGIN:VEVENT
DTSTART;TZID=America/New_York:20231102T171500
DTEND;TZID=America/New_York:20231102T174500
DTSTAMP:20260425T183629
CREATED:20200516T174227Z
LAST-MODIFIED:20220217T140407Z
UID:10005608-1698945300-1698947100@retreathousehillsboro.org
SUMMARY:Day's End Meditation & Prayers (weekdays)
DESCRIPTION:Listen\, breathe\, be still.\nA peaceful way to move into your evening.\nWeekdays 5:15 – 5:45 p.m.\nJoin online: https://zoom.us/j/212677840\nPassword: 944568\nCall in/Audio only: +1 301 715 8592
URL:https://retreathousehillsboro.org/event/days-end-evening-meditation/2023-11-02/
LOCATION:ZOOM Eve. Prayer: 212 677 840
ATTACH;FMTTYPE=image/jpeg:https://retreathousehillsboro.org/wp-content/uploads/2020/05/Twilight2.jpeg
ORGANIZER;CN="Meg Gallagher":MAILTO:info@retreathousehillsboro.org
END:VEVENT
BEGIN:VEVENT
DTSTART;TZID=America/New_York:20231103T171500
DTEND;TZID=America/New_York:20231103T174500
DTSTAMP:20260425T183629
CREATED:20200516T174227Z
LAST-MODIFIED:20220217T140407Z
UID:10005609-1699031700-1699033500@retreathousehillsboro.org
SUMMARY:Day's End Meditation & Prayers (weekdays)
DESCRIPTION:Listen\, breathe\, be still.\nA peaceful way to move into your evening.\nWeekdays 5:15 – 5:45 p.m.\nJoin online: https://zoom.us/j/212677840\nPassword: 944568\nCall in/Audio only: +1 301 715 8592
URL:https://retreathousehillsboro.org/event/days-end-evening-meditation/2023-11-03/
LOCATION:ZOOM Eve. Prayer: 212 677 840
ATTACH;FMTTYPE=image/jpeg:https://retreathousehillsboro.org/wp-content/uploads/2020/05/Twilight2.jpeg
ORGANIZER;CN="Meg Gallagher":MAILTO:info@retreathousehillsboro.org
END:VEVENT
END:VCALENDAR