BEGIN:VCALENDAR
VERSION:2.0
PRODID:-//The Retreat House at Hillsboro - ECPv6.15.20//NONSGML v1.0//EN
CALSCALE:GREGORIAN
METHOD:PUBLISH
X-WR-CALNAME:The Retreat House at Hillsboro
X-ORIGINAL-URL:https://retreathousehillsboro.org
X-WR-CALDESC:Events for The Retreat House at Hillsboro
REFRESH-INTERVAL;VALUE=DURATION:PT1H
X-Robots-Tag:noindex
X-PUBLISHED-TTL:PT1H
BEGIN:VTIMEZONE
TZID:America/New_York
BEGIN:DAYLIGHT
TZOFFSETFROM:-0500
TZOFFSETTO:-0400
TZNAME:EDT
DTSTART:20220313T070000
END:DAYLIGHT
BEGIN:STANDARD
TZOFFSETFROM:-0400
TZOFFSETTO:-0500
TZNAME:EST
DTSTART:20221106T060000
END:STANDARD
BEGIN:DAYLIGHT
TZOFFSETFROM:-0500
TZOFFSETTO:-0400
TZNAME:EDT
DTSTART:20230312T070000
END:DAYLIGHT
BEGIN:STANDARD
TZOFFSETFROM:-0400
TZOFFSETTO:-0500
TZNAME:EST
DTSTART:20231105T060000
END:STANDARD
BEGIN:DAYLIGHT
TZOFFSETFROM:-0500
TZOFFSETTO:-0400
TZNAME:EDT
DTSTART:20240310T070000
END:DAYLIGHT
BEGIN:STANDARD
TZOFFSETFROM:-0400
TZOFFSETTO:-0500
TZNAME:EST
DTSTART:20241103T060000
END:STANDARD
BEGIN:DAYLIGHT
TZOFFSETFROM:-0500
TZOFFSETTO:-0400
TZNAME:EDT
DTSTART:20250309T070000
END:DAYLIGHT
BEGIN:STANDARD
TZOFFSETFROM:-0400
TZOFFSETTO:-0500
TZNAME:EST
DTSTART:20251102T060000
END:STANDARD
END:VTIMEZONE
BEGIN:VEVENT
DTSTART;TZID=America/New_York:20230807T120000
DTEND;TZID=America/New_York:20240902T130000
DTSTAMP:20260425T200244
CREATED:20230804T130402Z
LAST-MODIFIED:20240928T194145Z
UID:10006214-1691409600-1725282000@retreathousehillsboro.org
SUMMARY:Wisdom Café
DESCRIPTION:All are welcome to join in this Retreat House gathering –  the Wisdom Café\, held each Monday from 12:00-1:00 p.m. on Zoom. \n\n\nWe usually begin with an inspirational reading\, enjoy a bit of quiet time. Then we take turns sharing what bubbles up and listen to each other’s reflections. It’s an hour of friendly companionship–no commitment\, no charge.\n\nCome and go as you please!\n\n\nIf you would like to receive an email reminder on Monday mornings (which will include the zoom link) please sign up here.\n\nOtherwise please add the date to your calendar for the Wisdom Café on Mondays at 12 Noon. \n\nHere’s the Zoom link.
URL:https://retreathousehillsboro.org/event/wisdom-cafe-2/2023-08-07/
LOCATION:ZOOM
ORGANIZER;CN="Heather Strang":MAILTO:heather@retreathousehillsboro.org
END:VEVENT
BEGIN:VEVENT
DTSTART;TZID=America/New_York:20230814T120000
DTEND;TZID=America/New_York:20240909T130000
DTSTAMP:20260425T200244
CREATED:20230804T130402Z
LAST-MODIFIED:20240928T194145Z
UID:10006215-1692014400-1725886800@retreathousehillsboro.org
SUMMARY:Wisdom Café
DESCRIPTION:All are welcome to join in this Retreat House gathering –  the Wisdom Café\, held each Monday from 12:00-1:00 p.m. on Zoom. \n\n\nWe usually begin with an inspirational reading\, enjoy a bit of quiet time. Then we take turns sharing what bubbles up and listen to each other’s reflections. It’s an hour of friendly companionship–no commitment\, no charge.\n\nCome and go as you please!\n\n\nIf you would like to receive an email reminder on Monday mornings (which will include the zoom link) please sign up here.\n\nOtherwise please add the date to your calendar for the Wisdom Café on Mondays at 12 Noon. \n\nHere’s the Zoom link.
URL:https://retreathousehillsboro.org/event/wisdom-cafe-2/2023-08-14/
LOCATION:ZOOM
ORGANIZER;CN="Heather Strang":MAILTO:heather@retreathousehillsboro.org
END:VEVENT
BEGIN:VEVENT
DTSTART;TZID=America/New_York:20230821T120000
DTEND;TZID=America/New_York:20240916T130000
DTSTAMP:20260425T200244
CREATED:20230804T130402Z
LAST-MODIFIED:20240928T194145Z
UID:10006216-1692619200-1726491600@retreathousehillsboro.org
SUMMARY:Wisdom Café
DESCRIPTION:All are welcome to join in this Retreat House gathering –  the Wisdom Café\, held each Monday from 12:00-1:00 p.m. on Zoom. \n\n\nWe usually begin with an inspirational reading\, enjoy a bit of quiet time. Then we take turns sharing what bubbles up and listen to each other’s reflections. It’s an hour of friendly companionship–no commitment\, no charge.\n\nCome and go as you please!\n\n\nIf you would like to receive an email reminder on Monday mornings (which will include the zoom link) please sign up here.\n\nOtherwise please add the date to your calendar for the Wisdom Café on Mondays at 12 Noon. \n\nHere’s the Zoom link.
URL:https://retreathousehillsboro.org/event/wisdom-cafe-2/2023-08-21/
LOCATION:ZOOM
ORGANIZER;CN="Heather Strang":MAILTO:heather@retreathousehillsboro.org
END:VEVENT
BEGIN:VEVENT
DTSTART;TZID=America/New_York:20230828T120000
DTEND;TZID=America/New_York:20240923T130000
DTSTAMP:20260425T200244
CREATED:20230804T130402Z
LAST-MODIFIED:20240928T194145Z
UID:10006217-1693224000-1727096400@retreathousehillsboro.org
SUMMARY:Wisdom Café
DESCRIPTION:All are welcome to join in this Retreat House gathering –  the Wisdom Café\, held each Monday from 12:00-1:00 p.m. on Zoom. \n\n\nWe usually begin with an inspirational reading\, enjoy a bit of quiet time. Then we take turns sharing what bubbles up and listen to each other’s reflections. It’s an hour of friendly companionship–no commitment\, no charge.\n\nCome and go as you please!\n\n\nIf you would like to receive an email reminder on Monday mornings (which will include the zoom link) please sign up here.\n\nOtherwise please add the date to your calendar for the Wisdom Café on Mondays at 12 Noon. \n\nHere’s the Zoom link.
URL:https://retreathousehillsboro.org/event/wisdom-cafe-2/2023-08-28/
LOCATION:ZOOM
ORGANIZER;CN="Heather Strang":MAILTO:heather@retreathousehillsboro.org
END:VEVENT
BEGIN:VEVENT
DTSTART;TZID=America/New_York:20231023T171500
DTEND;TZID=America/New_York:20231023T174500
DTSTAMP:20260425T200244
CREATED:20200516T174227Z
LAST-MODIFIED:20220217T140407Z
UID:10005600-1698081300-1698083100@retreathousehillsboro.org
SUMMARY:Day's End Meditation & Prayers (weekdays)
DESCRIPTION:Listen\, breathe\, be still.\nA peaceful way to move into your evening.\nWeekdays 5:15 – 5:45 p.m.\nJoin online: https://zoom.us/j/212677840\nPassword: 944568\nCall in/Audio only: +1 301 715 8592
URL:https://retreathousehillsboro.org/event/days-end-evening-meditation/2023-10-23/
LOCATION:ZOOM Eve. Prayer: 212 677 840
ATTACH;FMTTYPE=image/jpeg:https://retreathousehillsboro.org/wp-content/uploads/2020/05/Twilight2.jpeg
ORGANIZER;CN="Meg Gallagher":MAILTO:info@retreathousehillsboro.org
END:VEVENT
BEGIN:VEVENT
DTSTART;TZID=America/New_York:20231024T150000
DTEND;TZID=America/New_York:20231024T163000
DTSTAMP:20260425T200244
CREATED:20230913T205052Z
LAST-MODIFIED:20230920T134131Z
UID:10006268-1698159600-1698165000@retreathousehillsboro.org
SUMMARY:Spirituality and Aging - Annapolis and Online
DESCRIPTION:Spirituality and Aging\nTuesday Afternoon \nOctober 24th\n3:00 pm – 4:30 pm\n \nSt. Anne’s Parish House\nAnnapolis\, Maryland\n in person and online\n \nPlease join us and explore spirituality and aging with Dorothy Linthicum. All are welcome\, whether you are journeying with a loved one or are an older adult yourself.  We will explore what spirituality might be like for older adults and how spiritual practice in everyday life can enrich and deepen the aging process\, including the process of death and dying. How can spiritual practices guide us and our loved ones to tap into the ultimate meaning in our lives? Additionally\, the speaker will share with us questions to ponder and spiritual practices for use after the presentation\, both individually and/or in community.\nRegistration fee/suggested donation: $25. Please don’t let finances keep you from attending. For more information\, please email heather@retreathousehillsboro.org \nIn-person attendance: We are grateful for advanced registration for attending in person\, so that we can prepare. All in-person registrants will also receive an online link should your situation change\, or for viewing the presentation again. \nOnline viewing:  Register for online viewing if you know you cannot attend in person. You will be able to watch the event when it is convenient for you\, or stream it on October 24th at 3pm. See our website for information on other event locations and dates.\n \nREGISTER HERE to attend IN PERSON: https://tinyurl.com/SpiritualityAgingANNAPOLIS  \nREGISTER HERE to attend ONLINE: https://tinyurl.com/SpiritualityAgingONLINE \n  \nABOUT THE SPEAKER: Dorothy is a retired instructor from Virginia Theological Seminary. As part of her work\, she served as a catechist for the Virginia Theological Seminary Baptized for Life initiative. She has studied and taught courses and workshops about older adult spirituality and ministry throughout the country. Dorothy is a passionate and well-practiced formation guide\, speaker\, and co-author of Redeeming Dementia: Spirituality\, Theology\, and Science\, with Janice Hicks\, for caregivers and people facing dementia.
URL:https://retreathousehillsboro.org/event/spirituality-and-aging-3/
LOCATION:St. Anne’s Parish House Annapolis\, 199 Duke of Gloucester Street\, Annapolis\, MD\, 21401\, United States
CATEGORIES:Retreats,Speaker,Support Groups
ATTACH;FMTTYPE=image/png:https://retreathousehillsboro.org/wp-content/uploads/2023/09/Spirituality-and-Aging-Churches-version.png
ORGANIZER;CN="The Retreat House":MAILTO:heather@retreathousehillsboro.org
END:VEVENT
BEGIN:VEVENT
DTSTART;TZID=America/New_York:20231024T171500
DTEND;TZID=America/New_York:20231024T174500
DTSTAMP:20260425T200244
CREATED:20200516T174227Z
LAST-MODIFIED:20220217T140407Z
UID:10005601-1698167700-1698169500@retreathousehillsboro.org
SUMMARY:Day's End Meditation & Prayers (weekdays)
DESCRIPTION:Listen\, breathe\, be still.\nA peaceful way to move into your evening.\nWeekdays 5:15 – 5:45 p.m.\nJoin online: https://zoom.us/j/212677840\nPassword: 944568\nCall in/Audio only: +1 301 715 8592
URL:https://retreathousehillsboro.org/event/days-end-evening-meditation/2023-10-24/
LOCATION:ZOOM Eve. Prayer: 212 677 840
ATTACH;FMTTYPE=image/jpeg:https://retreathousehillsboro.org/wp-content/uploads/2020/05/Twilight2.jpeg
ORGANIZER;CN="Meg Gallagher":MAILTO:info@retreathousehillsboro.org
END:VEVENT
BEGIN:VEVENT
DTSTART;TZID=America/New_York:20231025T100000
DTEND;TZID=America/New_York:20231025T113000
DTSTAMP:20260425T200244
CREATED:20230914T125330Z
LAST-MODIFIED:20230920T134515Z
UID:10006273-1698228000-1698233400@retreathousehillsboro.org
SUMMARY:Spirituality and Aging - Chestertown
DESCRIPTION:Spirituality and Aging\nWednesday Morning \nOctober 25th\n10:00 am – 11:30 pm\nEmmanuel Episcopal Church\, Chester Parish\nChestertown\, Maryland\n\n in person and online\n\n\nPlease join us and explore spirituality and aging with Dorothy Linthicum. All are welcome\, whether you are journeying with a loved one or are an older adult yourself.  We will explore what spirituality might be like for older adults and how spiritual practice in everyday life can enrich and deepen the aging process\, including the process of death and dying. How can spiritual practices guide us and our loved ones to tap into the ultimate meaning in our lives? Additionally\, the speaker will share with us questions to ponder and spiritual practices for use after the presentation\, both individually and/or in community.\nRegistration fee/suggested donation: $25. Please don’t let finances keep you from attending. For more information\, please email heather@retreathousehillsboro.org  \nIn-person attendance: We are grateful for advanced registration for attending in person\, so that we can prepare. All in-person registrants will also receive an online link should your situation change\, or for viewing the presentation again. \nOnline viewing:  Register for online viewing if you know you cannot attend in person. You will be able to watch the event when it is convenient for you\, or stream it on October 24th at 3pm. See our website for information on other event locations and dates.\n  \nREGISTER HERE to attend IN PERSON: https://tinyurl.com/SpiritualityandAgingCHESTER \nREGISTER HERE to attend ONLINE: https://tinyurl.com/SpiritualityAgingONLINE \n  \nABOUT THE SPEAKER: Dorothy is a retired instructor from Virginia Theological Seminary. As part of her work\, she served as a catechist for the Virginia Theological Seminary Baptized for Life initiative. She has studied and taught courses and workshops about older adult spirituality and ministry throughout the country. Dorothy is a passionate and well-practiced formation guide\, speaker\, and co-author of Redeeming Dementia: Spirituality\, Theology\, and Science\, with Janice Hicks\, for caregivers and people facing dementia.
URL:https://retreathousehillsboro.org/event/spirituality-and-aging-4/
LOCATION:Emmanuel Church\, 101 N. Cross St.\, Chestertown\, MD\, 21620\, United States
ATTACH;FMTTYPE=image/png:https://retreathousehillsboro.org/wp-content/uploads/2023/09/Spirituality-and-Aging-Churches-version.png
GEO:39.2092721;-76.0660689
X-APPLE-STRUCTURED-LOCATION;VALUE=URI;X-ADDRESS=Emmanuel Church 101 N. Cross St. Chestertown MD 21620 United States;X-APPLE-RADIUS=500;X-TITLE=101 N. Cross St.:geo:-76.0660689,39.2092721
END:VEVENT
BEGIN:VEVENT
DTSTART;TZID=America/New_York:20231025T150000
DTEND;TZID=America/New_York:20231025T163000
DTSTAMP:20260425T200244
CREATED:20230914T123816Z
LAST-MODIFIED:20230920T134802Z
UID:10006272-1698246000-1698251400@retreathousehillsboro.org
SUMMARY:Spirituality and Aging - Holy Trinity Oxford
DESCRIPTION:Spirituality and Aging\nWednesday Afternoon \nOctober 25th\n3:00 pm – 4:30 pm\nThe Church of the Holy Trinity\nOxford\, Maryland\n\n in person and online\n\n\nPlease join us and explore spirituality and aging with Dorothy Linthicum. All are welcome\, whether you are journeying with a loved one or are an older adult yourself.  We will explore what spirituality might be like for older adults and how spiritual practice in everyday life can enrich and deepen the aging process\, including the process of death and dying. How can spiritual practices guide us and our loved ones to tap into the ultimate meaning in our lives? Additionally\, the speaker will share with us questions to ponder and spiritual practices for use after the presentation\, both individually and/or in community.\nRegistration fee/suggested donation: $25. Please don’t let finances keep you from attending. For more information\, please email heather@retreathousehillsboro.org \nIn-person attendance: We are grateful for advanced registration for attending in person\, so that we can prepare. All in-person registrants will also receive an online link should your situation change\, or for viewing the presentation again. \nOnline viewing:  Register for online viewing if you know you cannot attend in person. You will be able to watch the event when it is convenient for you\, or stream it on October 24th at 3pm. See our website for information on other event locations and dates.\n  \nREGISTER HERE to attend IN PERSON: https://tinyurl.com/SpiritualityandAgingOXFORD \nREGISTER HERE to attend ONLINE: https://tinyurl.com/SpiritualityAgingONLINE \n  \nABOUT THE SPEAKER: Dorothy is a retired instructor from Virginia Theological Seminary. As part of her work\, she served as a catechist for the Virginia Theological Seminary Baptized for Life initiative. She has studied and taught courses and workshops about older adult spirituality and ministry throughout the country. Dorothy is a passionate and well-practiced formation guide\, speaker\, and co-author of Redeeming Dementia: Spirituality\, Theology\, and Science\, with Janice Hicks\, for caregivers and people facing dementia.
URL:https://retreathousehillsboro.org/event/spirituality-and-aging-holy-trinity-oxford/
LOCATION:Holy Trinity Oxford\, 502 S. Morris St.\, Oxford\, MD\, 21654\, United States
ATTACH;FMTTYPE=image/png:https://retreathousehillsboro.org/wp-content/uploads/2023/09/Spirituality-and-Aging-Churches-version.png
END:VEVENT
BEGIN:VEVENT
DTSTART;TZID=America/New_York:20231025T171500
DTEND;TZID=America/New_York:20231025T174500
DTSTAMP:20260425T200244
CREATED:20200516T174227Z
LAST-MODIFIED:20220217T140407Z
UID:10005602-1698254100-1698255900@retreathousehillsboro.org
SUMMARY:Day's End Meditation & Prayers (weekdays)
DESCRIPTION:Listen\, breathe\, be still.\nA peaceful way to move into your evening.\nWeekdays 5:15 – 5:45 p.m.\nJoin online: https://zoom.us/j/212677840\nPassword: 944568\nCall in/Audio only: +1 301 715 8592
URL:https://retreathousehillsboro.org/event/days-end-evening-meditation/2023-10-25/
LOCATION:ZOOM Eve. Prayer: 212 677 840
ATTACH;FMTTYPE=image/jpeg:https://retreathousehillsboro.org/wp-content/uploads/2020/05/Twilight2.jpeg
ORGANIZER;CN="Meg Gallagher":MAILTO:info@retreathousehillsboro.org
END:VEVENT
BEGIN:VEVENT
DTSTART;TZID=America/New_York:20231026T110000
DTEND;TZID=America/New_York:20231026T121500
DTSTAMP:20260425T200244
CREATED:20230929T002754Z
LAST-MODIFIED:20231004T130927Z
UID:10006275-1698318000-1698322500@retreathousehillsboro.org
SUMMARY:A Conversation with Dorothy Linthicum about Spirituality and Aging
DESCRIPTION:In collaboration with The Retreat House\, Wye Parish welcomes you to ~\n\nA Conversation with Dorothy Linthicum About Spirituality and Aging\nThursday Morning\, October 26th\n11:00 am – 12:15 pm\nWye Parish Rectory\nWye Mills\, Maryland\nin person\n\n\n\n\nPlease join us for conversation with Dorothy Linthicum as we explore spirituality and aging. All are welcome\, whether you are journeying with a loved one\, are an older adult yourself\, or\, are providing care and support for a community of older adults. All questions are welcome—whether you are an individual\, a ministry leader\, a clergy person\, and educator\, or a care provider.\nBring your questions! We will explore what spirituality might be like for older adults and how spiritual practice in everyday life can enrich and deepen the aging process\, including the process of death and dying. How can spiritual practices guide us and our loved ones to tap into the ultimate meaning in our lives?\nRegistration fee/suggested donation: $25. Please don’t let finances keep you from attending. For more information\, please email heather@retreathousehillsboro.org All registrants for this conversation will also receive an online link to view the speaker presenting on this topic. See our website for information on other event locations and dates.\nREGISTER HERE: https://tinyurl.com/SpiritualityAgingWYEPARISH\nABOUT THE SPEAKER: Dorothy is a retired instructor from Virginia Theological Seminary. As part of her work\, she served as a catechist for the Virginia Theological Seminary Baptized for Life initiative. She has studied and taught courses and workshops about older adult spirituality and ministry throughout the country. Dorothy is a passionate and well-practiced formation guide\, speaker\, and co-author of Redeeming Dementia: Spirituality\, Theology\, and Science\, with Janice Hicks\, for caregivers and people facing dementia.
URL:https://retreathousehillsboro.org/event/a-conversation-with-dorothy-linthicum-about-spirituality-and-aging/
LOCATION:Wye Parish\, 14114 Old Wye Mills Rd\, Wye Mills\, MD\, 21679\, United States
ATTACH;FMTTYPE=image/png:https://retreathousehillsboro.org/wp-content/uploads/2023/09/Spirituality-and-Aging-Churches-version.png
END:VEVENT
BEGIN:VEVENT
DTSTART;TZID=America/New_York:20231026T171500
DTEND;TZID=America/New_York:20231026T174500
DTSTAMP:20260425T200244
CREATED:20200516T174227Z
LAST-MODIFIED:20220217T140407Z
UID:10005603-1698340500-1698342300@retreathousehillsboro.org
SUMMARY:Day's End Meditation & Prayers (weekdays)
DESCRIPTION:Listen\, breathe\, be still.\nA peaceful way to move into your evening.\nWeekdays 5:15 – 5:45 p.m.\nJoin online: https://zoom.us/j/212677840\nPassword: 944568\nCall in/Audio only: +1 301 715 8592
URL:https://retreathousehillsboro.org/event/days-end-evening-meditation/2023-10-26/
LOCATION:ZOOM Eve. Prayer: 212 677 840
ATTACH;FMTTYPE=image/jpeg:https://retreathousehillsboro.org/wp-content/uploads/2020/05/Twilight2.jpeg
ORGANIZER;CN="Meg Gallagher":MAILTO:info@retreathousehillsboro.org
END:VEVENT
BEGIN:VEVENT
DTSTART;TZID=America/New_York:20231027T160000
DTEND;TZID=America/New_York:20231029T130000
DTSTAMP:20260425T200244
CREATED:20230329T210014Z
LAST-MODIFIED:20230906T124940Z
UID:10006198-1698422400-1698584400@retreathousehillsboro.org
SUMMARY:Women's Weekend Retreat - Blessing the Ordinary
DESCRIPTION:Women’s Weekend Retreat \nBlessing the Ordinary\n\n“What is a blessing? A blessing is a circle of light drawn around a person to protect\, heal\, and strengthen. Life is a constant flow of emergence. The beauty of blessing is its belief that it can affect what unfolds.”  \nJohn O’Donohue\, To Bless the Space Between Us: A Book of Blessings. \n  \n  \nIn the fall\, the rhythm of life picks up pace. We prepare for a new school year and plan for Thanksgiving\, Advent\, Christmas\, and the dawn of a New Year. This retreat is an opportunity to remember that every day is holy and that\, when we pay attention\, we can be blessed by the ordinary of our relationships\, environments\, and work. Blessing is a form of prayer that draws our attention to the people\, places\, and activities that open our hearts\, bring us joy\, and connect us to what often goes unnoticed. We will use scripture and poetry as models for how to receive and give blessings\, a prayer process that can set the tone for the upcoming holy seasons. Activities will include group discussion\, silent time for reflection\, practicing the art form of blessings through writing\, music and movement. Individual rooms are available at $395; limited shared rooms are available at $345.  \nThis event is full at this time. Please sign up for the wait list here- https://tinyurl.com/2023FallWeekend\nLINDA MASTRO is a graduate and on the faculty of the Bon Secours Spiritual Direction Institute in Marriottsville\, MD. She is also an Associate of Bon Secours. Linda is a spiritual companion for individuals and groups. She brings a spirit of compassion and light-heartedness to her work as a women’s retreat facilitator\, pilgrimage leader\, and workshop guide. Linda is co-author of the book Petite Retreats: Renewing Body\, Mind\, and Spirit without Leaving Home. Learn more about Linda at livingpilgrimage.com.
URL:https://retreathousehillsboro.org/event/womens-weekend-retreat-blessing-the-ordinary/
LOCATION:Foehliage Retreat Center\, 31450 Sassafras River Ave\, Galena\, MD\, 21635
CATEGORIES:Retreats,Weekend Retreat
ATTACH;FMTTYPE=image/jpeg:https://retreathousehillsboro.org/wp-content/uploads/2022/10/roman-kraft-XdbUsFkAwqA-unsplash-scaled.jpg
ORGANIZER;CN="Heather Strang":MAILTO:heather@retreathousehillsboro.org
END:VEVENT
BEGIN:VEVENT
DTSTART;TZID=America/New_York:20231027T171500
DTEND;TZID=America/New_York:20231027T174500
DTSTAMP:20260425T200244
CREATED:20200516T174227Z
LAST-MODIFIED:20220217T140407Z
UID:10005604-1698426900-1698428700@retreathousehillsboro.org
SUMMARY:Day's End Meditation & Prayers (weekdays)
DESCRIPTION:Listen\, breathe\, be still.\nA peaceful way to move into your evening.\nWeekdays 5:15 – 5:45 p.m.\nJoin online: https://zoom.us/j/212677840\nPassword: 944568\nCall in/Audio only: +1 301 715 8592
URL:https://retreathousehillsboro.org/event/days-end-evening-meditation/2023-10-27/
LOCATION:ZOOM Eve. Prayer: 212 677 840
ATTACH;FMTTYPE=image/jpeg:https://retreathousehillsboro.org/wp-content/uploads/2020/05/Twilight2.jpeg
ORGANIZER;CN="Meg Gallagher":MAILTO:info@retreathousehillsboro.org
END:VEVENT
END:VCALENDAR