BEGIN:VCALENDAR
VERSION:2.0
PRODID:-//The Retreat House at Hillsboro - ECPv6.15.20//NONSGML v1.0//EN
CALSCALE:GREGORIAN
METHOD:PUBLISH
X-ORIGINAL-URL:https://retreathousehillsboro.org
X-WR-CALDESC:Events for The Retreat House at Hillsboro
REFRESH-INTERVAL;VALUE=DURATION:PT1H
X-Robots-Tag:noindex
X-PUBLISHED-TTL:PT1H
BEGIN:VTIMEZONE
TZID:America/New_York
BEGIN:DAYLIGHT
TZOFFSETFROM:-0500
TZOFFSETTO:-0400
TZNAME:EDT
DTSTART:20210314T070000
END:DAYLIGHT
BEGIN:STANDARD
TZOFFSETFROM:-0400
TZOFFSETTO:-0500
TZNAME:EST
DTSTART:20211107T060000
END:STANDARD
BEGIN:DAYLIGHT
TZOFFSETFROM:-0500
TZOFFSETTO:-0400
TZNAME:EDT
DTSTART:20220313T070000
END:DAYLIGHT
BEGIN:STANDARD
TZOFFSETFROM:-0400
TZOFFSETTO:-0500
TZNAME:EST
DTSTART:20221106T060000
END:STANDARD
BEGIN:DAYLIGHT
TZOFFSETFROM:-0500
TZOFFSETTO:-0400
TZNAME:EDT
DTSTART:20230312T070000
END:DAYLIGHT
BEGIN:STANDARD
TZOFFSETFROM:-0400
TZOFFSETTO:-0500
TZNAME:EST
DTSTART:20231105T060000
END:STANDARD
BEGIN:DAYLIGHT
TZOFFSETFROM:-0500
TZOFFSETTO:-0400
TZNAME:EDT
DTSTART:20240310T070000
END:DAYLIGHT
BEGIN:STANDARD
TZOFFSETFROM:-0400
TZOFFSETTO:-0500
TZNAME:EST
DTSTART:20241103T060000
END:STANDARD
END:VTIMEZONE
BEGIN:VEVENT
DTSTART;TZID=America/New_York:20220801T120000
DTEND;TZID=America/New_York:20230801T130000
DTSTAMP:20260425T232136
CREATED:20220726T232401Z
LAST-MODIFIED:20230620T155656Z
UID:10005734-1659355200-1690894800@retreathousehillsboro.org
SUMMARY:Wisdom Café
DESCRIPTION:All are welcome to join in this Retreat House gathering –  \n \nthe Wisdom Café\, held each Monday from 12:00-1:00 p.m. on Zoom.\n \nWe usually begin with an inspirational reading\, enjoy a bit of quiet time. Then we take turns sharing what bubbles up and listen to each other’s reflections. It’s an hour of friendly companionship–no commitment\, no charge. Come and go as you please!\n \nIf you would like to receive an email reminder on Monday mornings (which will include the zoom link) please sign up here.\n \nOtherwise please add the date to your calendar for the Wisdom Café on Mondays at 12 Noon. \n \nHere’s the Zoom link.
URL:https://retreathousehillsboro.org/event/wisdom-cafe/
LOCATION:The Retreat House\, 22005 Church Street\, Hillsboro\, MD\, 21641\, United States
ATTACH;FMTTYPE=image/jpeg:https://retreathousehillsboro.org/wp-content/uploads/2021/03/unnamed-7.jpg
GEO:38.914958;-75.94222
X-APPLE-STRUCTURED-LOCATION;VALUE=URI;X-ADDRESS=The Retreat House 22005 Church Street Hillsboro MD 21641 United States;X-APPLE-RADIUS=500;X-TITLE=22005 Church Street:geo:-75.94222,38.914958
END:VEVENT
BEGIN:VEVENT
DTSTART;TZID=America/New_York:20230731T171500
DTEND;TZID=America/New_York:20230731T174500
DTSTAMP:20260425T232136
CREATED:20200516T174227Z
LAST-MODIFIED:20220217T140407Z
UID:10005540-1690823700-1690825500@retreathousehillsboro.org
SUMMARY:Day's End Meditation & Prayers (weekdays)
DESCRIPTION:Listen\, breathe\, be still.\nA peaceful way to move into your evening.\nWeekdays 5:15 – 5:45 p.m.\nJoin online: https://zoom.us/j/212677840\nPassword: 944568\nCall in/Audio only: +1 301 715 8592
URL:https://retreathousehillsboro.org/event/days-end-evening-meditation/2023-07-31/
LOCATION:ZOOM Eve. Prayer: 212 677 840
ATTACH;FMTTYPE=image/jpeg:https://retreathousehillsboro.org/wp-content/uploads/2020/05/Twilight2.jpeg
ORGANIZER;CN="Meg Gallagher":MAILTO:info@retreathousehillsboro.org
END:VEVENT
BEGIN:VEVENT
DTSTART;TZID=America/New_York:20230801T171500
DTEND;TZID=America/New_York:20230801T174500
DTSTAMP:20260425T232136
CREATED:20200516T174227Z
LAST-MODIFIED:20220217T140407Z
UID:10005541-1690910100-1690911900@retreathousehillsboro.org
SUMMARY:Day's End Meditation & Prayers (weekdays)
DESCRIPTION:Listen\, breathe\, be still.\nA peaceful way to move into your evening.\nWeekdays 5:15 – 5:45 p.m.\nJoin online: https://zoom.us/j/212677840\nPassword: 944568\nCall in/Audio only: +1 301 715 8592
URL:https://retreathousehillsboro.org/event/days-end-evening-meditation/2023-08-01/
LOCATION:ZOOM Eve. Prayer: 212 677 840
ATTACH;FMTTYPE=image/jpeg:https://retreathousehillsboro.org/wp-content/uploads/2020/05/Twilight2.jpeg
ORGANIZER;CN="Meg Gallagher":MAILTO:info@retreathousehillsboro.org
END:VEVENT
BEGIN:VEVENT
DTSTART;TZID=America/New_York:20230802T171500
DTEND;TZID=America/New_York:20230802T174500
DTSTAMP:20260425T232136
CREATED:20200516T174227Z
LAST-MODIFIED:20220217T140407Z
UID:10005542-1690996500-1690998300@retreathousehillsboro.org
SUMMARY:Day's End Meditation & Prayers (weekdays)
DESCRIPTION:Listen\, breathe\, be still.\nA peaceful way to move into your evening.\nWeekdays 5:15 – 5:45 p.m.\nJoin online: https://zoom.us/j/212677840\nPassword: 944568\nCall in/Audio only: +1 301 715 8592
URL:https://retreathousehillsboro.org/event/days-end-evening-meditation/2023-08-02/
LOCATION:ZOOM Eve. Prayer: 212 677 840
ATTACH;FMTTYPE=image/jpeg:https://retreathousehillsboro.org/wp-content/uploads/2020/05/Twilight2.jpeg
ORGANIZER;CN="Meg Gallagher":MAILTO:info@retreathousehillsboro.org
END:VEVENT
BEGIN:VEVENT
DTSTART;TZID=America/New_York:20230803T171500
DTEND;TZID=America/New_York:20230803T174500
DTSTAMP:20260425T232136
CREATED:20200516T174227Z
LAST-MODIFIED:20220217T140407Z
UID:10005543-1691082900-1691084700@retreathousehillsboro.org
SUMMARY:Day's End Meditation & Prayers (weekdays)
DESCRIPTION:Listen\, breathe\, be still.\nA peaceful way to move into your evening.\nWeekdays 5:15 – 5:45 p.m.\nJoin online: https://zoom.us/j/212677840\nPassword: 944568\nCall in/Audio only: +1 301 715 8592
URL:https://retreathousehillsboro.org/event/days-end-evening-meditation/2023-08-03/
LOCATION:ZOOM Eve. Prayer: 212 677 840
ATTACH;FMTTYPE=image/jpeg:https://retreathousehillsboro.org/wp-content/uploads/2020/05/Twilight2.jpeg
ORGANIZER;CN="Meg Gallagher":MAILTO:info@retreathousehillsboro.org
END:VEVENT
BEGIN:VEVENT
DTSTART;TZID=America/New_York:20230804T171500
DTEND;TZID=America/New_York:20230804T174500
DTSTAMP:20260425T232136
CREATED:20200516T174227Z
LAST-MODIFIED:20220217T140407Z
UID:10005544-1691169300-1691171100@retreathousehillsboro.org
SUMMARY:Day's End Meditation & Prayers (weekdays)
DESCRIPTION:Listen\, breathe\, be still.\nA peaceful way to move into your evening.\nWeekdays 5:15 – 5:45 p.m.\nJoin online: https://zoom.us/j/212677840\nPassword: 944568\nCall in/Audio only: +1 301 715 8592
URL:https://retreathousehillsboro.org/event/days-end-evening-meditation/2023-08-04/
LOCATION:ZOOM Eve. Prayer: 212 677 840
ATTACH;FMTTYPE=image/jpeg:https://retreathousehillsboro.org/wp-content/uploads/2020/05/Twilight2.jpeg
ORGANIZER;CN="Meg Gallagher":MAILTO:info@retreathousehillsboro.org
END:VEVENT
END:VCALENDAR