BEGIN:VCALENDAR
VERSION:2.0
PRODID:-//The Retreat House at Hillsboro - ECPv6.15.20//NONSGML v1.0//EN
CALSCALE:GREGORIAN
METHOD:PUBLISH
X-WR-CALNAME:The Retreat House at Hillsboro
X-ORIGINAL-URL:https://retreathousehillsboro.org
X-WR-CALDESC:Events for The Retreat House at Hillsboro
REFRESH-INTERVAL;VALUE=DURATION:PT1H
X-Robots-Tag:noindex
X-PUBLISHED-TTL:PT1H
BEGIN:VTIMEZONE
TZID:America/New_York
BEGIN:DAYLIGHT
TZOFFSETFROM:-0500
TZOFFSETTO:-0400
TZNAME:EDT
DTSTART:20250309T070000
END:DAYLIGHT
BEGIN:STANDARD
TZOFFSETFROM:-0400
TZOFFSETTO:-0500
TZNAME:EST
DTSTART:20251102T060000
END:STANDARD
BEGIN:DAYLIGHT
TZOFFSETFROM:-0500
TZOFFSETTO:-0400
TZNAME:EDT
DTSTART:20260308T070000
END:DAYLIGHT
BEGIN:STANDARD
TZOFFSETFROM:-0400
TZOFFSETTO:-0500
TZNAME:EST
DTSTART:20261101T060000
END:STANDARD
BEGIN:DAYLIGHT
TZOFFSETFROM:-0500
TZOFFSETTO:-0400
TZNAME:EDT
DTSTART:20270314T070000
END:DAYLIGHT
BEGIN:STANDARD
TZOFFSETFROM:-0400
TZOFFSETTO:-0500
TZNAME:EST
DTSTART:20271107T060000
END:STANDARD
END:VTIMEZONE
BEGIN:VEVENT
DTSTART;TZID=America/New_York:20260427T150000
DTEND;TZID=America/New_York:20260427T163000
DTSTAMP:20260424T171923
CREATED:20250820T160026Z
LAST-MODIFIED:20250820T191912Z
UID:10010175-1777302000-1777307400@retreathousehillsboro.org
SUMMARY:Mary Magdalene and the Mystics
DESCRIPTION:Mary Magdalene and the Mystics\nMondays\, 3:00 p.m. –  4:30 p.m. ET on Zoom\nSeptember 22\, 2025 – May 4 2026\nor\, for a shorter session \nSeptember 22 – November 17\, 2025\n\n  \n  \nGather with us as we explore the life of Mary Magdalene through the lens of Cynthia Bourgeault and several women mystics devoted to Mary. Whether this is your first time learning about the journey of Mary Magdalene\, or you are continuing on from previous circles\, we will explore new learnings and invitations. What is there to learn about the life of Mary Magdalene? Why did certain mystics resonate with Mary Magdalene and how is that expressed in their spiritual life and writing? Is there more to learn from the mystics about Mary Magdalene and ourselves? \nOur central reading throughout the weeks will be The Meaning of Mary Magdalene: Discovering the Woman at the Heart of Christianity\, by Cynthia Bourgeault\, modern-day mystic\, Episcopal priest\, and writer.  In addition\, select readings by these and other mystics who were deeply influenced by Mary Magdalene will be considered and shared by email: Teresa of Avila\, Thérèse of Lisieux\, and Catherine of Siena.  Like other contemplative book circles\, we will read our book and the select readings slowly with ample time together for wondering out loud\, experiencing the invitations offered\, and listening to one another. \nSeptember 22 – November 17\, including holiday breaks   — 9 session –  $90  (This is a good selection if you are only able to sign up for a portion of the circle. Simply let us know if you change your mind and we can adjust your registration!) \nSeptember 2025 – May 4 2026\,  including holiday breaks   —  27 sessions –  $250 \nPlease register (HERE). \nFind the book at your favorite bookseller or support us by purchasing it at The Retreat House Bookshop:  \nhttps://bookshop.org/p/books/the-meaning-of-mary-magdalene-discovering-the-woman-at-the-heart-of-christianity-cynthia-bourgeault/9663152?aid=19040&ean=9781590304952&listref=mystics-and-mysticism \nFind the book at Amazon: \nhttps://www.amazon.com/Meaning-Mary-Magdalene-Discovering-Christianity/dp/1590304950/ref=sr_1_1?dib=eyJ2IjoiMSJ9.Ywfry9qcHT78hCf6LlUPoTIJax2eH5RJVCsxvsr2Q3e1QiIX5sPtD1HXg0TIXI7tAT5-N78WqkJzzX3-cUvKHSHtSttDc1rQr8wlcfRrN-cW9EGwfBmmLriQsbE3bacjccbYU_Tk5wyaxO0TU04sE4YYXF6AXM15lkABnB-M617dhoivFKBHKk8eS0BJMvFKwVqsa3WNLvbwz1DVyQ_G6Kwyuyu-ZaaEYFLtovi79Pg.7ZwQqmKw92OFZDOHIyE_ooXmNQPAiWjcgkk4tsKvMcM&dib_tag=se&hvadid=713526083658&hvdev=c&hvexpln=67&hvlocphy=9051691&hvnetw=g&hvocijid=9322657857537107084–&hvqmt=e&hvrand=9322657857537107084&hvtargid=kwd-323962432274&hydadcr=22569_13730725&keywords=the+meaning+of+mary+magdalene&mcid=f34d849e64173bec8549399800f1873f&qid=1755705064&sr=8-1
URL:https://retreathousehillsboro.org/event/mary-magdalene-and-the-mystics/2026-04-27/
LOCATION:ZOOM
ATTACH;FMTTYPE=image/jpeg:https://retreathousehillsboro.org/wp-content/uploads/2025/08/Unknown-7.jpeg
ORGANIZER;CN="Heather Strang":MAILTO:heather@retreathousehillsboro.org
END:VEVENT
BEGIN:VEVENT
DTSTART;TZID=America/New_York:20260504T150000
DTEND;TZID=America/New_York:20260504T163000
DTSTAMP:20260424T171923
CREATED:20250820T160026Z
LAST-MODIFIED:20250820T191912Z
UID:10010176-1777906800-1777912200@retreathousehillsboro.org
SUMMARY:Mary Magdalene and the Mystics
DESCRIPTION:Mary Magdalene and the Mystics\nMondays\, 3:00 p.m. –  4:30 p.m. ET on Zoom\nSeptember 22\, 2025 – May 4 2026\nor\, for a shorter session \nSeptember 22 – November 17\, 2025\n\n  \n  \nGather with us as we explore the life of Mary Magdalene through the lens of Cynthia Bourgeault and several women mystics devoted to Mary. Whether this is your first time learning about the journey of Mary Magdalene\, or you are continuing on from previous circles\, we will explore new learnings and invitations. What is there to learn about the life of Mary Magdalene? Why did certain mystics resonate with Mary Magdalene and how is that expressed in their spiritual life and writing? Is there more to learn from the mystics about Mary Magdalene and ourselves? \nOur central reading throughout the weeks will be The Meaning of Mary Magdalene: Discovering the Woman at the Heart of Christianity\, by Cynthia Bourgeault\, modern-day mystic\, Episcopal priest\, and writer.  In addition\, select readings by these and other mystics who were deeply influenced by Mary Magdalene will be considered and shared by email: Teresa of Avila\, Thérèse of Lisieux\, and Catherine of Siena.  Like other contemplative book circles\, we will read our book and the select readings slowly with ample time together for wondering out loud\, experiencing the invitations offered\, and listening to one another. \nSeptember 22 – November 17\, including holiday breaks   — 9 session –  $90  (This is a good selection if you are only able to sign up for a portion of the circle. Simply let us know if you change your mind and we can adjust your registration!) \nSeptember 2025 – May 4 2026\,  including holiday breaks   —  27 sessions –  $250 \nPlease register (HERE). \nFind the book at your favorite bookseller or support us by purchasing it at The Retreat House Bookshop:  \nhttps://bookshop.org/p/books/the-meaning-of-mary-magdalene-discovering-the-woman-at-the-heart-of-christianity-cynthia-bourgeault/9663152?aid=19040&ean=9781590304952&listref=mystics-and-mysticism \nFind the book at Amazon: \nhttps://www.amazon.com/Meaning-Mary-Magdalene-Discovering-Christianity/dp/1590304950/ref=sr_1_1?dib=eyJ2IjoiMSJ9.Ywfry9qcHT78hCf6LlUPoTIJax2eH5RJVCsxvsr2Q3e1QiIX5sPtD1HXg0TIXI7tAT5-N78WqkJzzX3-cUvKHSHtSttDc1rQr8wlcfRrN-cW9EGwfBmmLriQsbE3bacjccbYU_Tk5wyaxO0TU04sE4YYXF6AXM15lkABnB-M617dhoivFKBHKk8eS0BJMvFKwVqsa3WNLvbwz1DVyQ_G6Kwyuyu-ZaaEYFLtovi79Pg.7ZwQqmKw92OFZDOHIyE_ooXmNQPAiWjcgkk4tsKvMcM&dib_tag=se&hvadid=713526083658&hvdev=c&hvexpln=67&hvlocphy=9051691&hvnetw=g&hvocijid=9322657857537107084–&hvqmt=e&hvrand=9322657857537107084&hvtargid=kwd-323962432274&hydadcr=22569_13730725&keywords=the+meaning+of+mary+magdalene&mcid=f34d849e64173bec8549399800f1873f&qid=1755705064&sr=8-1
URL:https://retreathousehillsboro.org/event/mary-magdalene-and-the-mystics/2026-05-04/
LOCATION:ZOOM
ATTACH;FMTTYPE=image/jpeg:https://retreathousehillsboro.org/wp-content/uploads/2025/08/Unknown-7.jpeg
ORGANIZER;CN="Heather Strang":MAILTO:heather@retreathousehillsboro.org
END:VEVENT
END:VCALENDAR