BEGIN:VCALENDAR
VERSION:2.0
PRODID:-//The Retreat House at Hillsboro - ECPv6.15.20//NONSGML v1.0//EN
CALSCALE:GREGORIAN
METHOD:PUBLISH
X-WR-CALNAME:The Retreat House at Hillsboro
X-ORIGINAL-URL:https://retreathousehillsboro.org
X-WR-CALDESC:Events for The Retreat House at Hillsboro
REFRESH-INTERVAL;VALUE=DURATION:PT1H
X-Robots-Tag:noindex
X-PUBLISHED-TTL:PT1H
BEGIN:VTIMEZONE
TZID:America/New_York
BEGIN:DAYLIGHT
TZOFFSETFROM:-0500
TZOFFSETTO:-0400
TZNAME:EDT
DTSTART:20210314T070000
END:DAYLIGHT
BEGIN:STANDARD
TZOFFSETFROM:-0400
TZOFFSETTO:-0500
TZNAME:EST
DTSTART:20211107T060000
END:STANDARD
BEGIN:DAYLIGHT
TZOFFSETFROM:-0500
TZOFFSETTO:-0400
TZNAME:EDT
DTSTART:20220313T070000
END:DAYLIGHT
BEGIN:STANDARD
TZOFFSETFROM:-0400
TZOFFSETTO:-0500
TZNAME:EST
DTSTART:20221106T060000
END:STANDARD
BEGIN:DAYLIGHT
TZOFFSETFROM:-0500
TZOFFSETTO:-0400
TZNAME:EDT
DTSTART:20230312T070000
END:DAYLIGHT
BEGIN:STANDARD
TZOFFSETFROM:-0400
TZOFFSETTO:-0500
TZNAME:EST
DTSTART:20231105T060000
END:STANDARD
BEGIN:DAYLIGHT
TZOFFSETFROM:-0500
TZOFFSETTO:-0400
TZNAME:EDT
DTSTART:20240310T070000
END:DAYLIGHT
BEGIN:STANDARD
TZOFFSETFROM:-0400
TZOFFSETTO:-0500
TZNAME:EST
DTSTART:20241103T060000
END:STANDARD
END:VTIMEZONE
BEGIN:VEVENT
DTSTART;TZID=America/New_York:20220801T120000
DTEND;TZID=America/New_York:20230801T130000
DTSTAMP:20260425T232101
CREATED:20220726T232401Z
LAST-MODIFIED:20230620T155656Z
UID:10005734-1659355200-1690894800@retreathousehillsboro.org
SUMMARY:Wisdom Café
DESCRIPTION:All are welcome to join in this Retreat House gathering –  \n \nthe Wisdom Café\, held each Monday from 12:00-1:00 p.m. on Zoom.\n \nWe usually begin with an inspirational reading\, enjoy a bit of quiet time. Then we take turns sharing what bubbles up and listen to each other’s reflections. It’s an hour of friendly companionship–no commitment\, no charge. Come and go as you please!\n \nIf you would like to receive an email reminder on Monday mornings (which will include the zoom link) please sign up here.\n \nOtherwise please add the date to your calendar for the Wisdom Café on Mondays at 12 Noon. \n \nHere’s the Zoom link.
URL:https://retreathousehillsboro.org/event/wisdom-cafe/
LOCATION:The Retreat House\, 22005 Church Street\, Hillsboro\, MD\, 21641\, United States
ATTACH;FMTTYPE=image/jpeg:https://retreathousehillsboro.org/wp-content/uploads/2021/03/unnamed-7.jpg
GEO:38.914958;-75.94222
X-APPLE-STRUCTURED-LOCATION;VALUE=URI;X-ADDRESS=The Retreat House 22005 Church Street Hillsboro MD 21641 United States;X-APPLE-RADIUS=500;X-TITLE=22005 Church Street:geo:-75.94222,38.914958
END:VEVENT
BEGIN:VEVENT
DTSTART;TZID=America/New_York:20230703T171500
DTEND;TZID=America/New_York:20230703T174500
DTSTAMP:20260425T232101
CREATED:20200516T174227Z
LAST-MODIFIED:20220217T140407Z
UID:10005520-1688404500-1688406300@retreathousehillsboro.org
SUMMARY:Day's End Meditation & Prayers (weekdays)
DESCRIPTION:Listen\, breathe\, be still.\nA peaceful way to move into your evening.\nWeekdays 5:15 – 5:45 p.m.\nJoin online: https://zoom.us/j/212677840\nPassword: 944568\nCall in/Audio only: +1 301 715 8592
URL:https://retreathousehillsboro.org/event/days-end-evening-meditation/2023-07-03/
LOCATION:ZOOM Eve. Prayer: 212 677 840
ATTACH;FMTTYPE=image/jpeg:https://retreathousehillsboro.org/wp-content/uploads/2020/05/Twilight2.jpeg
ORGANIZER;CN="Meg Gallagher":MAILTO:info@retreathousehillsboro.org
END:VEVENT
BEGIN:VEVENT
DTSTART;TZID=America/New_York:20230704T171500
DTEND;TZID=America/New_York:20230704T174500
DTSTAMP:20260425T232101
CREATED:20200516T174227Z
LAST-MODIFIED:20220217T140407Z
UID:10005521-1688490900-1688492700@retreathousehillsboro.org
SUMMARY:Day's End Meditation & Prayers (weekdays)
DESCRIPTION:Listen\, breathe\, be still.\nA peaceful way to move into your evening.\nWeekdays 5:15 – 5:45 p.m.\nJoin online: https://zoom.us/j/212677840\nPassword: 944568\nCall in/Audio only: +1 301 715 8592
URL:https://retreathousehillsboro.org/event/days-end-evening-meditation/2023-07-04/
LOCATION:ZOOM Eve. Prayer: 212 677 840
ATTACH;FMTTYPE=image/jpeg:https://retreathousehillsboro.org/wp-content/uploads/2020/05/Twilight2.jpeg
ORGANIZER;CN="Meg Gallagher":MAILTO:info@retreathousehillsboro.org
END:VEVENT
BEGIN:VEVENT
DTSTART;TZID=America/New_York:20230705T171500
DTEND;TZID=America/New_York:20230705T174500
DTSTAMP:20260425T232101
CREATED:20200516T174227Z
LAST-MODIFIED:20220217T140407Z
UID:10005522-1688577300-1688579100@retreathousehillsboro.org
SUMMARY:Day's End Meditation & Prayers (weekdays)
DESCRIPTION:Listen\, breathe\, be still.\nA peaceful way to move into your evening.\nWeekdays 5:15 – 5:45 p.m.\nJoin online: https://zoom.us/j/212677840\nPassword: 944568\nCall in/Audio only: +1 301 715 8592
URL:https://retreathousehillsboro.org/event/days-end-evening-meditation/2023-07-05/
LOCATION:ZOOM Eve. Prayer: 212 677 840
ATTACH;FMTTYPE=image/jpeg:https://retreathousehillsboro.org/wp-content/uploads/2020/05/Twilight2.jpeg
ORGANIZER;CN="Meg Gallagher":MAILTO:info@retreathousehillsboro.org
END:VEVENT
BEGIN:VEVENT
DTSTART;TZID=America/New_York:20230706T093000
DTEND;TZID=America/New_York:20230706T140000
DTSTAMP:20260425T232101
CREATED:20230531T135016Z
LAST-MODIFIED:20230531T135229Z
UID:10006212-1688635800-1688652000@retreathousehillsboro.org
SUMMARY:Summer Quiet Day - Tending the Seeds of the Spirit
DESCRIPTION:Tending the Seeds of the Spirit\n\nThursday\, July 6th\n\n 9:30 a.m. – 2:00 p.m.\n\nIn-person at The Retreat House at Hillsboro\n\n\nWe look forward to gathering with you at The Retreat House for our Summer Quiet Day.  How do we care for and grow the spiritual seeds of love\, patience\, kindness and peace? We will use the metaphor of gardening to see how we might grow in God’s goodness. \nOur Spring Quiet Day will offer time for journaling\, silence\, time outdoors\, and gentle conversation.  We will enjoy exploring together using scripture\, poetry\, music\, and the gifts of Mother Nature.\n\nIN-PERSON QUIET DAY – Register at https://tinyurl.com/SummerQUIET  or by contacting us at heather@retreathousehillsboro.org. This gathering will take place inside The Retreat House and on the beautiful grounds. We ask that participants be fully vaccinated.  A light breakfast and lunch will be served. A suggested donation of $50 per person will be gratefully accepted. Please don’t let finances keep you from attending! \nABOUT THE RETREAT LEADER: Julia Morris-Myers loves discovering the sacred in relaxed conversation and everyday life. She is a musician\, teacher and spiritual director on the Eastern Shore of Maryland\, where she lives with her husband and assorted pets. Julia is the Director of Music and Organist at St. Paul’s Episcopal Church in Centreville and has certificates in leading groups and in spiritual direction from the Shalem Institute in Washington\, DC\, and Bon Secours Retreat Center in Marriottsville\, MD.
URL:https://retreathousehillsboro.org/event/tending-the-seeds-of-the-spirit/
LOCATION:The Retreat House\, 22005 Church Street\, Hillsboro\, MD\, 21641\, United States
ATTACH;FMTTYPE=image/jpeg:https://retreathousehillsboro.org/wp-content/uploads/2023/05/daniel-hajdacki-XenTRY-KPUI-unsplash-1-scaled.jpg
GEO:38.914958;-75.94222
X-APPLE-STRUCTURED-LOCATION;VALUE=URI;X-ADDRESS=The Retreat House 22005 Church Street Hillsboro MD 21641 United States;X-APPLE-RADIUS=500;X-TITLE=22005 Church Street:geo:-75.94222,38.914958
END:VEVENT
BEGIN:VEVENT
DTSTART;TZID=America/New_York:20230706T171500
DTEND;TZID=America/New_York:20230706T174500
DTSTAMP:20260425T232101
CREATED:20200516T174227Z
LAST-MODIFIED:20220217T140407Z
UID:10005523-1688663700-1688665500@retreathousehillsboro.org
SUMMARY:Day's End Meditation & Prayers (weekdays)
DESCRIPTION:Listen\, breathe\, be still.\nA peaceful way to move into your evening.\nWeekdays 5:15 – 5:45 p.m.\nJoin online: https://zoom.us/j/212677840\nPassword: 944568\nCall in/Audio only: +1 301 715 8592
URL:https://retreathousehillsboro.org/event/days-end-evening-meditation/2023-07-06/
LOCATION:ZOOM Eve. Prayer: 212 677 840
ATTACH;FMTTYPE=image/jpeg:https://retreathousehillsboro.org/wp-content/uploads/2020/05/Twilight2.jpeg
ORGANIZER;CN="Meg Gallagher":MAILTO:info@retreathousehillsboro.org
END:VEVENT
BEGIN:VEVENT
DTSTART;TZID=America/New_York:20230707T171500
DTEND;TZID=America/New_York:20230707T174500
DTSTAMP:20260425T232101
CREATED:20200516T174227Z
LAST-MODIFIED:20220217T140407Z
UID:10005524-1688750100-1688751900@retreathousehillsboro.org
SUMMARY:Day's End Meditation & Prayers (weekdays)
DESCRIPTION:Listen\, breathe\, be still.\nA peaceful way to move into your evening.\nWeekdays 5:15 – 5:45 p.m.\nJoin online: https://zoom.us/j/212677840\nPassword: 944568\nCall in/Audio only: +1 301 715 8592
URL:https://retreathousehillsboro.org/event/days-end-evening-meditation/2023-07-07/
LOCATION:ZOOM Eve. Prayer: 212 677 840
ATTACH;FMTTYPE=image/jpeg:https://retreathousehillsboro.org/wp-content/uploads/2020/05/Twilight2.jpeg
ORGANIZER;CN="Meg Gallagher":MAILTO:info@retreathousehillsboro.org
END:VEVENT
BEGIN:VEVENT
DTSTART;TZID=America/New_York:20230710T171500
DTEND;TZID=America/New_York:20230710T174500
DTSTAMP:20260425T232101
CREATED:20200516T174227Z
LAST-MODIFIED:20220217T140407Z
UID:10005525-1689009300-1689011100@retreathousehillsboro.org
SUMMARY:Day's End Meditation & Prayers (weekdays)
DESCRIPTION:Listen\, breathe\, be still.\nA peaceful way to move into your evening.\nWeekdays 5:15 – 5:45 p.m.\nJoin online: https://zoom.us/j/212677840\nPassword: 944568\nCall in/Audio only: +1 301 715 8592
URL:https://retreathousehillsboro.org/event/days-end-evening-meditation/2023-07-10/
LOCATION:ZOOM Eve. Prayer: 212 677 840
ATTACH;FMTTYPE=image/jpeg:https://retreathousehillsboro.org/wp-content/uploads/2020/05/Twilight2.jpeg
ORGANIZER;CN="Meg Gallagher":MAILTO:info@retreathousehillsboro.org
END:VEVENT
BEGIN:VEVENT
DTSTART;TZID=America/New_York:20230711T171500
DTEND;TZID=America/New_York:20230711T174500
DTSTAMP:20260425T232101
CREATED:20200516T174227Z
LAST-MODIFIED:20220217T140407Z
UID:10005526-1689095700-1689097500@retreathousehillsboro.org
SUMMARY:Day's End Meditation & Prayers (weekdays)
DESCRIPTION:Listen\, breathe\, be still.\nA peaceful way to move into your evening.\nWeekdays 5:15 – 5:45 p.m.\nJoin online: https://zoom.us/j/212677840\nPassword: 944568\nCall in/Audio only: +1 301 715 8592
URL:https://retreathousehillsboro.org/event/days-end-evening-meditation/2023-07-11/
LOCATION:ZOOM Eve. Prayer: 212 677 840
ATTACH;FMTTYPE=image/jpeg:https://retreathousehillsboro.org/wp-content/uploads/2020/05/Twilight2.jpeg
ORGANIZER;CN="Meg Gallagher":MAILTO:info@retreathousehillsboro.org
END:VEVENT
BEGIN:VEVENT
DTSTART;TZID=America/New_York:20230712T171500
DTEND;TZID=America/New_York:20230712T174500
DTSTAMP:20260425T232101
CREATED:20200516T174227Z
LAST-MODIFIED:20220217T140407Z
UID:10005527-1689182100-1689183900@retreathousehillsboro.org
SUMMARY:Day's End Meditation & Prayers (weekdays)
DESCRIPTION:Listen\, breathe\, be still.\nA peaceful way to move into your evening.\nWeekdays 5:15 – 5:45 p.m.\nJoin online: https://zoom.us/j/212677840\nPassword: 944568\nCall in/Audio only: +1 301 715 8592
URL:https://retreathousehillsboro.org/event/days-end-evening-meditation/2023-07-12/
LOCATION:ZOOM Eve. Prayer: 212 677 840
ATTACH;FMTTYPE=image/jpeg:https://retreathousehillsboro.org/wp-content/uploads/2020/05/Twilight2.jpeg
ORGANIZER;CN="Meg Gallagher":MAILTO:info@retreathousehillsboro.org
END:VEVENT
BEGIN:VEVENT
DTSTART;TZID=America/New_York:20230713T171500
DTEND;TZID=America/New_York:20230713T174500
DTSTAMP:20260425T232101
CREATED:20200516T174227Z
LAST-MODIFIED:20220217T140407Z
UID:10005528-1689268500-1689270300@retreathousehillsboro.org
SUMMARY:Day's End Meditation & Prayers (weekdays)
DESCRIPTION:Listen\, breathe\, be still.\nA peaceful way to move into your evening.\nWeekdays 5:15 – 5:45 p.m.\nJoin online: https://zoom.us/j/212677840\nPassword: 944568\nCall in/Audio only: +1 301 715 8592
URL:https://retreathousehillsboro.org/event/days-end-evening-meditation/2023-07-13/
LOCATION:ZOOM Eve. Prayer: 212 677 840
ATTACH;FMTTYPE=image/jpeg:https://retreathousehillsboro.org/wp-content/uploads/2020/05/Twilight2.jpeg
ORGANIZER;CN="Meg Gallagher":MAILTO:info@retreathousehillsboro.org
END:VEVENT
BEGIN:VEVENT
DTSTART;TZID=America/New_York:20230714T171500
DTEND;TZID=America/New_York:20230714T174500
DTSTAMP:20260425T232101
CREATED:20200516T174227Z
LAST-MODIFIED:20220217T140407Z
UID:10005529-1689354900-1689356700@retreathousehillsboro.org
SUMMARY:Day's End Meditation & Prayers (weekdays)
DESCRIPTION:Listen\, breathe\, be still.\nA peaceful way to move into your evening.\nWeekdays 5:15 – 5:45 p.m.\nJoin online: https://zoom.us/j/212677840\nPassword: 944568\nCall in/Audio only: +1 301 715 8592
URL:https://retreathousehillsboro.org/event/days-end-evening-meditation/2023-07-14/
LOCATION:ZOOM Eve. Prayer: 212 677 840
ATTACH;FMTTYPE=image/jpeg:https://retreathousehillsboro.org/wp-content/uploads/2020/05/Twilight2.jpeg
ORGANIZER;CN="Meg Gallagher":MAILTO:info@retreathousehillsboro.org
END:VEVENT
BEGIN:VEVENT
DTSTART;TZID=America/New_York:20230717T171500
DTEND;TZID=America/New_York:20230717T174500
DTSTAMP:20260425T232101
CREATED:20200516T174227Z
LAST-MODIFIED:20220217T140407Z
UID:10005530-1689614100-1689615900@retreathousehillsboro.org
SUMMARY:Day's End Meditation & Prayers (weekdays)
DESCRIPTION:Listen\, breathe\, be still.\nA peaceful way to move into your evening.\nWeekdays 5:15 – 5:45 p.m.\nJoin online: https://zoom.us/j/212677840\nPassword: 944568\nCall in/Audio only: +1 301 715 8592
URL:https://retreathousehillsboro.org/event/days-end-evening-meditation/2023-07-17/
LOCATION:ZOOM Eve. Prayer: 212 677 840
ATTACH;FMTTYPE=image/jpeg:https://retreathousehillsboro.org/wp-content/uploads/2020/05/Twilight2.jpeg
ORGANIZER;CN="Meg Gallagher":MAILTO:info@retreathousehillsboro.org
END:VEVENT
BEGIN:VEVENT
DTSTART;TZID=America/New_York:20230718T171500
DTEND;TZID=America/New_York:20230718T174500
DTSTAMP:20260425T232101
CREATED:20200516T174227Z
LAST-MODIFIED:20220217T140407Z
UID:10005531-1689700500-1689702300@retreathousehillsboro.org
SUMMARY:Day's End Meditation & Prayers (weekdays)
DESCRIPTION:Listen\, breathe\, be still.\nA peaceful way to move into your evening.\nWeekdays 5:15 – 5:45 p.m.\nJoin online: https://zoom.us/j/212677840\nPassword: 944568\nCall in/Audio only: +1 301 715 8592
URL:https://retreathousehillsboro.org/event/days-end-evening-meditation/2023-07-18/
LOCATION:ZOOM Eve. Prayer: 212 677 840
ATTACH;FMTTYPE=image/jpeg:https://retreathousehillsboro.org/wp-content/uploads/2020/05/Twilight2.jpeg
ORGANIZER;CN="Meg Gallagher":MAILTO:info@retreathousehillsboro.org
END:VEVENT
BEGIN:VEVENT
DTSTART;TZID=America/New_York:20230719T171500
DTEND;TZID=America/New_York:20230719T174500
DTSTAMP:20260425T232101
CREATED:20200516T174227Z
LAST-MODIFIED:20220217T140407Z
UID:10005532-1689786900-1689788700@retreathousehillsboro.org
SUMMARY:Day's End Meditation & Prayers (weekdays)
DESCRIPTION:Listen\, breathe\, be still.\nA peaceful way to move into your evening.\nWeekdays 5:15 – 5:45 p.m.\nJoin online: https://zoom.us/j/212677840\nPassword: 944568\nCall in/Audio only: +1 301 715 8592
URL:https://retreathousehillsboro.org/event/days-end-evening-meditation/2023-07-19/
LOCATION:ZOOM Eve. Prayer: 212 677 840
ATTACH;FMTTYPE=image/jpeg:https://retreathousehillsboro.org/wp-content/uploads/2020/05/Twilight2.jpeg
ORGANIZER;CN="Meg Gallagher":MAILTO:info@retreathousehillsboro.org
END:VEVENT
BEGIN:VEVENT
DTSTART;TZID=America/New_York:20230720T171500
DTEND;TZID=America/New_York:20230720T174500
DTSTAMP:20260425T232101
CREATED:20200516T174227Z
LAST-MODIFIED:20220217T140407Z
UID:10005533-1689873300-1689875100@retreathousehillsboro.org
SUMMARY:Day's End Meditation & Prayers (weekdays)
DESCRIPTION:Listen\, breathe\, be still.\nA peaceful way to move into your evening.\nWeekdays 5:15 – 5:45 p.m.\nJoin online: https://zoom.us/j/212677840\nPassword: 944568\nCall in/Audio only: +1 301 715 8592
URL:https://retreathousehillsboro.org/event/days-end-evening-meditation/2023-07-20/
LOCATION:ZOOM Eve. Prayer: 212 677 840
ATTACH;FMTTYPE=image/jpeg:https://retreathousehillsboro.org/wp-content/uploads/2020/05/Twilight2.jpeg
ORGANIZER;CN="Meg Gallagher":MAILTO:info@retreathousehillsboro.org
END:VEVENT
BEGIN:VEVENT
DTSTART;TZID=America/New_York:20230721T171500
DTEND;TZID=America/New_York:20230721T174500
DTSTAMP:20260425T232101
CREATED:20200516T174227Z
LAST-MODIFIED:20220217T140407Z
UID:10005534-1689959700-1689961500@retreathousehillsboro.org
SUMMARY:Day's End Meditation & Prayers (weekdays)
DESCRIPTION:Listen\, breathe\, be still.\nA peaceful way to move into your evening.\nWeekdays 5:15 – 5:45 p.m.\nJoin online: https://zoom.us/j/212677840\nPassword: 944568\nCall in/Audio only: +1 301 715 8592
URL:https://retreathousehillsboro.org/event/days-end-evening-meditation/2023-07-21/
LOCATION:ZOOM Eve. Prayer: 212 677 840
ATTACH;FMTTYPE=image/jpeg:https://retreathousehillsboro.org/wp-content/uploads/2020/05/Twilight2.jpeg
ORGANIZER;CN="Meg Gallagher":MAILTO:info@retreathousehillsboro.org
END:VEVENT
BEGIN:VEVENT
DTSTART;TZID=America/New_York:20230724T171500
DTEND;TZID=America/New_York:20230724T174500
DTSTAMP:20260425T232101
CREATED:20200516T174227Z
LAST-MODIFIED:20220217T140407Z
UID:10005535-1690218900-1690220700@retreathousehillsboro.org
SUMMARY:Day's End Meditation & Prayers (weekdays)
DESCRIPTION:Listen\, breathe\, be still.\nA peaceful way to move into your evening.\nWeekdays 5:15 – 5:45 p.m.\nJoin online: https://zoom.us/j/212677840\nPassword: 944568\nCall in/Audio only: +1 301 715 8592
URL:https://retreathousehillsboro.org/event/days-end-evening-meditation/2023-07-24/
LOCATION:ZOOM Eve. Prayer: 212 677 840
ATTACH;FMTTYPE=image/jpeg:https://retreathousehillsboro.org/wp-content/uploads/2020/05/Twilight2.jpeg
ORGANIZER;CN="Meg Gallagher":MAILTO:info@retreathousehillsboro.org
END:VEVENT
BEGIN:VEVENT
DTSTART;TZID=America/New_York:20230725T171500
DTEND;TZID=America/New_York:20230725T174500
DTSTAMP:20260425T232101
CREATED:20200516T174227Z
LAST-MODIFIED:20220217T140407Z
UID:10005536-1690305300-1690307100@retreathousehillsboro.org
SUMMARY:Day's End Meditation & Prayers (weekdays)
DESCRIPTION:Listen\, breathe\, be still.\nA peaceful way to move into your evening.\nWeekdays 5:15 – 5:45 p.m.\nJoin online: https://zoom.us/j/212677840\nPassword: 944568\nCall in/Audio only: +1 301 715 8592
URL:https://retreathousehillsboro.org/event/days-end-evening-meditation/2023-07-25/
LOCATION:ZOOM Eve. Prayer: 212 677 840
ATTACH;FMTTYPE=image/jpeg:https://retreathousehillsboro.org/wp-content/uploads/2020/05/Twilight2.jpeg
ORGANIZER;CN="Meg Gallagher":MAILTO:info@retreathousehillsboro.org
END:VEVENT
BEGIN:VEVENT
DTSTART;TZID=America/New_York:20230726T171500
DTEND;TZID=America/New_York:20230726T174500
DTSTAMP:20260425T232101
CREATED:20200516T174227Z
LAST-MODIFIED:20220217T140407Z
UID:10005537-1690391700-1690393500@retreathousehillsboro.org
SUMMARY:Day's End Meditation & Prayers (weekdays)
DESCRIPTION:Listen\, breathe\, be still.\nA peaceful way to move into your evening.\nWeekdays 5:15 – 5:45 p.m.\nJoin online: https://zoom.us/j/212677840\nPassword: 944568\nCall in/Audio only: +1 301 715 8592
URL:https://retreathousehillsboro.org/event/days-end-evening-meditation/2023-07-26/
LOCATION:ZOOM Eve. Prayer: 212 677 840
ATTACH;FMTTYPE=image/jpeg:https://retreathousehillsboro.org/wp-content/uploads/2020/05/Twilight2.jpeg
ORGANIZER;CN="Meg Gallagher":MAILTO:info@retreathousehillsboro.org
END:VEVENT
BEGIN:VEVENT
DTSTART;TZID=America/New_York:20230727T171500
DTEND;TZID=America/New_York:20230727T174500
DTSTAMP:20260425T232101
CREATED:20200516T174227Z
LAST-MODIFIED:20220217T140407Z
UID:10005538-1690478100-1690479900@retreathousehillsboro.org
SUMMARY:Day's End Meditation & Prayers (weekdays)
DESCRIPTION:Listen\, breathe\, be still.\nA peaceful way to move into your evening.\nWeekdays 5:15 – 5:45 p.m.\nJoin online: https://zoom.us/j/212677840\nPassword: 944568\nCall in/Audio only: +1 301 715 8592
URL:https://retreathousehillsboro.org/event/days-end-evening-meditation/2023-07-27/
LOCATION:ZOOM Eve. Prayer: 212 677 840
ATTACH;FMTTYPE=image/jpeg:https://retreathousehillsboro.org/wp-content/uploads/2020/05/Twilight2.jpeg
ORGANIZER;CN="Meg Gallagher":MAILTO:info@retreathousehillsboro.org
END:VEVENT
BEGIN:VEVENT
DTSTART;TZID=America/New_York:20230728T171500
DTEND;TZID=America/New_York:20230728T174500
DTSTAMP:20260425T232101
CREATED:20200516T174227Z
LAST-MODIFIED:20220217T140407Z
UID:10005539-1690564500-1690566300@retreathousehillsboro.org
SUMMARY:Day's End Meditation & Prayers (weekdays)
DESCRIPTION:Listen\, breathe\, be still.\nA peaceful way to move into your evening.\nWeekdays 5:15 – 5:45 p.m.\nJoin online: https://zoom.us/j/212677840\nPassword: 944568\nCall in/Audio only: +1 301 715 8592
URL:https://retreathousehillsboro.org/event/days-end-evening-meditation/2023-07-28/
LOCATION:ZOOM Eve. Prayer: 212 677 840
ATTACH;FMTTYPE=image/jpeg:https://retreathousehillsboro.org/wp-content/uploads/2020/05/Twilight2.jpeg
ORGANIZER;CN="Meg Gallagher":MAILTO:info@retreathousehillsboro.org
END:VEVENT
BEGIN:VEVENT
DTSTART;TZID=America/New_York:20230731T171500
DTEND;TZID=America/New_York:20230731T174500
DTSTAMP:20260425T232101
CREATED:20200516T174227Z
LAST-MODIFIED:20220217T140407Z
UID:10005540-1690823700-1690825500@retreathousehillsboro.org
SUMMARY:Day's End Meditation & Prayers (weekdays)
DESCRIPTION:Listen\, breathe\, be still.\nA peaceful way to move into your evening.\nWeekdays 5:15 – 5:45 p.m.\nJoin online: https://zoom.us/j/212677840\nPassword: 944568\nCall in/Audio only: +1 301 715 8592
URL:https://retreathousehillsboro.org/event/days-end-evening-meditation/2023-07-31/
LOCATION:ZOOM Eve. Prayer: 212 677 840
ATTACH;FMTTYPE=image/jpeg:https://retreathousehillsboro.org/wp-content/uploads/2020/05/Twilight2.jpeg
ORGANIZER;CN="Meg Gallagher":MAILTO:info@retreathousehillsboro.org
END:VEVENT
END:VCALENDAR