BEGIN:VCALENDAR
VERSION:2.0
PRODID:-//The Retreat House at Hillsboro - ECPv6.15.20//NONSGML v1.0//EN
CALSCALE:GREGORIAN
METHOD:PUBLISH
X-WR-CALNAME:The Retreat House at Hillsboro
X-ORIGINAL-URL:https://retreathousehillsboro.org
X-WR-CALDESC:Events for The Retreat House at Hillsboro
REFRESH-INTERVAL;VALUE=DURATION:PT1H
X-Robots-Tag:noindex
X-PUBLISHED-TTL:PT1H
BEGIN:VTIMEZONE
TZID:America/New_York
BEGIN:DAYLIGHT
TZOFFSETFROM:-0500
TZOFFSETTO:-0400
TZNAME:EDT
DTSTART:20190310T070000
END:DAYLIGHT
BEGIN:STANDARD
TZOFFSETFROM:-0400
TZOFFSETTO:-0500
TZNAME:EST
DTSTART:20191103T060000
END:STANDARD
BEGIN:DAYLIGHT
TZOFFSETFROM:-0500
TZOFFSETTO:-0400
TZNAME:EDT
DTSTART:20200308T070000
END:DAYLIGHT
BEGIN:STANDARD
TZOFFSETFROM:-0400
TZOFFSETTO:-0500
TZNAME:EST
DTSTART:20201101T060000
END:STANDARD
BEGIN:DAYLIGHT
TZOFFSETFROM:-0500
TZOFFSETTO:-0400
TZNAME:EDT
DTSTART:20210314T070000
END:DAYLIGHT
BEGIN:STANDARD
TZOFFSETFROM:-0400
TZOFFSETTO:-0500
TZNAME:EST
DTSTART:20211107T060000
END:STANDARD
BEGIN:DAYLIGHT
TZOFFSETFROM:-0500
TZOFFSETTO:-0400
TZNAME:EDT
DTSTART:20220313T070000
END:DAYLIGHT
BEGIN:STANDARD
TZOFFSETFROM:-0400
TZOFFSETTO:-0500
TZNAME:EST
DTSTART:20221106T060000
END:STANDARD
END:VTIMEZONE
BEGIN:VEVENT
DTSTART;TZID=America/New_York:20210218T183000
DTEND;TZID=America/New_York:20210318T200000
DTSTAMP:20260423T200054
CREATED:20210105T212914Z
LAST-MODIFIED:20210202T213913Z
UID:10005661-1613673000-1616097600@retreathousehillsboro.org
SUMMARY:Winter Wisdom Circle: Creative Spirit
DESCRIPTION:REGISTRATION CLOSED\n \n\n\n\n\nThursdays\, January 21-February 18 6:30-8:00pm\, via Zoom \nOur souls speak many languages: words\, sights & sounds\, textures or movement\, just to name a few. While writers\, composers\, artists and performers may speak these languages more eloquently\, we all have Creative Spirit. \nJoin us for this unique opportunity to dialogue with the Divine in new ways. Each week\, we’ll explore a different medium: storytelling\, visual arts\, lyrics & poetry\, voice & rhythm\, and prayer in motion. Learn to access your Creative Spirit and discover the message God is sharing with you. \nNo experience required! This Wisdom Circle is a safe space to play\, to release expectations and judgements\, and to embrace the Creative Spirit within each of us. A suggested donation of $75 per person will be gratefully accepted. This amount is just a guideline—please don’t let finances keep you from attending. All are welcome! \n\n\n\n\n\n\nHEATHER HALL is graduate of Hesychia School of Spiritual Direction\, an ecumenical and multi-faith program. She is a lifelong learner and seeker who graduated from Education for Ministry and JustFaith. While living in Anchorage\, Alaska\, Heather was active with St Mary’s Episcopal Church\, where she led Adult Education – developing and facilitating classes\, workshops and retreats – and Outreach programs. Born and raised in Maryland\, where she taught college and started her career in environmental science\, Heather recently returned to the Shore to establish her encore career as a life coach\, spiritual director and storyteller through arts & crafts. Email Heather at heather@discoverwithheather.com.
URL:https://retreathousehillsboro.org/event/winter-wisdom-circle-creative-spirit/2021-02-18/
LOCATION:ZOOM Retreat House Event
CATEGORIES:Wisdom Circles
ATTACH;FMTTYPE=image/png:https://retreathousehillsboro.org/wp-content/uploads/2020/10/4120B97B-8C78-4A9B-82F8-61A81D9A6870-2.png
END:VEVENT
BEGIN:VEVENT
DTSTART;TZID=America/New_York:20201221T183000
DTEND;TZID=America/New_York:20201221T193000
DTSTAMP:20260423T200054
CREATED:20201110T164349Z
LAST-MODIFIED:20201110T164743Z
UID:10005652-1608575400-1608579000@retreathousehillsboro.org
SUMMARY:Wisdom Circle - Seeing the Word: Illuminating Advent
DESCRIPTION:Mondays\, November 30th-December 21st at 6:30-7:30PM via Zoom. \nSeeing the Word: Illuminating Advent is a contemplative prayer practice using illuminations from the St John’s Bible. These images bring to life passages from Scripture\, helping us to engage with the Word\, encounter the Divine\, and enact the Message in our daily lives. \nAdvent honors the time of waiting for the arrival of the Christ child. We gather each week in hope\, peace\, joy and love to meet the Messiah who is – and is yet to come – through guided reflections. The illuminations from the Saint John’s Bible\, which reflect scripture readings for the season\, draw us further into contemplative prayer. As we open “the eyes of our heart” (visio divina) and “the ears of our heart” (lectio divina)\, we discover what the Word means to us and what the Holy Spirit is calling us to do in the world today. \nThe Saint John’s Bible is the first of its kind in 500 years. Commissioned by the Benedictine monks at St. John’s Abbey\, as a tribute to the new millennium\, this handwritten NRSV Bible has over 160 illuminations to bring the Word of God to life today. By praying with the illuminations\, we may search deeper into the meaning for our lives. \n\n\n\n\nRegister online at tinyurl.com/RHWCAdvent by Monday\, November 23rd. \n\n\n\n\n\n\n\n\n\nHEATHER HALL is graduate of Hesychia School of Spiritual Direction\, an ecumenical and multi-faith program. She is a lifelong learner and seeker who graduated from Education for Ministry and JustFaith. While living in Anchorage\, Alaska\, Heather was active with St Mary’s Episcopal Church\, where she led Adult Education – developing and facilitating classes\, workshops and retreats – and Outreach programs. Born and raised in Maryland\, where she taught college and started her career in environmental science\, Heather recently returned to the Shore to establish her encore career as a life coach\, spiritual director and storyteller through arts & crafts. Email Heather at heather@discoverwithheather.com.
URL:https://retreathousehillsboro.org/event/wisdom-circle-seeing-the-word-illuminating-advent/2020-12-21/
LOCATION:The Retreat House\, 22005 Church Street\, Hillsboro\, MD\, 21641\, United States
CATEGORIES:Wisdom Circles
ATTACH;FMTTYPE=image/jpeg:https://retreathousehillsboro.org/wp-content/uploads/2020/11/unnamed-4.jpg
GEO:38.914958;-75.94222
X-APPLE-STRUCTURED-LOCATION;VALUE=URI;X-ADDRESS=The Retreat House 22005 Church Street Hillsboro MD 21641 United States;X-APPLE-RADIUS=500;X-TITLE=22005 Church Street:geo:-75.94222,38.914958
END:VEVENT
BEGIN:VEVENT
DTSTART;TZID=America/New_York:20201007T190000
DTEND;TZID=America/New_York:20201007T203000
DTSTAMP:20260423T200054
CREATED:20200529T125753Z
LAST-MODIFIED:20200930T182415Z
UID:10005625-1602097200-1602102600@retreathousehillsboro.org
SUMMARY:Wisdom Circle: Prayerful Listening for Spiritual Guidance
DESCRIPTION:REGISTRATION CLOSED\nWISDOM CIRCLE: Prayerful Listening for Spiritual Guidance\nWednesdays\, September 16\, 23\, 30 and October 7\, 2020\n7:00 – 8:30 p.m.\n“… the Spirit of Truth is at work in the depths of our hearts –\nhelping\, searching\, knowing\, and interceding.\n[Prayerful listening] is an invitation to bend a prayerful\, listening ear\ntoward that Spirit who is with us always.”\n– L.A. Lindbloom\, “Prayerful Listening: Cultivating Discernment in Community” \n  \nA Wisdom Circle is a group of 8-12 people who gather to learn\, tell stories\, listen and pray about a particular subject. Within the circle\, we practice a way of being that connects us in spirit while drawing us within for a deeper experience. \n  \n“… the Spirit of Truth is at work in the depths of our hearts – helping\, searching\, knowing\, and interceding. [Prayerful listening] is an invitation to bend a prayerful\, listening ear toward that Spirit who is with us always.” – L.A. Lindbloom\, “Prayerful Listening: Cultivating Discernment in Community” \n  \nThe practice of spiritual guidance has many names: spiritual direction\, prayerful listening\, sacred listening\, or spiritual companionship. In this Wisdom Circle we will learn how to seek and accept spiritual guidance by combining silence\, prayerful listening and open-hearted response. \nIn social conversation\, the usual pattern is a give-and-take of ideas and perspectives. In a prayerful listening group\, there is an ebb and flow of words and silence. It is within the silence that the Holy Spirit whispers\, inspiring us to respond for the sake of the one who has spoken. \nDuring our sessions\, we will practice the three essential parts of prayerful listening that take place when a group gathers for spiritual guidance: \n\nPray silently\, and listen for how God speaks to us.\nListen attentively as others seek discernment for a specific situation.\nPray on behalf of another and respond prayerfully to that person.\n\nIn the last session we will bring together all three practices for the full experience of a prayerful listening group. We ask that you attend all four sessions. Come on your own\, bring a partner\, or join with a few friends. People of all faith traditions and spiritual experiences are welcome. \nAt the end of this program participants will have an opportunity to join a spiritual guidance group or to arrange for individual spiritual guidance from one of the Retreat House spiritual directors.* \nREGISTER ONLINE at https://bit.ly/rhlistenreg \, or by email to info@retreathousehillsboro.org. Once you register for the series of four sessions\, you will receive the Zoom link. Payments can be made with online registration or by check mailed to the address below. As always\, everyone is welcome to attend\, regardless of finances. \n  \nAbout the Wisdom Circle leader: Linda Mastro will lead the main session of The Wisdom Circle\, with smaller breakout groups facilitated by the spiritual directors* of The Retreat House. Linda is a spiritual pilgrim\, life coach and spiritual director trained through the Bon Secours Retreat and Conference Center in Marriottsville\, Maryland. Learn more about Linda and her practice at livingpilgrimage.com. \n*A list of Retreat House spiritual directors can be found at retreathousehillsboro.org/meditation-and-reflection/
URL:https://retreathousehillsboro.org/event/wisdom-circle-prayerful-listening-in-community/2020-10-07/
LOCATION:Zoom Wisdom Circles – Meeting ID: 285 967 538
CATEGORIES:Wisdom Circles
ATTACH;FMTTYPE=image/jpeg:https://retreathousehillsboro.org/wp-content/uploads/2020/05/duck-bird-watching-two-mallard-blue-water-pond-pair-thumbnail.jpg
ORGANIZER;CN="Meg Gallagher":MAILTO:info@retreathousehillsboro.org
END:VEVENT
BEGIN:VEVENT
DTSTART;TZID=America/New_York:20200824T190000
DTEND;TZID=America/New_York:20200824T200000
DTSTAMP:20260423T200054
CREATED:20200715T195234Z
LAST-MODIFIED:20200715T195234Z
UID:10005645-1598295600-1598299200@retreathousehillsboro.org
SUMMARY:Making Peace with Money
DESCRIPTION:Making Peace with Money\n4 sessions: Monday evenings\, August 3 – 24\n7:00 – 8:00 p.m. via Zoom\n\n  \nImagine having conversations about money that are encouraging instead of frustrating. In this Wisdom Circle\, we will consider how spiritual practices can help us shift our attitudes and thoughts about money. A spiritual perspective has the potential to help us feel more peaceful and less stressful about how we live with money. \nIn this online group\, we will inspire and support each other as we look within for a better understanding of money as a God-given tool. Sessions will include themed readings and reflection\, asking questions\, and space for sensing God’s presence and guidance. Each week\, we will take home a new practice to try and then have an opportunity to share our experience with the group. \nRegistration is required at https://bit.ly/RHmoney or by sending an email to info@retreathousehillsboro.com\, or calling (410) 364-7069. A suggested donation of $75.00 per person is requested\, however all are welcome regardless of finances. Upon registration\, you will receive the Zoom link. \nABOUT THE RETREAT LEADER: Meg Gallagher is a life coach\, retreat leader and writer. Meg has enjoyed her transition from a corporate career to the gentler non-profit world. She is also delighted to serve as manager of The Retreat House at Hillsboro where she is learning the contemplative way of life. She and her husband\, Pat\, live in Hillsboro.
URL:https://retreathousehillsboro.org/event/making-peace-with-money/2020-08-24/
LOCATION:ZOOM Retreat House Event
CATEGORIES:Wisdom Circles
ATTACH;FMTTYPE=image/jpeg:https://retreathousehillsboro.org/wp-content/uploads/2020/07/animals-birds-couple-flamingos-wallpaper-preview.jpg
END:VEVENT
BEGIN:VEVENT
DTSTART;TZID=America/New_York:20200226T180000
DTEND;TZID=America/New_York:20200226T193000
DTSTAMP:20260423T200054
CREATED:20191227T202307Z
LAST-MODIFIED:20200106T225404Z
UID:10004642-1582740000-1582745400@retreathousehillsboro.org
SUMMARY:Wisdom Circles: Tending the Holy in the Fallow Season
DESCRIPTION:Wisdom Circles\nOur ancestors gathered in circles around the fire to tell stories\,\nsolve problems\, seek the common good and celebrate the joys of life. \n \n  \nWinter Wisdom: Tending the Holy in a Fallow Season\n5 Wednesdays  6:00 – 7:30 p.m.\nJanuary 29 – February 26\, 2020\nThe Stam House\n114 Washington Ave.\, Chestertown MD 21620\n \n  \nWinter is the season where all around us fields lay fallow. The spiritual life does well to emulate nature’s wisdom. We need stillness. We need rest. There is a time for going deeper that has nothing to do with productivity. We have been trained to ignore the rhythms of nature\, to stay busy and efficient at all times. So it will take a new kind of attentiveness to sink into our own fallow season. \nOur Wisdom Circle will explore ways to attend to the holy within each of us through guided meditation and contemplative practice. Each session will focus on a particular topic\, learn practices to use in the week ahead and spend some time together in quiet. \nWinter’s stillness and quiet will support our quiet practices. We’ll learn waiting with the fields as we allow ourselves to rest in the Spirit of the season. \n$75.00 per person – Pre-registration is required. Please register by Wednesday\, January 22.\nOnline: http://bit.ly/wisdomcirc2                                Email:  info@retreathousehillsboro.org\nMail: The Retreat House\, P. O. Box 3\, Hillsboro MD 21641 – please indicate “Chestertown” \n  \nDebra Donnelly-Barton is a graduate of The Stillpoint School for Spiritual Direction and the General Theological Seminary in New York. She has an MA in theology from St. Mary’s Seminary and University. Debra has studied the Ignatian spiritual exercises as well as an intensive training in centering prayer with Thomas Keating. \n 
URL:https://retreathousehillsboro.org/event/wisdom-circles-tending-the-holy-in-the-fallow-season/2020-02-26/
LOCATION:J. L. Stam House\, 114 Washington Avenue\, Chestertown\, MD\, 21620\, United States
CATEGORIES:Wisdom Circles
END:VEVENT
BEGIN:VEVENT
DTSTART;TZID=America/New_York:20200225T100000
DTEND;TZID=America/New_York:20200225T113000
DTSTAMP:20260423T200054
CREATED:20191227T205224Z
LAST-MODIFIED:20200106T225449Z
UID:10004661-1582624800-1582630200@retreathousehillsboro.org
SUMMARY:Wisdom Circles: The Sounds of Silence
DESCRIPTION:Wisdom Circles\nOur ancestors gathered in circles around the fire to tell stories\,\nsolve problems\, seek the common good and celebrate the joys of life. \n \n  \nThe Sounds of Silence: An Exploration in Contemplative Prayer\n6 Tuesdays  10:00 – 11:30 a.m.\nJanuary 21 – February 25\, 2020\nPrivate home in Centreville\n \n  \n  \nIn this wisdom circle we will explore the many ways to pray silently and deeply. Each week we will experience and practice forms of contemplative prayer such as praying with the body\, the written word\, centering prayer\, music\, and nature. \nThis circle is for you if you find your prayer life is superficial\, if you need a quiet break from a hectic schedule or if you want to experience silent prayer in a group setting. Those new to these practices are welcome\, as well as those experienced in contemplative prayer. The wisdom circle is not specifically Christian-all who seek a deeper spiritual life are invited to attend. \n$75.00 per person – Pre-registration is required. Please register by Tuesday\, January 14.\nOnline: http://bit.ly/wisdomcirc2                                Email:  info@retreathousehillsboro.org\nMail: The Retreat House\, P. O. Box 3\, Hillsboro MD 21641 – please indicate “Centreville” \n  \nJulia Morris-Myers loves discovering the sacred in everyday life. She is a musician\, teacher and spiritual director on the Eastern Shore of Maryland\, where she lives with her husband and assorted pets. Julia is the Director of Music at St. Paul’s Episcopal Church in Centreville and has\ncertificates in leading groups and in spiritual direction from the Shalem Institute in Washington\, DC\, and Bon Secours Retreat Center in Marriottsville MD. \n 
URL:https://retreathousehillsboro.org/event/wisdom-circles-the-sounds-of-silence/2020-02-25/
CATEGORIES:Wisdom Circles
END:VEVENT
BEGIN:VEVENT
DTSTART;TZID=America/New_York:20200225T100000
DTEND;TZID=America/New_York:20200225T113000
DTSTAMP:20260423T200054
CREATED:20191224T155951Z
LAST-MODIFIED:20200106T225206Z
UID:10004635-1582624800-1582630200@retreathousehillsboro.org
SUMMARY:Wisdom Circle - Courageous Inquiry
DESCRIPTION:Wisdom Circles\nOur ancestors gathered in circles around the fire to tell stories\,\nsolve problems\, seek the common good and celebrate the joys of life. \n \n  \nThe Practice of Courageous Inquiry\n6 Tuesdays  10:00 – 11:30 a.m.\nJanuary 21 – February 25\, 2020\nThird Haven Friends Meeting\n405 South Washington St.\, Easton MD 2160 \n  \n  \n\n“Have patience with everything unresolved in your heart and try to love the questions themselves\nas if they were locked rooms or books written in a very foreign language.  Live the questions now.\nPerhaps then\, you will gradually\, without even noticing it\, live your way into the answer.” ~ Rainer Maria Rilke \n\nIn this Wisdom Circle we will practice courageous inquiry\, a process for using questions to live with purpose and courage. At each gathering we will choose a question to consider through quiet reflection\, prayer and group discussion. Questions will focus on an aspect of spirituality\, such as “Who is God for me?” and “How is Spirit calling me to engage with life?” We will use poetry\, scripture and other inspirational material to guide us in examination of the questions chosen each week. \nIn between each session we will practice courageous inquiry with contemplative and journaling exercises that deepen the conversations begun together each week. Participants will leave the Wisdom Circle experience with a way to form questions big enough to live in and practices that enhance the ability to listen for answers. \n$75.00 per person – Pre-registration is required. Please register by Tuesday\, January 14.\nOnline: http://bit.ly/wisdomcirc2                                Email:  info@retreathousehillsboro.org\nMail:  The Retreat House\, P. O. Box 3\, Hillsboro MD 21641 – please indicate “Easton” \n  \nLinda Mastro\, a Roman Catholic lay woman\, lives on the Eastern Shore of Maryland. Linda is a skilled retreat leader\, spiritual director\, life coach\, and writer. She is co-author of the book Petite Retreats: Renewing Body\, Mind\, and Spirit without Leaving Home. \n 
URL:https://retreathousehillsboro.org/event/the-practice-of-courageous-inquiry/2020-02-25/
LOCATION:Third Haven Friends Meeting\, 405 South Washington St\, Easton\, MD\, 21601\, United States
CATEGORIES:Wisdom Circles
END:VEVENT
BEGIN:VEVENT
DTSTART;TZID=America/New_York:20200220T183000
DTEND;TZID=America/New_York:20200220T200000
DTSTAMP:20260423T200054
CREATED:20191227T204540Z
LAST-MODIFIED:20200106T225246Z
UID:10004654-1582223400-1582228800@retreathousehillsboro.org
SUMMARY:Wisdom Circles: Cultivating Peace in Small Community
DESCRIPTION:Wisdom Circles\nOur ancestors gathered in circles around the fire to tell stories\,\nsolve problems\, seek the common good and celebrate the joys of life. \n \n  \nCultivating Peace in Small Community\n5 Thursdays  6:30 – 8:00 p.m.\nJanuary 23 – February 20\, 2020\nSt. Anne’s Church Parish Hall\n199 Duke of Gloucester St.\, Annapolis MD 21401\n \n  \n  \n\n“The measure of our compassion lies not in our service of those on the margins\nbut only in our willingness to see ourselves in kinship with them.”\n~Fr. Greg Boyle\, founder of Homeboy Industries\, Los Angeles \n\nIn our world\, it can be hard to find the space and time to connect and reflect with others. In this weekly gathering\, we will explore the age-old spiritual practice of small-group discussion about the cultivation of peace and kinship in the world. We call it a ‘wisdom circle’ because it’s only together that we can discover our greatest wisdom\, expand our awareness and embrace the needs of our world and community around us. \nEach week\, we will read and reflect on spiritual writings including: Watchman Nee\, Proverbs\, Thich Naht Hahn\, Gordon Cosby\, Jesus\, Julian of Norwich\, various poets\, and David Steindl-Rast and take away a daily gratitude practice to explore in the week to come. We will share a bowl of soup at the start of our gathering. \n$75.00 per person – Pre-registration is required. Please register by Thursday\, January 16.\nOnline: http://bit.ly/wisdomcirc2                                Email:  info@retreathousehillsboro.org\nMail: The Retreat House\, P. O. Box 3\, Hillsboro MD 21641 – please indicate “Annapolis” \n  \nHeather Strang is a graduate of the Shalem Institute\, a spiritual retreat leader and an active companion in the prayer ministries of St. Anne’s Church. As a professional chef\, Heather merges her love for teaching with her life-long love of cooking in her private culinary classes taught for both children and adults. She lives with her husband in Annapolis\, Maryland. \n 
URL:https://retreathousehillsboro.org/event/wisdom-circles-cultivating-peace-in-small-community/2020-02-20/
LOCATION:St. Anne’s Church Parish Hall\, 199 Duke of Gloucester St.\, Annapolis\, MD\, 21401\, United States
CATEGORIES:Wisdom Circles
END:VEVENT
BEGIN:VEVENT
DTSTART;TZID=America/New_York:20200220T183000
DTEND;TZID=America/New_York:20200220T200000
DTSTAMP:20260423T200054
CREATED:20191227T203140Z
LAST-MODIFIED:20200106T225326Z
UID:10004648-1582223400-1582228800@retreathousehillsboro.org
SUMMARY:Wisdom Circle: Praying with Imagination
DESCRIPTION:Wisdom Circles\nOur ancestors gathered in circles around the fire to tell stories\,\nsolve problems\, seek the common good and celebrate the joys of life. \n\n\nSEEING THE WORD: Praying with Imagination \n4 Thursdays  6:30 – 8:00 p.m.\nJanuary 30 – February 20\, 2020\nThe Retreat House at Hillsboro\n22005 Church Street\, Hillsboro MD 21641\n \nWe are pleased to offer this unique experience! Praying with Imagination is a contemplative prayer practice using art\, music\, imagery and color to help us encounter the Holy Spirit in personal and creative ways. Participants will be encouraged to play and create however they choose — journaling\, drawing\, collage\, or just doodling! \nEach week we will explore a beautiful passage of scripture accompanied by music or a simple art activity to enrich the theme. The passages include magnificent images from the famous Saint John’s Bible\, inspiring us to open the “eyes of our heart” and contemplate what the spirit is calling us to do in the world today. \nThe Saint John’s Bible is the first of its kind in 500 years. Commissioned by the Benedictine monks at St. John’s\, as a tribute to the new millennium\, it has over 160 illuminations–or images reflecting the scripture–to bring the Word of God to life today. By praying with the illuminations\, we may search deeper into the meaning for our lives. \n$75.00 per person – Pre-registration is required. Please register by Thursday\, January 23.\nOnline: http://bit.ly/wisdomcirc2                                Email:  info@retreathousehillsboro.org\nMail: The Retreat House\, P. O. Box 3\, Hillsboro MD 21641 – please indicate “Hillsboro” \n  \nHeather Hall is graduate of Hesychia School of Spiritual Direction. She is a lifelong learner and seeker who graduated from Education for Ministry and JustFaith. Heather was active with St Mary’s Episcopal Church in Anchorage\, Alaska\, where she led Adult Education classes\, workshops\, retreats and Outreach programs. Born and raised in Maryland\, Heather recently returned to the Eastern Shore to establish her encore career as a life coach\, spiritual director and storyteller through arts & crafts. \n 
URL:https://retreathousehillsboro.org/event/wisdom-circles-praying-with-imagination/2020-02-20/
LOCATION:The Retreat House\, 22005 Church Street\, Hillsboro\, MD\, 21641\, United States
CATEGORIES:Wisdom Circles
GEO:38.914958;-75.94222
X-APPLE-STRUCTURED-LOCATION;VALUE=URI;X-ADDRESS=The Retreat House 22005 Church Street Hillsboro MD 21641 United States;X-APPLE-RADIUS=500;X-TITLE=22005 Church Street:geo:-75.94222,38.914958
END:VEVENT
END:VCALENDAR