BEGIN:VCALENDAR
VERSION:2.0
PRODID:-//The Retreat House at Hillsboro - ECPv6.15.20//NONSGML v1.0//EN
CALSCALE:GREGORIAN
METHOD:PUBLISH
X-WR-CALNAME:The Retreat House at Hillsboro
X-ORIGINAL-URL:https://retreathousehillsboro.org
X-WR-CALDESC:Events for The Retreat House at Hillsboro
REFRESH-INTERVAL;VALUE=DURATION:PT1H
X-Robots-Tag:noindex
X-PUBLISHED-TTL:PT1H
BEGIN:VTIMEZONE
TZID:America/New_York
BEGIN:DAYLIGHT
TZOFFSETFROM:-0500
TZOFFSETTO:-0400
TZNAME:EDT
DTSTART:20240310T070000
END:DAYLIGHT
BEGIN:STANDARD
TZOFFSETFROM:-0400
TZOFFSETTO:-0500
TZNAME:EST
DTSTART:20241103T060000
END:STANDARD
BEGIN:DAYLIGHT
TZOFFSETFROM:-0500
TZOFFSETTO:-0400
TZNAME:EDT
DTSTART:20250309T070000
END:DAYLIGHT
BEGIN:STANDARD
TZOFFSETFROM:-0400
TZOFFSETTO:-0500
TZNAME:EST
DTSTART:20251102T060000
END:STANDARD
BEGIN:DAYLIGHT
TZOFFSETFROM:-0500
TZOFFSETTO:-0400
TZNAME:EDT
DTSTART:20260308T070000
END:DAYLIGHT
BEGIN:STANDARD
TZOFFSETFROM:-0400
TZOFFSETTO:-0500
TZNAME:EST
DTSTART:20261101T060000
END:STANDARD
END:VTIMEZONE
BEGIN:VEVENT
DTSTART;TZID=America/New_York:20250221T160000
DTEND;TZID=America/New_York:20250223T130000
DTSTAMP:20260425T192829
CREATED:20240215T132523Z
LAST-MODIFIED:20241125T153000Z
UID:10006672-1740153600-1740315600@retreathousehillsboro.org
SUMMARY:Being the Beloved: A Winter Weekend Women’s Retreat
DESCRIPTION:Being the Beloved: A Winter Weekend Women’s Retreat\nFriday\, February 21  –  Sunday\, February 23\, 2025\nHosted by The Retreat House\nAt the Foehliage Retreat Center in Galena\, MD\nGuided by Linda Mastro\n  \nJesus said\, “Love the Lord your God with all your passion and prayer and intelligence.  \nThis is the most important\, the first on the list. But there is a second to set alongside it: ‘Love others as well as you love yourself.’ These two commands are pegs; everything in God’s law and the Prophets hangs from them.”  \nMatthew 22:34-40 (The Message: The Bible in Contemporary Language) \n  \nPraying with the greatest commandments\, we often focus on the love of God and neighbor. Despite our best intentions\, we can easily overlook that Jesus included us in this equation of love. Loving ourselves requires that we remember that we are the beloved children of God. We may have been programmed to judge ourselves harshly and to downplay our worth. These standards\, designed to keep us humble\, also undermine accepting our divine goodness. How on earth can we truly extend love to others if we do not stand on a firm foundation of love for ourselves? \nIn his classic book\, Life of the Beloved: Spiritual Living in a Secular World\, Henri Nouwen\, Catholic priest\, professor\, psychologist\, and prolific writer\, says\, “As long as ‘being the Beloved’ is little more than a beautiful thought or a lofty idea that hangs above my life to keep me from becoming depressed\, nothing really changes. What is required is to become the Beloved in the commonplaces of my daily existence\, and bit by bit to close the gap that exists between what I know myself to be and the countless realities of everyday life. Becoming the Beloved is pulling the truth revealed to me from above down into the ordinariness of what I am thinking of\, talking about\, and doing from hour to hour.” \nIn this retreat\, we will explore what it means to embrace our Belovedness. Together we will reconsider self-care as an act of love that can transform our relationships in all domains of life. The retreat will include time for silent rest and reflection\, heart-enriching conversation\, and mindful prayer and movement. You will take home practices that will inspire you to live each day more fully into your one\, precious life. \nThe retreat begins with dinner on Friday evening and ends with a prayer service and brunch on Sunday. The cost of the retreat includes five nutritious meals\, lodging\, and all materials. \n  \nRegister here: https://tinyurl.com/WINTERBELOVED \n 
URL:https://retreathousehillsboro.org/event/womens-weekend-retreat-living-into-our-self/
LOCATION:Foehliage Retreat Center\, 31450 Sassafras River Ave\, Galena\, MD\, 21635
CATEGORIES:Aging,Quiet Day,Retreats,Weekend Retreat
ATTACH;FMTTYPE=image/jpeg:https://retreathousehillsboro.org/wp-content/uploads/2024/02/carli-jeen-15YDf39RIVc-unsplash-scaled.jpg
ORGANIZER;CN="Heather Strang":MAILTO:heather@retreathousehillsboro.org
END:VEVENT
BEGIN:VEVENT
DTSTART;TZID=America/New_York:20250224T120000
DTEND;TZID=America/New_York:20250224T130000
DTSTAMP:20260425T192829
CREATED:20241201T170752Z
LAST-MODIFIED:20250728T142707Z
UID:10007004-1740398400-1740402000@retreathousehillsboro.org
SUMMARY:Wisdom Café
DESCRIPTION:Wisdom Café\n\nAll are welcome to join in this Retreat House gathering –  the Wisdom Café\, held each Monday from 12:00-1:00 p.m. EST on Zoom. \n\nWe usually begin with an inspirational reading\, enjoy a bit of quiet time. Then we take turns sharing what bubbles up and listen to each other’s reflections. It’s an hour of friendly companionship–no commitment\, no charge. \n\n\nCome and go as you please!\n\nIf you would like to receive an email reminder on Monday mornings (which will include the zoom link) please sign up here.\n\nOtherwise please add the date to your calendar for the Wisdom Café on Mondays at 12 Noon. \nHere’s the Zoom link.
URL:https://retreathousehillsboro.org/event/wisdom-cafe-4/2025-02-24/
LOCATION:ZOOM
CATEGORIES:Retreats
ATTACH;FMTTYPE=image/png:https://retreathousehillsboro.org/wp-content/uploads/2020/04/Psalm23.png
END:VEVENT
BEGIN:VEVENT
DTSTART;TZID=America/New_York:20250226T130000
DTEND;TZID=America/New_York:20250226T150000
DTSTAMP:20260425T192829
CREATED:20250129T202212Z
LAST-MODIFIED:20250220T190119Z
UID:10009241-1740574800-1740582000@retreathousehillsboro.org
SUMMARY:Living the Tension - Holding Opposites Together in Love
DESCRIPTION:Living the Tension – Holding Opposites Together in Love\nFebruary 26 on Zoom\n1:00 p.m. – 3:00 p.m. EST\n  \nWe navigate our external lives around multiple opposites; for example\, early/late\, inside/outside\, fast/slow. In our inner life we tend to hold opposites within a space that considers their significance or impact on our lives; for example\, freedom/constraint\, silence/sound\, enigma/answer. \nThe tension inherent in opposites can be creative or destructive. Hence\, inside tension there is innate power. Only a non-dual mind can reconcile the tension creatively. Race\, politics\, culture and religion are breeding grounds for opposition to become explosive.Therefore\, within the context of our polarized country\, we will ponder these questions: \n  \n  \nHow are we to hold the innate power of tension?  \nWhat are the consequences if we choose to hold the tension in love?  \nHow might we be agents for transforming polarization into reconciliation? \nJoin us as we rest and wonder in the presence of Spirit and spiritual guide Phil Cover. This 2-hour retreat will offer time to listen to Phil’ wisdom\, be lead by his questions and share in silence and conversation with others. \nA Zoom link will be sent to all registrants before the start of the retreat. \nThis event has been funded by a generous donor. Registration is required for planning purposes. Register HERE.
URL:https://retreathousehillsboro.org/event/living-tension-holding-opposites-together-with-love/
LOCATION:ZOOM
CATEGORIES:Meditation,Prayer Gatherings,Retreats,Wisdom Circles
ATTACH;FMTTYPE=image/jpeg:https://retreathousehillsboro.org/wp-content/uploads/2025/01/dimmis-vart-CFqUdmzzti0-unsplash-scaled.jpg
ORGANIZER;CN="Heather Strang":MAILTO:heather@retreathousehillsboro.org
END:VEVENT
END:VCALENDAR