BEGIN:VCALENDAR
VERSION:2.0
PRODID:-//The Retreat House at Hillsboro - ECPv6.15.20//NONSGML v1.0//EN
CALSCALE:GREGORIAN
METHOD:PUBLISH
X-ORIGINAL-URL:https://retreathousehillsboro.org
X-WR-CALDESC:Events for The Retreat House at Hillsboro
REFRESH-INTERVAL;VALUE=DURATION:PT1H
X-Robots-Tag:noindex
X-PUBLISHED-TTL:PT1H
BEGIN:VTIMEZONE
TZID:America/New_York
BEGIN:DAYLIGHT
TZOFFSETFROM:-0500
TZOFFSETTO:-0400
TZNAME:EDT
DTSTART:20240310T070000
END:DAYLIGHT
BEGIN:STANDARD
TZOFFSETFROM:-0400
TZOFFSETTO:-0500
TZNAME:EST
DTSTART:20241103T060000
END:STANDARD
BEGIN:DAYLIGHT
TZOFFSETFROM:-0500
TZOFFSETTO:-0400
TZNAME:EDT
DTSTART:20250309T070000
END:DAYLIGHT
BEGIN:STANDARD
TZOFFSETFROM:-0400
TZOFFSETTO:-0500
TZNAME:EST
DTSTART:20251102T060000
END:STANDARD
BEGIN:DAYLIGHT
TZOFFSETFROM:-0500
TZOFFSETTO:-0400
TZNAME:EDT
DTSTART:20260308T070000
END:DAYLIGHT
BEGIN:STANDARD
TZOFFSETFROM:-0400
TZOFFSETTO:-0500
TZNAME:EST
DTSTART:20261101T060000
END:STANDARD
END:VTIMEZONE
BEGIN:VEVENT
DTSTART;TZID=America/New_York:20250210T120000
DTEND;TZID=America/New_York:20250210T130000
DTSTAMP:20260425T193102
CREATED:20241201T170752Z
LAST-MODIFIED:20250728T142707Z
UID:10007002-1739188800-1739192400@retreathousehillsboro.org
SUMMARY:Wisdom Café
DESCRIPTION:Wisdom Café\n\nAll are welcome to join in this Retreat House gathering –  the Wisdom Café\, held each Monday from 12:00-1:00 p.m. EST on Zoom. \n\nWe usually begin with an inspirational reading\, enjoy a bit of quiet time. Then we take turns sharing what bubbles up and listen to each other’s reflections. It’s an hour of friendly companionship–no commitment\, no charge. \n\n\nCome and go as you please!\n\nIf you would like to receive an email reminder on Monday mornings (which will include the zoom link) please sign up here.\n\nOtherwise please add the date to your calendar for the Wisdom Café on Mondays at 12 Noon. \nHere’s the Zoom link.
URL:https://retreathousehillsboro.org/event/wisdom-cafe-4/2025-02-10/
LOCATION:ZOOM
CATEGORIES:Retreats
ATTACH;FMTTYPE=image/png:https://retreathousehillsboro.org/wp-content/uploads/2020/04/Psalm23.png
END:VEVENT
BEGIN:VEVENT
DTSTART;TZID=America/New_York:20250211T150000
DTEND;TZID=America/New_York:20250211T163000
DTSTAMP:20260425T193102
CREATED:20250208T130521Z
LAST-MODIFIED:20250208T130521Z
UID:10009622-1739286000-1739291400@retreathousehillsboro.org
SUMMARY:Gospel of Thomas
DESCRIPTION:The Gospel of Thomas\n\nTuesdays \nJanuary 8 – February 11\n\n3:00 p.m. – 4:30 p.m.\nOn Zoom\n\n  \n  \n  \nGather together as we explore and listen to the Gospel of Thomas. Each week we will prayerfully listen to one of Jesus’ sayings from this ancient source and take time to reflect upon what rises for each of us. \n\nSuggested donation: $85 \nAll of our offerings are supported solely by individual donations. This circle is partially sponsored\, allowing us to offer it at a reduced amount. Please share what you feel led to share\, whether less\, or more to support another. Thank you for being part of a community that doesn’t let finances get in the way.  \nWe are grateful for the generous support of a friend of The Retreat House for partially sponsoring this event.
URL:https://retreathousehillsboro.org/event/gospel-of-thomas-3/
LOCATION:ZOOM
CATEGORIES:Retreats,Wisdom Circles
ATTACH;FMTTYPE=image/png:https://retreathousehillsboro.org/wp-content/uploads/2024/08/Thomas.png
ORGANIZER;CN="Heather Strang":MAILTO:heather@retreathousehillsboro.org
END:VEVENT
END:VCALENDAR