BEGIN:VCALENDAR
VERSION:2.0
PRODID:-//The Retreat House at Hillsboro - ECPv6.15.20//NONSGML v1.0//EN
CALSCALE:GREGORIAN
METHOD:PUBLISH
X-WR-CALNAME:The Retreat House at Hillsboro
X-ORIGINAL-URL:https://retreathousehillsboro.org
X-WR-CALDESC:Events for The Retreat House at Hillsboro
REFRESH-INTERVAL;VALUE=DURATION:PT1H
X-Robots-Tag:noindex
X-PUBLISHED-TTL:PT1H
BEGIN:VTIMEZONE
TZID:America/New_York
BEGIN:DAYLIGHT
TZOFFSETFROM:-0500
TZOFFSETTO:-0400
TZNAME:EDT
DTSTART:20190310T070000
END:DAYLIGHT
BEGIN:STANDARD
TZOFFSETFROM:-0400
TZOFFSETTO:-0500
TZNAME:EST
DTSTART:20191103T060000
END:STANDARD
BEGIN:DAYLIGHT
TZOFFSETFROM:-0500
TZOFFSETTO:-0400
TZNAME:EDT
DTSTART:20200308T070000
END:DAYLIGHT
BEGIN:STANDARD
TZOFFSETFROM:-0400
TZOFFSETTO:-0500
TZNAME:EST
DTSTART:20201101T060000
END:STANDARD
BEGIN:DAYLIGHT
TZOFFSETFROM:-0500
TZOFFSETTO:-0400
TZNAME:EDT
DTSTART:20210314T070000
END:DAYLIGHT
BEGIN:STANDARD
TZOFFSETFROM:-0400
TZOFFSETTO:-0500
TZNAME:EST
DTSTART:20211107T060000
END:STANDARD
BEGIN:DAYLIGHT
TZOFFSETFROM:-0500
TZOFFSETTO:-0400
TZNAME:EDT
DTSTART:20220313T070000
END:DAYLIGHT
BEGIN:STANDARD
TZOFFSETFROM:-0400
TZOFFSETTO:-0500
TZNAME:EST
DTSTART:20221106T060000
END:STANDARD
BEGIN:DAYLIGHT
TZOFFSETFROM:-0500
TZOFFSETTO:-0400
TZNAME:EDT
DTSTART:20230312T070000
END:DAYLIGHT
BEGIN:STANDARD
TZOFFSETFROM:-0400
TZOFFSETTO:-0500
TZNAME:EST
DTSTART:20231105T060000
END:STANDARD
END:VTIMEZONE
BEGIN:VEVENT
DTSTART;TZID=America/New_York:20220108T093000
DTEND;TZID=America/New_York:20220108T143000
DTSTAMP:20260425T083550
CREATED:20211209T160001Z
LAST-MODIFIED:20211209T160018Z
UID:10005703-1641634200-1641652200@retreathousehillsboro.org
SUMMARY:Women's Christmas
DESCRIPTION:The Feast of the Epiphany is also celebrated as Women’s Christmas – a day of rest for women after weeks of preparing for the holidays. Inspired by Jan Richardson’s annual Women’s Christmas Retreat\, we have created a celebration just for you. \nA retreat day like this is good for your soul! We invite you to please make time for yourself to refresh your spirit\, and rest in the company of other women. Feel free to bring your needlework\, sketchbook\, journal\, or any simple project that makes you happy. There will be poetry\, prayer\, and quiet walks on the grounds to inspire a sense of peace and comfort. Together we will explore ways to nurture and honor ourselves more often\, to create “Sabbath moments” in our daily lives. \nThe retreat will be led by Suzanne Foehl and Meg Gallagher. A simple breakfast and lunch will be included. (We are particularly excited about lunch–it’s a special surprise.) This gathering will take place inside the Retreat House and on the grounds\, practicing Covid-safe protocols. For this event\, we ask that participants be fully vaccinated. Masks are optional. A suggested donation of $40 would be gratefully accepted\, but please don’t let finances keep you from attending. All are welcome! Register online at https://tinyurl.com/WomenThisDay or send an email to info@retreathousehillsboro.org.
URL:https://retreathousehillsboro.org/event/7097/
LOCATION:The Retreat House\, 22005 Church Street\, Hillsboro\, MD\, 21641\, United States
CATEGORIES:Retreats
ATTACH;FMTTYPE=image/png:https://retreathousehillsboro.org/wp-content/uploads/2021/12/Screen-Shot-2021-12-09-at-10.56.58-AM.png
GEO:38.914958;-75.94222
X-APPLE-STRUCTURED-LOCATION;VALUE=URI;X-ADDRESS=The Retreat House 22005 Church Street Hillsboro MD 21641 United States;X-APPLE-RADIUS=500;X-TITLE=22005 Church Street:geo:-75.94222,38.914958
END:VEVENT
BEGIN:VEVENT
DTSTART;TZID=America/New_York:20211008T183000
DTEND;TZID=America/New_York:20211010T130000
DTSTAMP:20260425T083550
CREATED:20210701T205244Z
LAST-MODIFIED:20210824T203834Z
UID:10005687-1633717800-1633870800@retreathousehillsboro.org
SUMMARY:Re-imagining Prayer: Women’s Weekend Retreat 2021
DESCRIPTION:Friday\, October 8 – Sunday\, October 10 \nThe Retreat House at Hillsboro is pleased to host this weekend retreat led by Linda Mastro at The Foehliage in Galena\, Maryland. \n \n  \n“These are some of the things that prayer is. Prayer is rhythm. Prayer is comfort. Prayer is disappointment. Prayer is words and shape and art around desperation\, and delight and disappointment and desire. Prayer can be the art that helps you name your desire.”\n~ Padraig O Tuama \nSink into the beauty of fall as we explore prayer practices that invite us to a new relationship with God\, with ourselves\, and with the people in our lives. During our time together we will find renewal in the lodging and meals provided as we enjoy an environment inviting deep listening and heartfelt response. We will have opportunities for conversation\, silence\, movement\, and contemplation. Explore at your own pace – body prayer\, journaling\, lectio divina\, walking meditation\, and other experiences that bring our bodies\, minds\, and spirits into the act of authentic prayer. \n\n\n\n\nPlease register by September 25th. For more about the retreat\, with information about how to reserve your space and to register – https://tinyurl.com/RHretreat. Or\, contact us at info@retreathousehillsboro.org. \n\n\n\n\n\nMORE ABOUT THE RETREAT \nWe will gather at The Foehliage Retreat Center in Galena\, Maryland\, on Friday afternoon. Dinner will be at 6:30 pm\, followed by a brief gathering to set the tone for the weekend. Participants will be encouraged to spend the evening in silence. On Saturday\, the program will flow in and out of silence\, with plenty of time for journaling\, walking on the beautiful grounds\, quiet reflection\, and conversation. The retreat will close on Sunday morning with a prayer service and brunch. \nABOUT THE VENUE \nThe Foehliage\, located in Kent County\, Maryland\, is an intimate retreat center where guests can enjoy the beauty of nature\, the flow of the Sassafras river\, and glorious autumn sunrises and sunsets. Our hosts Gene and Suzanne Foehl exemplify hospitality with delicious homemade meals\, comfortable sleeping rooms\, and an assortment of inside and outside spaces in which to rest\, reflect and explore the retreat themes. To see photos of the facility and more information about The Foehliage\, please visit their website. \n\n\n\n\nNote on Covid protocols: The Foehliage Retreat Center asks that all guests be fully vaccinated. Mask wearing on-site is optional. Please be mindful of community by participating without any signs of illness. \n\n\n\n\nACCOMMODATIONS AND COSTS \nSingle rooms – $395 per person Shared rooms – $345 per person. Rates include the retreat program\, 2 dinners\, 1 breakfast\, 1 lunch\, 1 brunch\, snacks\, beverages\, linens\, and turn-down service. A limited number of single rooms are available on a 1st come\, 1st served basis. \nTO REGISTER \nTo reserve your space\, please send a $100 deposit by August 15\, 2021. Final payment for holding a space must be received by September 10. Register (here)\, or mail your check to – The Retreat House\, P.O. Box 3\, Hillsboro MD 21641. \nABOUT THE RETREAT LEADER LINDA MASTRO \nis a graduate and on the faculty of the Bon Secours Spiritual Direction Institute in Marriottsville\, MD. Linda serves in liturgical ministry at Saints Peter and Paul Catholic Church in Easton and is a spiritual guide for individuals and groups. Linda is a graduate of the University of Delaware and the Maryland University of Integrative Health. A life coach\, retreat leader and professional writer\, Linda is co-author of the book Petite Retreats: Renewing Body\, Mind\, and Spirit without Leaving Home. Linda lives in Easton\, Maryland. Learn more about Linda at livingpilgrimage.com. \n\nFor more information\, please contact us:  \nRetreat Program Linda Mastro at (410) 829-4309. Lodging\, logistics\, and scholarship availability –  Heather Strang at (443) 995-3820
URL:https://retreathousehillsboro.org/event/re-imagining-prayer-womens-weekend-retreat-2021/
LOCATION:Foehliage Retreat Center\, 31450 Sassafras River Ave\, Galena\, MD\, 21635
CATEGORIES:Retreats
ATTACH;FMTTYPE=image/png:https://retreathousehillsboro.org/wp-content/uploads/2021/07/unnamed.png
ORGANIZER;CN="Heather Strang":MAILTO:heather@retreathousehillsboro.org
END:VEVENT
BEGIN:VEVENT
DTSTART;TZID=America/New_York:20211002T130000
DTEND;TZID=America/New_York:20211002T160000
DTSTAMP:20260425T083550
CREATED:20210817T225018Z
LAST-MODIFIED:20210817T225107Z
UID:10005696-1633179600-1633190400@retreathousehillsboro.org
SUMMARY:Time Among the Trees
DESCRIPTION:“It’s not so much for its beauty that the forest makes a claim upon men’s hearts\,\nas for that subtle something\, that quality of air\,\nthat emanation for old trees\, that so wonderfully changes and renews a weary spirit”\nRobert Lewis Stevenson \nThis early fall retreat on the grounds of the Retreat House invites an afternoon of quiet\nreflection and healing. \nOn a day to day basis we may walk among trees and never really sense their energy and\nhow we are nourished and supported by them. Trees are more than sticks in the ground and our ability to connect with them in a quiet reflective way can add much to our life.\nJoin with Mary Anne La Torre and others for an afternoon of meditation and reflection among the beautiful\, mature trees at the Retreat House. We will explore simple meditative\npractices and have an opportunity to touch into the energy of the earth\, the dynamic life beneath us\, as well as sit mindfully among the trees and be nourished by them. There will be opportunities for breathing and awareness exercises and conversation.\nWhile the suggested donation is $40 per person\, please don’t let finances keep you from attending.\nRegister online here\, https://tinyurl.com/RHTrees\, or send an email to info@retreathouseshillsboro.org \n\nRetreat Leader: Mary Anne La Torre is an R.N. with a M.A. in psychiatric nursing and training in acupressure\, reiki\, homeopathy\, flower essences and essential oils. For 30 years\, Mary Anne has had a private counseling practice\, consolidating these approaches with various wellness and stress management techniques\, including meditative and breathing techniques for use in nature.
URL:https://retreathousehillsboro.org/event/time-among-the-trees/
LOCATION:The Retreat House\, 22005 Church Street\, Hillsboro\, MD\, 21641\, United States
CATEGORIES:Retreats
GEO:38.914958;-75.94222
X-APPLE-STRUCTURED-LOCATION;VALUE=URI;X-ADDRESS=The Retreat House 22005 Church Street Hillsboro MD 21641 United States;X-APPLE-RADIUS=500;X-TITLE=22005 Church Street:geo:-75.94222,38.914958
END:VEVENT
BEGIN:VEVENT
DTSTART;TZID=America/New_York:20210918T100000
DTEND;TZID=America/New_York:20210918T150000
DTSTAMP:20260425T083550
CREATED:20210811T193539Z
LAST-MODIFIED:20210817T224204Z
UID:10005688-1631959200-1631977200@retreathousehillsboro.org
SUMMARY:Creative Spirit
DESCRIPTION:Saturday\, Sept 18th\, 10 am to 3 pm\nWith Heather Hall \nOnsite at the Retreat House at Hillsboro Our souls speak many languages: words\, sights\, sounds\, textures\, rhythms and movement\, to name just a few. While writers\, composers\, artists and performers may speak these languages more eloquently\, we all have Creative Spirit. Learn to access your Creative Spirit and discover the message God is sharing with you! Let’s release expectations\, play and be curious for a day. This retreat is a safe space to come together to discover and embrace the Creative Spirit within each of us. During this retreat\, we’ll explore: storytelling\, visual arts\, lyrics & poetry\, music & voice\, and the body in motion. No experience necessary. Creative Spirit will take place inside the Retreat House and on the beautiful grounds at Hillsboro (weather depending)\, following COVID-safe procedures. A light lunch\, coffee\, tea and water will be provided. A suggested donation of $40 will be gratefully accepted; however\, please don’t let finances keep you from attending. Please register online by Wednesday\, Sept 15th. Or\, by email to retreathousehillsboro.org. Register at https://tinyurl.com/RHfallCS \n\n \nRetreat Leader: Heather Hall is graduate of Hesychia School of Spiritual Direction\, an ecumenical and multi-faith program. She is a lifelong learner and seeker who graduated from Education for Ministry and JustFaith. While living in Anchorage\, Alaska\, Heather was active with St Mary’s Episcopal Church\, where she led Adult Education – developing and facilitating classes\, workshops and retreats – and Outreach programs. Born and raised in Maryland\, where she taught college and started her career in environmental science\, Heather recently returned to the Shore to establish her encore career as a leadership coach\, spiritual director and storyteller through arts & crafts. Email: heather@discoverwithheather.com
URL:https://retreathousehillsboro.org/event/creative-spirit/
LOCATION:The Retreat House\, 22005 Church Street\, Hillsboro\, MD\, 21641\, United States
CATEGORIES:Retreats
GEO:38.914958;-75.94222
X-APPLE-STRUCTURED-LOCATION;VALUE=URI;X-ADDRESS=The Retreat House 22005 Church Street Hillsboro MD 21641 United States;X-APPLE-RADIUS=500;X-TITLE=22005 Church Street:geo:-75.94222,38.914958
END:VEVENT
BEGIN:VEVENT
DTSTART;TZID=America/New_York:20210106T140000
DTEND;TZID=America/New_York:20210106T163000
DTSTAMP:20260425T083550
CREATED:20201215T031815Z
LAST-MODIFIED:20201215T032118Z
UID:10005655-1609941600-1609950600@retreathousehillsboro.org
SUMMARY:Women's Christmas
DESCRIPTION:Image: Wise Women Also Came © Jan Richardson\n\nWednesday\, January 6\n2:00 – 4:30 p.m.\nOn Zoom\n\nThe Feast of the Epiphany is also known as Women’s Christmas. Originating in Ireland\, it is a day of rest for women after weeks of preparing for Christmas Day. Inspired by Jan Richardson’s annual Women’s Christmas Retreat\, we created this celebration just for you.\n\nPlease join us for this special retreat and time of spiritual relaxation. We’ll read poetry (bring your favorites\,) tell stories\, do some journaling and meditate together.\n\nThis is time for YOU. Bring your needlework\, coloring\, or another project. Make a pot of tea\, light a candle\, and settle in for a delightful afternoon.\n\nRegister
URL:https://retreathousehillsboro.org/event/womens-christmas/
LOCATION:ZOOM Retreat House Event
CATEGORIES:Retreats
ATTACH;FMTTYPE=image/jpeg:https://retreathousehillsboro.org/wp-content/uploads/2020/12/Jan-Richardsons-image-1-scaled.jpg
END:VEVENT
BEGIN:VEVENT
DTSTART;TZID=America/New_York:20200428T140000
DTEND;TZID=America/New_York:20200428T150000
DTSTAMP:20260425T083550
CREATED:20200402T214725Z
LAST-MODIFIED:20200422T125526Z
UID:10004695-1588082400-1588086000@retreathousehillsboro.org
SUMMARY:A Cup of Tea
DESCRIPTION:Drinking tea and sharing our hearts has long been a regular thing at The Retreat House. Please join us in this during the month of April\, “virtually” coming together for conversation\, reflection and a little prayer over a cup of tea. \n\n\nIt could be just the thing if you are seeking some heart connection during this time of quarantine and social distancing. Come\, even if this is your first time to a Retreat House gathering! It will do us a world of good to hear each other’s voices\, laugh\, share a prayer and be ourselves. \nOur Cup of Tea host will be Heather Hall\, a woman of compassion and good humor who is also trained in spiritual guidance. There is no charge for attending; however\, donations are welcome. And there is no need to register\, though if you want to stay in contact with us\, please use the link at the bottom of the page. \n\n\nSo…next Tuesday at 2 o’clock\, make yourself a nice cup of tea and sign in to Zoom to relax and hang out! (If Zoom is new to you\, we will be there 15 minutes early in case you need any technical support.) \n\n\n\nJoin the Zoom meeting. – Zoom Meeting ID: 214 917 940\non your computer\, tablet or mobile phone.\n\nCall in/Audio only:\n    +1 312 626 6799 US (Chicago)\n    +1 929 205 6099 US (New York)\n    +1 301 715 8592 US\n    +1 346 248 7799 US (Houston)\n    +1 669 900 6833 US (San Jose)\nMeeting ID: 214 917 940\n\nJoin the Cup of Tea contact list
URL:https://retreathousehillsboro.org/event/a-cup-of-tea/2020-04-28/
LOCATION:ZOOM Retreat House Event
CATEGORIES:Retreats
ATTACH;FMTTYPE=image/png:https://retreathousehillsboro.org/wp-content/uploads/2020/04/green-teapot.png
END:VEVENT
BEGIN:VEVENT
DTSTART;VALUE=DATE:20200320
DTEND;VALUE=DATE:20200323
DTSTAMP:20260425T083550
CREATED:20200212T023807Z
LAST-MODIFIED:20200318T181405Z
UID:10004679-1584662400-1584921599@retreathousehillsboro.org
SUMMARY:Weekend of Quiet Retreat-CANCELLED
DESCRIPTION:Due to COVID-19 this event has been cancelled.\n  \nWeekend of Quiet Retreat\nFri.\, March 20 to Sun.\, March 22\nRest\, read\, sleep\, walk\, pray\, be still… \nCome away in the middle of Lent for a quiet weekend on the beautiful Sassafras River to experience the holiness of nature with likeminded seekers. \nThis retreat is designed to provide you with time for silence and spaciousness. Retreat House director Francie Thayer will lead a simple and informal program with prompts for your quiet time and art activities to enhance and deepen your prayer. Spiritual direction will be available throughout the weekend. This is a small retreat with capacity for 10-15 people. \n  \nAccommodations & Costs\nSingle rooms- $375 pp* | Double room – $350 pp | Triple/Quad room – $325 pp\n*Single rooms are limited and available on a first-come\, first-serve basis.\nRates include: lodging\, linens\, turndown service\, program sessions and materials\, 5 meals: 2 dinners\, 2 breakfasts\, 1 lunch\, snacks and beverages \nTo reserve your space\, please send an email to meg@retreathousehillsboro.org with your name\, phone number and room type and send a minimum deposit of $100 by Feb. 28 to The Retreat House\, P.O. Box 3\, Hillsboro\, MD 21641. Final payments must be received by March 16. \nPay by credit card on your mobile phone using VENMO app to @MaryB-Gallagher or on our website http://retreathousehillsboro.org/donate/ (click on the “Donate” button) \nPay by check – Send checks payable to “The Retreat House” to The Retreat House\, P.O. Box 3\, Hillsboro MD 21641. For more information\, please contact us at info@retreathousehillsboro.org. \n  \nAbout the venue: The Foehliage Retreat Center is a private residence located in Galena\, Maryland offering a comfortable and peaceful setting for retreatants to enjoy. Hosts Gene and Suzi Foehl lovingly provide warm hospitality and delicious food. To see photos of the facility and more information\, please visit their website at foehliageretreatcenter.org.
URL:https://retreathousehillsboro.org/event/weekend-of-quiet-retreat/
LOCATION:Foehliage Retreat Center\, 31450 Sassafras River Ave\, Galena\, MD\, 21635
CATEGORIES:Retreats
END:VEVENT
BEGIN:VEVENT
DTSTART;TZID=America/New_York:20200208T100000
DTEND;TZID=America/New_York:20200208T140000
DTSTAMP:20260425T083550
CREATED:20200128T225426Z
LAST-MODIFIED:20200128T225547Z
UID:10004668-1581156000-1581170400@retreathousehillsboro.org
SUMMARY:The W.H.O. and H.O.W. of Spiritual Recovery
DESCRIPTION:Living into our spiritual recovery means first figuring out WHO leads the way – the power greater than us that serves as our spiritual anchor. From this foundation\, we can live into and out of the HOW of recovering from alcoholism and addiction while living spiritually. This retreat day will be shaped by brief times of teaching\, looking at the elements of WHO and HOW. Guided by the wisdom of the 12 Steps and other spiritual leaders\, we will consider how we sustain the practices of prayer\, meditation and service in community. \nThere will be generous time for personal reflection\, silent meditation\, journaling with words or art and sharing with each other. \nRegister online for this retreat at http://bit.ly/SpiritRecovery or send an email to info@retreathousehillsboro.org. \nLight lunch included. A suggested free will offering of $25 per person will be gratefully accepted to cover expenses. \n \nRETREAT LEADER Reverend Paul W. Gennett Jr. is a retired Episcopal priest and now leads retreats on spiritual living and the 12 Steps for both recovering and non-recovering communities. He enjoys his calling to walk with others in his own recovering spiritual journey. Paul and his wife live in Newark\, Delaware.
URL:https://retreathousehillsboro.org/event/the-w-h-o-and-h-o-w-of-spiritual-recovery/
LOCATION:The Retreat House\, 22005 Church Street\, Hillsboro\, MD\, 21641\, United States
CATEGORIES:Retreats
GEO:38.914958;-75.94222
X-APPLE-STRUCTURED-LOCATION;VALUE=URI;X-ADDRESS=The Retreat House 22005 Church Street Hillsboro MD 21641 United States;X-APPLE-RADIUS=500;X-TITLE=22005 Church Street:geo:-75.94222,38.914958
END:VEVENT
BEGIN:VEVENT
DTSTART;TZID=America/New_York:20200109T093000
DTEND;TZID=America/New_York:20200109T140000
DTSTAMP:20260425T083550
CREATED:20191224T163100Z
LAST-MODIFIED:20191224T163100Z
UID:10004636-1578562200-1578578400@retreathousehillsboro.org
SUMMARY:Seasonal Quiet Days ~ Winter
DESCRIPTION:Winter is a time of bareness\, yet also a time of strange beauty. During this Quiet Day\, we will explore the “low tides” of our lives\, as we look at the past year as well as the new one. \nJoin us for this peaceful retreat day and enjoy quiet time\, prayer and thoughtful conversation. Using scripture\, poetry and music\, we will take time to consider our experiences and intentions\, waiting for God’s presence to inspire us. \nThe beautiful Retreat House grounds invite peaceful\, contemplative walking. Please bring a journal and a camera or smartphone. If weather permits\, we will spend some time outdoors discovering the beauty of bare branches and brown earth. \nA light breakfast and lunch will be served and a suggested donation of $40 per person will be gratefully accepted. This amount is just a guideline — please don’t let finances keep you from attending! \nPLEASE REGISTER at https://conta.cc/36Rv5Nn or send an email to info@retreathousehillsboro.org. All are welcome! \n  \n  \n  \n  \nABOUT THE RETREAT LEADER: Julia Morris-Myers loves discovering the sacred in relaxed conversation and everyday life.  She is a musician\, teacher and spiritual director on the Eastern Shore of Maryland\, where she lives with her husband and assorted pets.  Julia is the Director of Music at St. Paul’s Episcopal Church in Centreville and has certificates in leading groups and in spiritual direction from the Shalem Institute in Washington\, DC\, and Bon Secours Retreat Center in Marriottsville MD. \n 
URL:https://retreathousehillsboro.org/event/seasonal-quiet-days-winter-2/
LOCATION:The Retreat House\, 22005 Church Street\, Hillsboro\, MD\, 21641\, United States
CATEGORIES:Retreats
GEO:38.914958;-75.94222
X-APPLE-STRUCTURED-LOCATION;VALUE=URI;X-ADDRESS=The Retreat House 22005 Church Street Hillsboro MD 21641 United States;X-APPLE-RADIUS=500;X-TITLE=22005 Church Street:geo:-75.94222,38.914958
END:VEVENT
END:VCALENDAR