BEGIN:VCALENDAR
VERSION:2.0
PRODID:-//The Retreat House at Hillsboro - ECPv6.15.20//NONSGML v1.0//EN
CALSCALE:GREGORIAN
METHOD:PUBLISH
X-ORIGINAL-URL:https://retreathousehillsboro.org
X-WR-CALDESC:Events for The Retreat House at Hillsboro
REFRESH-INTERVAL;VALUE=DURATION:PT1H
X-Robots-Tag:noindex
X-PUBLISHED-TTL:PT1H
BEGIN:VTIMEZONE
TZID:America/New_York
BEGIN:DAYLIGHT
TZOFFSETFROM:-0500
TZOFFSETTO:-0400
TZNAME:EDT
DTSTART:20200308T070000
END:DAYLIGHT
BEGIN:STANDARD
TZOFFSETFROM:-0400
TZOFFSETTO:-0500
TZNAME:EST
DTSTART:20201101T060000
END:STANDARD
BEGIN:DAYLIGHT
TZOFFSETFROM:-0500
TZOFFSETTO:-0400
TZNAME:EDT
DTSTART:20210314T070000
END:DAYLIGHT
BEGIN:STANDARD
TZOFFSETFROM:-0400
TZOFFSETTO:-0500
TZNAME:EST
DTSTART:20211107T060000
END:STANDARD
BEGIN:DAYLIGHT
TZOFFSETFROM:-0500
TZOFFSETTO:-0400
TZNAME:EDT
DTSTART:20220313T070000
END:DAYLIGHT
BEGIN:STANDARD
TZOFFSETFROM:-0400
TZOFFSETTO:-0500
TZNAME:EST
DTSTART:20221106T060000
END:STANDARD
BEGIN:DAYLIGHT
TZOFFSETFROM:-0500
TZOFFSETTO:-0400
TZNAME:EDT
DTSTART:20230312T070000
END:DAYLIGHT
BEGIN:STANDARD
TZOFFSETFROM:-0400
TZOFFSETTO:-0500
TZNAME:EST
DTSTART:20231105T060000
END:STANDARD
END:VTIMEZONE
BEGIN:VEVENT
DTSTART;TZID=America/New_York:20220113T093000
DTEND;TZID=America/New_York:20220113T140000
DTSTAMP:20260423T223904
CREATED:20211216T214431Z
LAST-MODIFIED:20211216T214458Z
UID:10005704-1642066200-1642082400@retreathousehillsboro.org
SUMMARY:Winter Quiet Day: Reflect & Renew
DESCRIPTION:During this quiet day\, we’ll settle into the peace of winter in our midst\nand reflect on scripture readings and poetry as inspirations for the year ahead. We will take some time to think about the past year and what we might want to keep or let go of in the year to come. We’ll enjoy the opportunity to make a craft from twigs and yarn to remind us of our intent for the new year. Throughout the day\, there will be substantial time for quiet and journaling\, or another activity such as reading\,\nknitting\, or walking. \nIN-PERSON QUIET DAY – Register at https://tinyurl.com/RHWinterQD or\ninfo@retreathousehillsboro.org. This gathering will take place inside the Retreat House with outdoor time on the beautiful grounds\, weather permitting. We will practice covid safe protocols and ask that participants be fully vaccinated; masks are optional. A light breakfast and lunch will be served. A suggested donation of $40 per person will be gratefully accepted and a\nportion of the proceeds is used for program scholarships. Please don’t let\nfinances keep you from attending! \n\nABOUT THE RETREAT LEADER: Julia Morris-Myers loves discovering the sacred in relaxed conversation and everyday life. She is a musician\, teacher and spiritual director on the Eastern Shore of Maryland\, where she lives with her husband and assorted pets. Julia is the Director of Music at St. Paul’s Episcopal Church in Centreville and has certificates in leading groups and in spiritual direction from the Shalem Institute in Washington\, DC\, and Bon Secours Retreat Center in Marriottsville MD.
URL:https://retreathousehillsboro.org/event/winter-quiet-day-reflect-renew/
LOCATION:The Retreat House\, 22005 Church Street\, Hillsboro\, MD\, 21641\, United States
CATEGORIES:Quiet Day
GEO:38.914958;-75.94222
X-APPLE-STRUCTURED-LOCATION;VALUE=URI;X-ADDRESS=The Retreat House 22005 Church Street Hillsboro MD 21641 United States;X-APPLE-RADIUS=500;X-TITLE=22005 Church Street:geo:-75.94222,38.914958
END:VEVENT
BEGIN:VEVENT
DTSTART;TZID=America/New_York:20210930T093000
DTEND;TZID=America/New_York:20210930T140000
DTSTAMP:20260423T223904
CREATED:20210811T194359Z
LAST-MODIFIED:20210908T210743Z
UID:10005689-1632994200-1633010400@retreathousehillsboro.org
SUMMARY:Autumn Quiet Day: Release\, Rest\, Renewal
DESCRIPTION:Thursday\, September 30\, 9:30 am to 2:00 pm\nWith Julia Morris-Myers \nTake in the early fall beauty unfolding around us on the grounds of the Retreat House. We’ll enjoy the freedom of open space and the opportunity to explore and experience Sabbath as we invite release\, rest\, and renewal. Our Autumn Quiet Day will offer time for journaling\, silence\, time outdoors\, and gentle conversation. As we settle into the peace of nature in our midst\, we’ll explore scripture readings and poetry as inspirations for our own lives and as discernment for what the Spirit might be calling us to notice. What am I called to release in order to make space for rest and to receive the renewal that awaits? How is Sabbath invited this autumn day? \nIN-PERSON QUIET DAY – Register at https://tinyurl.com/RHQDfall\, or by contacting us at info@retreathousehillsboro.org. This gathering will take place inside the Retreat House and on the beautiful grounds\, practicing COVID safe protocols. A light breakfast and lunch will be served. A suggested donation of $40 per person will be gratefully accepted and a portion of the proceeds is used for program scholarships. Please don’t let finances keep you from attending! \n\nABOUT THE RETREAT LEADER: Julia Morris-Myers loves discovering the sacred in relaxed conversation and everyday life. She is a musician\, teacher and spiritual director on the Eastern Shore of Maryland\, where she lives with her husband and assorted pets. Julia is the Director of Music at St. Paul’s Episcopal Church in Centreville and has certificates in leading groups and in spiritual direction from the Shalem Institute in Washington\, DC\, and Bon Secours Retreat Center in Marriottsville\, MD.
URL:https://retreathousehillsboro.org/event/autumn-quiet-day-release-and-rest/
LOCATION:The Retreat House\, 22005 Church Street\, Hillsboro\, MD\, 21641\, United States
CATEGORIES:Quiet Day
GEO:38.914958;-75.94222
X-APPLE-STRUCTURED-LOCATION;VALUE=URI;X-ADDRESS=The Retreat House 22005 Church Street Hillsboro MD 21641 United States;X-APPLE-RADIUS=500;X-TITLE=22005 Church Street:geo:-75.94222,38.914958
END:VEVENT
END:VCALENDAR