BEGIN:VCALENDAR
VERSION:2.0
PRODID:-//The Retreat House at Hillsboro - ECPv6.15.20//NONSGML v1.0//EN
CALSCALE:GREGORIAN
METHOD:PUBLISH
X-WR-CALNAME:The Retreat House at Hillsboro
X-ORIGINAL-URL:https://retreathousehillsboro.org
X-WR-CALDESC:Events for The Retreat House at Hillsboro
REFRESH-INTERVAL;VALUE=DURATION:PT1H
X-Robots-Tag:noindex
X-PUBLISHED-TTL:PT1H
BEGIN:VTIMEZONE
TZID:America/New_York
BEGIN:DAYLIGHT
TZOFFSETFROM:-0500
TZOFFSETTO:-0400
TZNAME:EDT
DTSTART:20180311T070000
END:DAYLIGHT
BEGIN:STANDARD
TZOFFSETFROM:-0400
TZOFFSETTO:-0500
TZNAME:EST
DTSTART:20181104T060000
END:STANDARD
BEGIN:DAYLIGHT
TZOFFSETFROM:-0500
TZOFFSETTO:-0400
TZNAME:EDT
DTSTART:20190310T070000
END:DAYLIGHT
BEGIN:STANDARD
TZOFFSETFROM:-0400
TZOFFSETTO:-0500
TZNAME:EST
DTSTART:20191103T060000
END:STANDARD
BEGIN:DAYLIGHT
TZOFFSETFROM:-0500
TZOFFSETTO:-0400
TZNAME:EDT
DTSTART:20200308T070000
END:DAYLIGHT
BEGIN:STANDARD
TZOFFSETFROM:-0400
TZOFFSETTO:-0500
TZNAME:EST
DTSTART:20201101T060000
END:STANDARD
END:VTIMEZONE
BEGIN:VEVENT
DTSTART;TZID=America/New_York:20191120T174500
DTEND;TZID=America/New_York:20191120T181500
DTSTAMP:20260423T230817
CREATED:20191120T212230Z
LAST-MODIFIED:20191120T213836Z
UID:10004615-1574271900-1574273700@retreathousehillsboro.org
SUMMARY:Prayer Services at Historic St. Paul's Church
DESCRIPTION:Join us in St. Paul’s Church\, located next to The Retreat House\, for a time of focused prayer. \n\nPrayers of Thanksgiving with Eucharist\nBishop Bud Shand\, celebrant
URL:https://retreathousehillsboro.org/event/prayer-services-at-historic-st-pauls-church/
LOCATION:St. Paul’s Episcopal Church\, Centerville\, 301 S Liberty Street\, Centreville\, MD\, 21617\, United States
CATEGORIES:Prayer Gatherings
GEO:38.4296607;-75.6731279
X-APPLE-STRUCTURED-LOCATION;VALUE=URI;X-ADDRESS=St. Paul’s Episcopal Church Centerville 301 S Liberty Street Centreville MD 21617 United States;X-APPLE-RADIUS=500;X-TITLE=301 S Liberty Street:geo:-75.6731279,38.4296607
END:VEVENT
BEGIN:VEVENT
DTSTART;TZID=America/New_York:20191026T100000
DTEND;TZID=America/New_York:20191026T150000
DTSTAMP:20260423T230817
CREATED:20190829T161905Z
LAST-MODIFIED:20190829T161905Z
UID:10004610-1572084000-1572102000@retreathousehillsboro.org
SUMMARY:DAY OF RETREAT for people in their 20’s and 30’s
DESCRIPTION:We welcome all to this second retreat day that is designed for those in their 20’s and 30’s who: \n\nare looking for a restorative day of prayer with others that includes silence and time in nature\nwant to learn more about contemplative prayer in the Christian tradition and explore different contemplative practices.\n\nDuring this retreat\, we will offer an introduction to the tradition of contemplative prayer for those joining for the first time and those returning\, as we unwind into the gifts of quiet and nature. \nParticipants are welcome to engage in sessions of contemplative practices of gratitude and prayerful movement with time for silence\, walking on the beautiful Retreat House grounds and optional sharing. \nLunch will be included and a suggested donation of $40 per person will be gratefully accepted. Please don’t let finances keep you from attending–everyone is welcome! \nRegister online at https://rhdayofretreat2.eventbrite.com
URL:https://retreathousehillsboro.org/event/day-of-retreat-for-people-in-their-20s-and-30s-2/
LOCATION:The Retreat House\, 22005 Church Street\, Hillsboro\, MD\, 21641\, United States
CATEGORIES:Prayer Gatherings,Support Groups
GEO:38.914958;-75.94222
X-APPLE-STRUCTURED-LOCATION;VALUE=URI;X-ADDRESS=The Retreat House 22005 Church Street Hillsboro MD 21641 United States;X-APPLE-RADIUS=500;X-TITLE=22005 Church Street:geo:-75.94222,38.914958
END:VEVENT
BEGIN:VEVENT
DTSTART;TZID=America/New_York:20190919T093000
DTEND;TZID=America/New_York:20190919T140000
DTSTAMP:20260423T230817
CREATED:20190829T162325Z
LAST-MODIFIED:20190829T162325Z
UID:10004611-1568885400-1568901600@retreathousehillsboro.org
SUMMARY:Seasonal Quiet Days - Autumn
DESCRIPTION:An invitation to reflect\, to imagine\, and be inspired \nDuring this seasonal quiet day we will think of autumn as the “ebb tide” of the present year\, and of our lives in general. Ebb tide can be a time of waning and receding\, but also a time of change and opportunity. \nUsing scripture\, poetry\, music and silence\, we will listen for God’s voice. We will explore the gifts of nature through contemplative photography. Please bring a camera (or use your cell phone.) Finally\, we will reflect on the day’s blessings in conversation. \nPLEASE REGISTER at https://rhseason5.eventbrite.com. All are welcome! \nA light breakfast and lunch will be served. A suggested donation of $40 per person will be gratefully accepted and a portion of the proceeds is used for program scholarships. This amount is just a guideline — please don’t let finances keep you from attending!
URL:https://retreathousehillsboro.org/event/seasonal-quiet-days-autumn-2/
LOCATION:The Retreat House\, 22005 Church Street\, Hillsboro\, MD\, 21641\, United States
CATEGORIES:Meditation,Prayer Gatherings
GEO:38.914958;-75.94222
X-APPLE-STRUCTURED-LOCATION;VALUE=URI;X-ADDRESS=The Retreat House 22005 Church Street Hillsboro MD 21641 United States;X-APPLE-RADIUS=500;X-TITLE=22005 Church Street:geo:-75.94222,38.914958
END:VEVENT
END:VCALENDAR