BEGIN:VCALENDAR
VERSION:2.0
PRODID:-//The Retreat House at Hillsboro - ECPv6.15.20//NONSGML v1.0//EN
CALSCALE:GREGORIAN
METHOD:PUBLISH
X-WR-CALNAME:The Retreat House at Hillsboro
X-ORIGINAL-URL:https://retreathousehillsboro.org
X-WR-CALDESC:Events for The Retreat House at Hillsboro
REFRESH-INTERVAL;VALUE=DURATION:PT1H
X-Robots-Tag:noindex
X-PUBLISHED-TTL:PT1H
BEGIN:VTIMEZONE
TZID:America/New_York
BEGIN:DAYLIGHT
TZOFFSETFROM:-0500
TZOFFSETTO:-0400
TZNAME:EDT
DTSTART:20240310T070000
END:DAYLIGHT
BEGIN:STANDARD
TZOFFSETFROM:-0400
TZOFFSETTO:-0500
TZNAME:EST
DTSTART:20241103T060000
END:STANDARD
BEGIN:DAYLIGHT
TZOFFSETFROM:-0500
TZOFFSETTO:-0400
TZNAME:EDT
DTSTART:20250309T070000
END:DAYLIGHT
BEGIN:STANDARD
TZOFFSETFROM:-0400
TZOFFSETTO:-0500
TZNAME:EST
DTSTART:20251102T060000
END:STANDARD
BEGIN:DAYLIGHT
TZOFFSETFROM:-0500
TZOFFSETTO:-0400
TZNAME:EDT
DTSTART:20260308T070000
END:DAYLIGHT
BEGIN:STANDARD
TZOFFSETFROM:-0400
TZOFFSETTO:-0500
TZNAME:EST
DTSTART:20261101T060000
END:STANDARD
END:VTIMEZONE
BEGIN:VEVENT
DTSTART;TZID=America/New_York:20250304T190000
DTEND;TZID=America/New_York:20250304T200000
DTSTAMP:20260424T121751
CREATED:20240828T162200Z
LAST-MODIFIED:20241227T153110Z
UID:10007077-1741114800-1741118400@retreathousehillsboro.org
SUMMARY:The Well
DESCRIPTION:Gather with us for this online community of prayerful listening to scripture for the upcoming Sunday lectionary readings\, and listening to one another.\n\n\n  \nThis event is brought to you by the department of Lifelong Learning at Virginia Theological Seminary in partnership with The Retreat House. \nThis drop-in Tuesday evening gathering will meet online via Zoom\, from 7:00-8:00 p.m. eastern from Oct 1\, 2024 – Jun 17\, 2025 (with some Tuesdays off – see below.) Register once for the entire season\, regardless of when you can make it! \nThe Well is a time to gather in community online\, as you are able\, to share stories – the stories of scripture and the stories of participants’ own lives. Through time together – in prayer\, in listening\, in open-heartedness – participants are invited to get to know one another. Through prayerful listening to scripture (lectio divina) and authentic sharing\, participants will be drawn closer to each other\, to themselves\, and to God. \nThe Well will be led on Zoom by the spiritual directors of the Retreat House at Hillsboro\, under the coordination of Director Francie Thayer. Although this program occurs weekly\, feel free to treat it as a “drop in”\, attending as often as you are able. We will send weekly reminders with the Zoom link to the unrecorded online meeting\, making it easy to drop in! \n  \n\nFor more info and to register: https://the-well-2024-2025.eventbrite.com \n\nWe will not be meeting the following Tuesdays\, due to holidays\, etc.: \n\n11/26/24\n12/24/24 and 12/31/24\n3/4/25\n\n\n\n\n\n\n\n \n  \nPhoto by mrjn photography. Unsplash.com.
URL:https://retreathousehillsboro.org/event/the-well-2/2025-03-04/
LOCATION:The Retreat House\, 22005 Church Street\, Hillsboro\, MD\, 21641\, United States
CATEGORIES:Community Voice,Prayer Gatherings
ATTACH;FMTTYPE=image/jpeg:https://retreathousehillsboro.org/wp-content/uploads/2024/08/mrjn-photography-YpZ2cj4s0oo-unsplash-1-scaled.jpg
GEO:38.914958;-75.94222
X-APPLE-STRUCTURED-LOCATION;VALUE=URI;X-ADDRESS=The Retreat House 22005 Church Street Hillsboro MD 21641 United States;X-APPLE-RADIUS=500;X-TITLE=22005 Church Street:geo:-75.94222,38.914958
END:VEVENT
BEGIN:VEVENT
DTSTART;TZID=America/New_York:20250310T110000
DTEND;TZID=America/New_York:20250310T120000
DTSTAMP:20260424T121751
CREATED:20250305T181210Z
LAST-MODIFIED:20250310T145950Z
UID:10009887-1741604400-1741608000@retreathousehillsboro.org
SUMMARY:Prayer Gathering for Resilience in Community - on Zoom
DESCRIPTION:  \n\nPlease join us \nMonday\, January 20 \nfor  a \nPRAYER GATHERING FOR RESILIENCE IN COMMUNITY \nwith  \nshort readings and poetry \n11:00 a.m. – 12:00 Noon EST on Zoom\nWith our world in such a time of change\, we invite you to spend an hour among like-hearted people of prayer. We will gather on Zoom for a time of community and silent meditation. Join us to be together\, holding our hearts open to the Great Love of the Divine and listening deeply in the quiet for the guidance\, encouragement and love that we can all lean into as we start walking the long road into the unknown. We invite you to spend an hour among like-hearted people of prayer.  \nCome when you can\, leave when you must.  \nWe will be together from 11:00 a.m. to 12:00 noon EST.  \nThe gift of your presence in the circle  \nwill mean so much to all who gather.  \n\n\n\n\nJoin Zoom Meeting \nhttps://us06web.zoom.us/j/88042304235?pwd=5FQHU5soV0iUi67ginKAodIpAnlQEt.1 \nMeeting ID: 880 4230 4235 Passcode: 427539 \n—\nOne tap mobile\n+13017158592\,\,88042304235#\,\,\,\,*427539# US (Washington DC) +13052241968\,\,88042304235#\,\,\,\,*427539# US\n—\nDial by your location\n• +1 301 715 8592 US (Washington DC)\n• +1 305 224 1968 US\n• +1 309 205 3325 US\n• +1 312 626 6799 US (Chicago)\n• +1 646 931 3860 US\n• +1 929 205 6099 US (New York)\n• +1 507 473 4847 US\n• +1 564 217 2000 US\n• +1 669 444 9171 US\n• +1 669 900 6833 US (San Jose) \n\n\n\n\n\n\n\n\n• +1 689 278 1000 US\n• +1 719 359 4580 US\n• +1 253 205 0468 US\n• +1 253 215 8782 US (Tacoma) • +1 346 248 7799 US (Houston) • +1 360 209 5623 US \n• +1 386 347 5053 US\nMeeting ID: 880 4230 4235\nPasscode: 427539\nFind your local number: https://us06web.zoom.us/u/kouQUcrCs
URL:https://retreathousehillsboro.org/event/prayer-gathering-for-resilience-in-community-on-zoom/
LOCATION:ZOOM
CATEGORIES:Community Voice,Meditation,Prayer Gatherings
ATTACH;FMTTYPE=image/jpeg:https://retreathousehillsboro.org/wp-content/uploads/2025/03/shane-rounce-DNkoNXQti3c-unsplash-2.jpg
ORGANIZER;CN="Heather Strang":MAILTO:heather@retreathousehillsboro.org
END:VEVENT
BEGIN:VEVENT
DTSTART;TZID=America/New_York:20250311T190000
DTEND;TZID=America/New_York:20250311T200000
DTSTAMP:20260424T121751
CREATED:20240828T162200Z
LAST-MODIFIED:20241227T153110Z
UID:10007078-1741719600-1741723200@retreathousehillsboro.org
SUMMARY:The Well
DESCRIPTION:Gather with us for this online community of prayerful listening to scripture for the upcoming Sunday lectionary readings\, and listening to one another.\n\n\n  \nThis event is brought to you by the department of Lifelong Learning at Virginia Theological Seminary in partnership with The Retreat House. \nThis drop-in Tuesday evening gathering will meet online via Zoom\, from 7:00-8:00 p.m. eastern from Oct 1\, 2024 – Jun 17\, 2025 (with some Tuesdays off – see below.) Register once for the entire season\, regardless of when you can make it! \nThe Well is a time to gather in community online\, as you are able\, to share stories – the stories of scripture and the stories of participants’ own lives. Through time together – in prayer\, in listening\, in open-heartedness – participants are invited to get to know one another. Through prayerful listening to scripture (lectio divina) and authentic sharing\, participants will be drawn closer to each other\, to themselves\, and to God. \nThe Well will be led on Zoom by the spiritual directors of the Retreat House at Hillsboro\, under the coordination of Director Francie Thayer. Although this program occurs weekly\, feel free to treat it as a “drop in”\, attending as often as you are able. We will send weekly reminders with the Zoom link to the unrecorded online meeting\, making it easy to drop in! \n  \n\nFor more info and to register: https://the-well-2024-2025.eventbrite.com \n\nWe will not be meeting the following Tuesdays\, due to holidays\, etc.: \n\n11/26/24\n12/24/24 and 12/31/24\n3/4/25\n\n\n\n\n\n\n\n \n  \nPhoto by mrjn photography. Unsplash.com.
URL:https://retreathousehillsboro.org/event/the-well-2/2025-03-11/
LOCATION:The Retreat House\, 22005 Church Street\, Hillsboro\, MD\, 21641\, United States
CATEGORIES:Community Voice,Prayer Gatherings
ATTACH;FMTTYPE=image/jpeg:https://retreathousehillsboro.org/wp-content/uploads/2024/08/mrjn-photography-YpZ2cj4s0oo-unsplash-1-scaled.jpg
GEO:38.914958;-75.94222
X-APPLE-STRUCTURED-LOCATION;VALUE=URI;X-ADDRESS=The Retreat House 22005 Church Street Hillsboro MD 21641 United States;X-APPLE-RADIUS=500;X-TITLE=22005 Church Street:geo:-75.94222,38.914958
END:VEVENT
BEGIN:VEVENT
DTSTART;TZID=America/New_York:20250318T190000
DTEND;TZID=America/New_York:20250318T200000
DTSTAMP:20260424T121751
CREATED:20240828T162200Z
LAST-MODIFIED:20241227T153110Z
UID:10007079-1742324400-1742328000@retreathousehillsboro.org
SUMMARY:The Well
DESCRIPTION:Gather with us for this online community of prayerful listening to scripture for the upcoming Sunday lectionary readings\, and listening to one another.\n\n\n  \nThis event is brought to you by the department of Lifelong Learning at Virginia Theological Seminary in partnership with The Retreat House. \nThis drop-in Tuesday evening gathering will meet online via Zoom\, from 7:00-8:00 p.m. eastern from Oct 1\, 2024 – Jun 17\, 2025 (with some Tuesdays off – see below.) Register once for the entire season\, regardless of when you can make it! \nThe Well is a time to gather in community online\, as you are able\, to share stories – the stories of scripture and the stories of participants’ own lives. Through time together – in prayer\, in listening\, in open-heartedness – participants are invited to get to know one another. Through prayerful listening to scripture (lectio divina) and authentic sharing\, participants will be drawn closer to each other\, to themselves\, and to God. \nThe Well will be led on Zoom by the spiritual directors of the Retreat House at Hillsboro\, under the coordination of Director Francie Thayer. Although this program occurs weekly\, feel free to treat it as a “drop in”\, attending as often as you are able. We will send weekly reminders with the Zoom link to the unrecorded online meeting\, making it easy to drop in! \n  \n\nFor more info and to register: https://the-well-2024-2025.eventbrite.com \n\nWe will not be meeting the following Tuesdays\, due to holidays\, etc.: \n\n11/26/24\n12/24/24 and 12/31/24\n3/4/25\n\n\n\n\n\n\n\n \n  \nPhoto by mrjn photography. Unsplash.com.
URL:https://retreathousehillsboro.org/event/the-well-2/2025-03-18/
LOCATION:The Retreat House\, 22005 Church Street\, Hillsboro\, MD\, 21641\, United States
CATEGORIES:Community Voice,Prayer Gatherings
ATTACH;FMTTYPE=image/jpeg:https://retreathousehillsboro.org/wp-content/uploads/2024/08/mrjn-photography-YpZ2cj4s0oo-unsplash-1-scaled.jpg
GEO:38.914958;-75.94222
X-APPLE-STRUCTURED-LOCATION;VALUE=URI;X-ADDRESS=The Retreat House 22005 Church Street Hillsboro MD 21641 United States;X-APPLE-RADIUS=500;X-TITLE=22005 Church Street:geo:-75.94222,38.914958
END:VEVENT
BEGIN:VEVENT
DTSTART;TZID=America/New_York:20250325T190000
DTEND;TZID=America/New_York:20250325T200000
DTSTAMP:20260424T121751
CREATED:20240828T162200Z
LAST-MODIFIED:20241227T153110Z
UID:10007080-1742929200-1742932800@retreathousehillsboro.org
SUMMARY:The Well
DESCRIPTION:Gather with us for this online community of prayerful listening to scripture for the upcoming Sunday lectionary readings\, and listening to one another.\n\n\n  \nThis event is brought to you by the department of Lifelong Learning at Virginia Theological Seminary in partnership with The Retreat House. \nThis drop-in Tuesday evening gathering will meet online via Zoom\, from 7:00-8:00 p.m. eastern from Oct 1\, 2024 – Jun 17\, 2025 (with some Tuesdays off – see below.) Register once for the entire season\, regardless of when you can make it! \nThe Well is a time to gather in community online\, as you are able\, to share stories – the stories of scripture and the stories of participants’ own lives. Through time together – in prayer\, in listening\, in open-heartedness – participants are invited to get to know one another. Through prayerful listening to scripture (lectio divina) and authentic sharing\, participants will be drawn closer to each other\, to themselves\, and to God. \nThe Well will be led on Zoom by the spiritual directors of the Retreat House at Hillsboro\, under the coordination of Director Francie Thayer. Although this program occurs weekly\, feel free to treat it as a “drop in”\, attending as often as you are able. We will send weekly reminders with the Zoom link to the unrecorded online meeting\, making it easy to drop in! \n  \n\nFor more info and to register: https://the-well-2024-2025.eventbrite.com \n\nWe will not be meeting the following Tuesdays\, due to holidays\, etc.: \n\n11/26/24\n12/24/24 and 12/31/24\n3/4/25\n\n\n\n\n\n\n\n \n  \nPhoto by mrjn photography. Unsplash.com.
URL:https://retreathousehillsboro.org/event/the-well-2/2025-03-25/
LOCATION:The Retreat House\, 22005 Church Street\, Hillsboro\, MD\, 21641\, United States
CATEGORIES:Community Voice,Prayer Gatherings
ATTACH;FMTTYPE=image/jpeg:https://retreathousehillsboro.org/wp-content/uploads/2024/08/mrjn-photography-YpZ2cj4s0oo-unsplash-1-scaled.jpg
GEO:38.914958;-75.94222
X-APPLE-STRUCTURED-LOCATION;VALUE=URI;X-ADDRESS=The Retreat House 22005 Church Street Hillsboro MD 21641 United States;X-APPLE-RADIUS=500;X-TITLE=22005 Church Street:geo:-75.94222,38.914958
END:VEVENT
END:VCALENDAR