BEGIN:VCALENDAR
VERSION:2.0
PRODID:-//The Retreat House at Hillsboro - ECPv6.15.20//NONSGML v1.0//EN
CALSCALE:GREGORIAN
METHOD:PUBLISH
X-WR-CALNAME:The Retreat House at Hillsboro
X-ORIGINAL-URL:https://retreathousehillsboro.org
X-WR-CALDESC:Events for The Retreat House at Hillsboro
REFRESH-INTERVAL;VALUE=DURATION:PT1H
X-Robots-Tag:noindex
X-PUBLISHED-TTL:PT1H
BEGIN:VTIMEZONE
TZID:America/New_York
BEGIN:DAYLIGHT
TZOFFSETFROM:-0500
TZOFFSETTO:-0400
TZNAME:EDT
DTSTART:20240310T070000
END:DAYLIGHT
BEGIN:STANDARD
TZOFFSETFROM:-0400
TZOFFSETTO:-0500
TZNAME:EST
DTSTART:20241103T060000
END:STANDARD
BEGIN:DAYLIGHT
TZOFFSETFROM:-0500
TZOFFSETTO:-0400
TZNAME:EDT
DTSTART:20250309T070000
END:DAYLIGHT
BEGIN:STANDARD
TZOFFSETFROM:-0400
TZOFFSETTO:-0500
TZNAME:EST
DTSTART:20251102T060000
END:STANDARD
BEGIN:DAYLIGHT
TZOFFSETFROM:-0500
TZOFFSETTO:-0400
TZNAME:EDT
DTSTART:20260308T070000
END:DAYLIGHT
BEGIN:STANDARD
TZOFFSETFROM:-0400
TZOFFSETTO:-0500
TZNAME:EST
DTSTART:20261101T060000
END:STANDARD
END:VTIMEZONE
BEGIN:VEVENT
DTSTART;TZID=America/New_York:20250204T190000
DTEND;TZID=America/New_York:20250204T200000
DTSTAMP:20260424T134629
CREATED:20240828T162200Z
LAST-MODIFIED:20241227T153110Z
UID:10007073-1738695600-1738699200@retreathousehillsboro.org
SUMMARY:The Well
DESCRIPTION:Gather with us for this online community of prayerful listening to scripture for the upcoming Sunday lectionary readings\, and listening to one another.\n\n\n  \nThis event is brought to you by the department of Lifelong Learning at Virginia Theological Seminary in partnership with The Retreat House. \nThis drop-in Tuesday evening gathering will meet online via Zoom\, from 7:00-8:00 p.m. eastern from Oct 1\, 2024 – Jun 17\, 2025 (with some Tuesdays off – see below.) Register once for the entire season\, regardless of when you can make it! \nThe Well is a time to gather in community online\, as you are able\, to share stories – the stories of scripture and the stories of participants’ own lives. Through time together – in prayer\, in listening\, in open-heartedness – participants are invited to get to know one another. Through prayerful listening to scripture (lectio divina) and authentic sharing\, participants will be drawn closer to each other\, to themselves\, and to God. \nThe Well will be led on Zoom by the spiritual directors of the Retreat House at Hillsboro\, under the coordination of Director Francie Thayer. Although this program occurs weekly\, feel free to treat it as a “drop in”\, attending as often as you are able. We will send weekly reminders with the Zoom link to the unrecorded online meeting\, making it easy to drop in! \n  \n\nFor more info and to register: https://the-well-2024-2025.eventbrite.com \n\nWe will not be meeting the following Tuesdays\, due to holidays\, etc.: \n\n11/26/24\n12/24/24 and 12/31/24\n3/4/25\n\n\n\n\n\n\n\n \n  \nPhoto by mrjn photography. Unsplash.com.
URL:https://retreathousehillsboro.org/event/the-well-2/2025-02-04/
LOCATION:The Retreat House\, 22005 Church Street\, Hillsboro\, MD\, 21641\, United States
CATEGORIES:Community Voice,Prayer Gatherings
ATTACH;FMTTYPE=image/jpeg:https://retreathousehillsboro.org/wp-content/uploads/2024/08/mrjn-photography-YpZ2cj4s0oo-unsplash-1-scaled.jpg
GEO:38.914958;-75.94222
X-APPLE-STRUCTURED-LOCATION;VALUE=URI;X-ADDRESS=The Retreat House 22005 Church Street Hillsboro MD 21641 United States;X-APPLE-RADIUS=500;X-TITLE=22005 Church Street:geo:-75.94222,38.914958
END:VEVENT
BEGIN:VEVENT
DTSTART;TZID=America/New_York:20250211T190000
DTEND;TZID=America/New_York:20250211T200000
DTSTAMP:20260424T134629
CREATED:20240828T162200Z
LAST-MODIFIED:20241227T153110Z
UID:10007074-1739300400-1739304000@retreathousehillsboro.org
SUMMARY:The Well
DESCRIPTION:Gather with us for this online community of prayerful listening to scripture for the upcoming Sunday lectionary readings\, and listening to one another.\n\n\n  \nThis event is brought to you by the department of Lifelong Learning at Virginia Theological Seminary in partnership with The Retreat House. \nThis drop-in Tuesday evening gathering will meet online via Zoom\, from 7:00-8:00 p.m. eastern from Oct 1\, 2024 – Jun 17\, 2025 (with some Tuesdays off – see below.) Register once for the entire season\, regardless of when you can make it! \nThe Well is a time to gather in community online\, as you are able\, to share stories – the stories of scripture and the stories of participants’ own lives. Through time together – in prayer\, in listening\, in open-heartedness – participants are invited to get to know one another. Through prayerful listening to scripture (lectio divina) and authentic sharing\, participants will be drawn closer to each other\, to themselves\, and to God. \nThe Well will be led on Zoom by the spiritual directors of the Retreat House at Hillsboro\, under the coordination of Director Francie Thayer. Although this program occurs weekly\, feel free to treat it as a “drop in”\, attending as often as you are able. We will send weekly reminders with the Zoom link to the unrecorded online meeting\, making it easy to drop in! \n  \n\nFor more info and to register: https://the-well-2024-2025.eventbrite.com \n\nWe will not be meeting the following Tuesdays\, due to holidays\, etc.: \n\n11/26/24\n12/24/24 and 12/31/24\n3/4/25\n\n\n\n\n\n\n\n \n  \nPhoto by mrjn photography. Unsplash.com.
URL:https://retreathousehillsboro.org/event/the-well-2/2025-02-11/
LOCATION:The Retreat House\, 22005 Church Street\, Hillsboro\, MD\, 21641\, United States
CATEGORIES:Community Voice,Prayer Gatherings
ATTACH;FMTTYPE=image/jpeg:https://retreathousehillsboro.org/wp-content/uploads/2024/08/mrjn-photography-YpZ2cj4s0oo-unsplash-1-scaled.jpg
GEO:38.914958;-75.94222
X-APPLE-STRUCTURED-LOCATION;VALUE=URI;X-ADDRESS=The Retreat House 22005 Church Street Hillsboro MD 21641 United States;X-APPLE-RADIUS=500;X-TITLE=22005 Church Street:geo:-75.94222,38.914958
END:VEVENT
BEGIN:VEVENT
DTSTART;TZID=America/New_York:20250218T190000
DTEND;TZID=America/New_York:20250218T200000
DTSTAMP:20260424T134629
CREATED:20240828T162200Z
LAST-MODIFIED:20241227T153110Z
UID:10007075-1739905200-1739908800@retreathousehillsboro.org
SUMMARY:The Well
DESCRIPTION:Gather with us for this online community of prayerful listening to scripture for the upcoming Sunday lectionary readings\, and listening to one another.\n\n\n  \nThis event is brought to you by the department of Lifelong Learning at Virginia Theological Seminary in partnership with The Retreat House. \nThis drop-in Tuesday evening gathering will meet online via Zoom\, from 7:00-8:00 p.m. eastern from Oct 1\, 2024 – Jun 17\, 2025 (with some Tuesdays off – see below.) Register once for the entire season\, regardless of when you can make it! \nThe Well is a time to gather in community online\, as you are able\, to share stories – the stories of scripture and the stories of participants’ own lives. Through time together – in prayer\, in listening\, in open-heartedness – participants are invited to get to know one another. Through prayerful listening to scripture (lectio divina) and authentic sharing\, participants will be drawn closer to each other\, to themselves\, and to God. \nThe Well will be led on Zoom by the spiritual directors of the Retreat House at Hillsboro\, under the coordination of Director Francie Thayer. Although this program occurs weekly\, feel free to treat it as a “drop in”\, attending as often as you are able. We will send weekly reminders with the Zoom link to the unrecorded online meeting\, making it easy to drop in! \n  \n\nFor more info and to register: https://the-well-2024-2025.eventbrite.com \n\nWe will not be meeting the following Tuesdays\, due to holidays\, etc.: \n\n11/26/24\n12/24/24 and 12/31/24\n3/4/25\n\n\n\n\n\n\n\n \n  \nPhoto by mrjn photography. Unsplash.com.
URL:https://retreathousehillsboro.org/event/the-well-2/2025-02-18/
LOCATION:The Retreat House\, 22005 Church Street\, Hillsboro\, MD\, 21641\, United States
CATEGORIES:Community Voice,Prayer Gatherings
ATTACH;FMTTYPE=image/jpeg:https://retreathousehillsboro.org/wp-content/uploads/2024/08/mrjn-photography-YpZ2cj4s0oo-unsplash-1-scaled.jpg
GEO:38.914958;-75.94222
X-APPLE-STRUCTURED-LOCATION;VALUE=URI;X-ADDRESS=The Retreat House 22005 Church Street Hillsboro MD 21641 United States;X-APPLE-RADIUS=500;X-TITLE=22005 Church Street:geo:-75.94222,38.914958
END:VEVENT
BEGIN:VEVENT
DTSTART;TZID=America/New_York:20250225T190000
DTEND;TZID=America/New_York:20250225T200000
DTSTAMP:20260424T134629
CREATED:20240828T162200Z
LAST-MODIFIED:20241227T153110Z
UID:10007076-1740510000-1740513600@retreathousehillsboro.org
SUMMARY:The Well
DESCRIPTION:Gather with us for this online community of prayerful listening to scripture for the upcoming Sunday lectionary readings\, and listening to one another.\n\n\n  \nThis event is brought to you by the department of Lifelong Learning at Virginia Theological Seminary in partnership with The Retreat House. \nThis drop-in Tuesday evening gathering will meet online via Zoom\, from 7:00-8:00 p.m. eastern from Oct 1\, 2024 – Jun 17\, 2025 (with some Tuesdays off – see below.) Register once for the entire season\, regardless of when you can make it! \nThe Well is a time to gather in community online\, as you are able\, to share stories – the stories of scripture and the stories of participants’ own lives. Through time together – in prayer\, in listening\, in open-heartedness – participants are invited to get to know one another. Through prayerful listening to scripture (lectio divina) and authentic sharing\, participants will be drawn closer to each other\, to themselves\, and to God. \nThe Well will be led on Zoom by the spiritual directors of the Retreat House at Hillsboro\, under the coordination of Director Francie Thayer. Although this program occurs weekly\, feel free to treat it as a “drop in”\, attending as often as you are able. We will send weekly reminders with the Zoom link to the unrecorded online meeting\, making it easy to drop in! \n  \n\nFor more info and to register: https://the-well-2024-2025.eventbrite.com \n\nWe will not be meeting the following Tuesdays\, due to holidays\, etc.: \n\n11/26/24\n12/24/24 and 12/31/24\n3/4/25\n\n\n\n\n\n\n\n \n  \nPhoto by mrjn photography. Unsplash.com.
URL:https://retreathousehillsboro.org/event/the-well-2/2025-02-25/
LOCATION:The Retreat House\, 22005 Church Street\, Hillsboro\, MD\, 21641\, United States
CATEGORIES:Community Voice,Prayer Gatherings
ATTACH;FMTTYPE=image/jpeg:https://retreathousehillsboro.org/wp-content/uploads/2024/08/mrjn-photography-YpZ2cj4s0oo-unsplash-1-scaled.jpg
GEO:38.914958;-75.94222
X-APPLE-STRUCTURED-LOCATION;VALUE=URI;X-ADDRESS=The Retreat House 22005 Church Street Hillsboro MD 21641 United States;X-APPLE-RADIUS=500;X-TITLE=22005 Church Street:geo:-75.94222,38.914958
END:VEVENT
BEGIN:VEVENT
DTSTART;TZID=America/New_York:20250226T130000
DTEND;TZID=America/New_York:20250226T150000
DTSTAMP:20260424T134629
CREATED:20250129T202212Z
LAST-MODIFIED:20250220T190119Z
UID:10009241-1740574800-1740582000@retreathousehillsboro.org
SUMMARY:Living the Tension - Holding Opposites Together in Love
DESCRIPTION:Living the Tension – Holding Opposites Together in Love\nFebruary 26 on Zoom\n1:00 p.m. – 3:00 p.m. EST\n  \nWe navigate our external lives around multiple opposites; for example\, early/late\, inside/outside\, fast/slow. In our inner life we tend to hold opposites within a space that considers their significance or impact on our lives; for example\, freedom/constraint\, silence/sound\, enigma/answer. \nThe tension inherent in opposites can be creative or destructive. Hence\, inside tension there is innate power. Only a non-dual mind can reconcile the tension creatively. Race\, politics\, culture and religion are breeding grounds for opposition to become explosive.Therefore\, within the context of our polarized country\, we will ponder these questions: \n  \n  \nHow are we to hold the innate power of tension?  \nWhat are the consequences if we choose to hold the tension in love?  \nHow might we be agents for transforming polarization into reconciliation? \nJoin us as we rest and wonder in the presence of Spirit and spiritual guide Phil Cover. This 2-hour retreat will offer time to listen to Phil’ wisdom\, be lead by his questions and share in silence and conversation with others. \nA Zoom link will be sent to all registrants before the start of the retreat. \nThis event has been funded by a generous donor. Registration is required for planning purposes. Register HERE.
URL:https://retreathousehillsboro.org/event/living-tension-holding-opposites-together-with-love/
LOCATION:ZOOM
CATEGORIES:Meditation,Prayer Gatherings,Retreats,Wisdom Circles
ATTACH;FMTTYPE=image/jpeg:https://retreathousehillsboro.org/wp-content/uploads/2025/01/dimmis-vart-CFqUdmzzti0-unsplash-scaled.jpg
ORGANIZER;CN="Heather Strang":MAILTO:heather@retreathousehillsboro.org
END:VEVENT
END:VCALENDAR