BEGIN:VCALENDAR
VERSION:2.0
PRODID:-//The Retreat House at Hillsboro - ECPv6.15.20//NONSGML v1.0//EN
CALSCALE:GREGORIAN
METHOD:PUBLISH
X-ORIGINAL-URL:https://retreathousehillsboro.org
X-WR-CALDESC:Events for The Retreat House at Hillsboro
REFRESH-INTERVAL;VALUE=DURATION:PT1H
X-Robots-Tag:noindex
X-PUBLISHED-TTL:PT1H
BEGIN:VTIMEZONE
TZID:America/New_York
BEGIN:DAYLIGHT
TZOFFSETFROM:-0500
TZOFFSETTO:-0400
TZNAME:EDT
DTSTART:20240310T070000
END:DAYLIGHT
BEGIN:STANDARD
TZOFFSETFROM:-0400
TZOFFSETTO:-0500
TZNAME:EST
DTSTART:20241103T060000
END:STANDARD
BEGIN:DAYLIGHT
TZOFFSETFROM:-0500
TZOFFSETTO:-0400
TZNAME:EDT
DTSTART:20250309T070000
END:DAYLIGHT
BEGIN:STANDARD
TZOFFSETFROM:-0400
TZOFFSETTO:-0500
TZNAME:EST
DTSTART:20251102T060000
END:STANDARD
BEGIN:DAYLIGHT
TZOFFSETFROM:-0500
TZOFFSETTO:-0400
TZNAME:EDT
DTSTART:20260308T070000
END:DAYLIGHT
BEGIN:STANDARD
TZOFFSETFROM:-0400
TZOFFSETTO:-0500
TZNAME:EST
DTSTART:20261101T060000
END:STANDARD
END:VTIMEZONE
BEGIN:VEVENT
DTSTART;TZID=America/New_York:20250609T110000
DTEND;TZID=America/New_York:20250609T120000
DTSTAMP:20260424T085548
CREATED:20250523T162759Z
LAST-MODIFIED:20250523T162759Z
UID:10009892-1749466800-1749470400@retreathousehillsboro.org
SUMMARY:Prayer Gathering of Resilience in Community
DESCRIPTION:Monday\, June 9 \nPlease join us for a \nPRAYER GATHERING OF RESILIENCE IN COMMUNITY   \nwith \nshort readings and poetry \n11:00 a.m. – 12:00 Noon EST \non Zoom \nThe gift of your presence in the circle will mean so much to all who gather.  \n\n\n\n\n\n\n\nWith our world in such a time of change\, we invite you to spend an hour among like-hearted people of prayer. We will gather on Zoom for a time of community and silent meditation. Join us to be together\, holding our hearts open to the Great Love of the Divine and listening deeply in the quiet for the guidance\, encouragement and love that we can all lean into as we start walking the long road into the unknown. \nCome when you can\, leave when you must. We will be together from 11:00 a.m. to 12:00 noon EST. \nFind the Zoom link HERE. \nPhoto by Shane Rounce. Unsplash.com. \n\n\n\n\n\n\n\n\n 
URL:https://retreathousehillsboro.org/event/prayer-gathering-of-resilience-in-community-4/
LOCATION:ZOOM
CATEGORIES:Meditation,Prayer Gatherings
ATTACH;FMTTYPE=image/jpeg:https://retreathousehillsboro.org/wp-content/uploads/2025/03/shane-rounce-DNkoNXQti3c-unsplash-2.jpg
ORGANIZER;CN="Heather Strang":MAILTO:heather@retreathousehillsboro.org
END:VEVENT
END:VCALENDAR